{"text_format":"1","workbook":"xlsx","n_sheets":11,"sheets":["סיכום","ספיקות","איכות שפכים","קולחין שניוני","קולחין שלישוני","יחידת טיפול ","טיפול וסילוק בוצה","עומסי שפכים וצריכת אנרגיה","גרף אנרגיה עומסים","גרף ספיקות כניסה","Table"],"not_rendered":{"charts":2,"images":1,"macros":0,"external_links":0,"defined_names":21,"comments":0,"pivot_tables":0},"unopened":[],"bounds":{"document_bytes":16777216,"sheet_cells":100000,"rows_first":2000,"rows_last":500,"rows_between":2000,"halvings":0,"cell_chars":16384,"cell_head_chars":4096},"cells_cut":0,"cells_raw":0,"read":"whole","date_system":"1900"}

{"sheet":"סיכום","index":0,"n_rows":105,"n_cols":6,"rows_kept":105,"cut":false,"hidden":false,"merged":[[43,0,43,2],[43,3,43,4],[56,3,56,4],[49,0,49,2],[42,0,42,2],[46,0,46,2],[47,0,47,2],[40,0,40,2],[65,0,65,2],[60,0,60,2],[61,3,61,4],[65,3,65,4],[47,3,47,4],[41,0,41,2],[49,3,49,4],[64,3,64,4],[60,3,60,4],[41,3,41,4],[40,3,40,4],[59,3,59,4],[64,0,64,2],[61,0,61,2],[63,0,63,2],[63,3,63,4],[31,0,31,2],[38,0,38,2],[26,0,26,2],[28,0,28,2],[32,3,32,4],[32,0,32,2],[33,0,33,2],[36,0,36,2],[35,3,35,4],[27,0,27,2],[31,3,31,4],[33,3,33,4],[34,3,34,4],[34,0,34,2],[26,3,26,4],[36,3,36,4],[39,3,39,4],[14,0,14,2],[14,3,14,4],[25,3,25,4],[27,3,27,4],[28,3,28,4],[17,0,17,2],[17,3,17,4],[18,3,18,4],[25,0,25,2],[22,3,22,4],[23,3,23,4],[21,0,21,2],[22,0,22,2],[23,0,23,2],[15,3,15,4],[16,0,16,2],[16,3,16,4],[19,0,19,2],[19,3,19,4],[24,3,24,4],[24,0,24,2],[35,0,35,2],[30,0,30,2],[7,0,7,2],[13,0,13,2],[12,3,12,4],[13,3,13,4],[11,0,11,2],[12,0,12,2],[8,0,8,3],[10,2,10,4],[82,1,82,5],[75,1,75,5],[76,1,76,5],[77,1,77,5],[78,1,78,5],[48,0,48,2],[42,3,42,4],[52,0,52,2],[53,0,53,2],[55,3,55,4],[45,0,45,2],[15,0,15,2],[18,0,18,2],[48,3,48,4],[46,3,46,4],[39,0,39,2],[84,1,84,5],[86,1,86,5],[79,1,79,5],[80,1,80,5],[81,1,81,5],[73,1,73,5],[70,1,70,5],[69,1,69,5],[68,1,68,5],[74,1,74,5],[85,1,85,5],[59,0,59,2],[62,0,62,2],[62,3,62,4],[98,1,98,5],[55,0,55,2],[53,3,53,4],[91,1,91,5],[83,1,83,5],[99,1,99,5],[96,1,96,5],[95,1,95,5],[94,1,94,5],[93,1,93,5],[72,1,72,5],[71,1,71,5],[56,0,56,2],[54,0,54,2],[54,3,54,4],[97,1,97,5],[92,1,92,5],[87,1,87,5],[88,1,88,5],[89,1,89,5],[90,1,90,5]]}
[]
[]
[]
[]
[]
[]
["לכבוד:"]
["מועצה מקומית להבים."]
["מר ניר כהן - מהנדס התשתיות מ\"מ להבים."]
[]
["הנדון: ","דוח הפעלה",{"$f":"Table!A2","v":"מט\"ש נובמבר 2024"}]
["נתונים עיקריים:"]
["סה\"כ מ\"ק שפכים מ\"ק/חודש",null,null,{"$f":"ספיקות!E39","v":41436}]
["ממוצע מ\"ק שפכים יומי מ\"ק/יום",null,null,{"$f":"ספיקות!E40","v":1381.2}]
["סה\"כ מ\"ק קולחין שניוני לסינון מ\"ק/חודש",null,null,{"$f":"ספיקות!F39","v":26875}]
["ממוצע מ\"ק קולחין לסינון יומי מ\"ק/יום",null,null,{"$f":"ספיקות!F40","v":895.83333333333337}]
["סה\"כ מ\"ק קולחין שלישוני מ\"ק/חודש",null,null,{"$f":"ספיקות!H39","v":26875}]
["ממוצע מ\"ק קולחין שלישוני יומי מ\"ק/יום",null,null,{"$f":"ספיקות!H40","v":895.83333333333337}]
["סה\"כ לחיוב מ\"ק/חודש",null,null,{"$f":"ספיקות!J39","v":41436}]
["ממוצע מ\"ק לחיוב מ\"ק/יום",null,null,{"$f":"ספיקות!J40","v":1381.2}]
[]
["איכות שפכים:"]
["צח\"ב מג\"ל",null,null,{"$f":"'איכות שפכים'!C39","v":396}]
["צח\"כ מג\"ל",null,null,{"$f":"'איכות שפכים'!D39","v":928}]
["מוצקים מרחפים מג\"ל",null,null,{"$f":"'איכות שפכים'!E39","v":376.5}]
["חנקן קלדהל מג\"ל",null,null,{"$f":"'איכות שפכים'!J39","v":70}]
["שומנים מג\"ל",null,null,{"$f":"'איכות שפכים'!G39","v":159.5}]
["כלורידים מג\"ל",null,null,{"$f":"'איכות שפכים'!H39","v":0}]
["זרחן כללי",null,null,{"$f":"'איכות שפכים'!I39","v":6.4}]
[]
["איכות קולחין שניוני:"]
["צח\"ב מג\"ל",null,null,{"$f":"'קולחין שניוני'!C39","v":5}]
["צח\"כ מג\"ל",null,null,{"$f":"'קולחין שניוני'!D39","v":25}]
["מוצקים מרחפים מג\"ל",null,null,{"$f":"'קולחין שניוני'!E39","v":5}]
["חנקן אמוניאקלי מג\"ל",null,null,{"$f":"'קולחין שניוני'!F39","v":{"$error":"#DIV/0!"}}]
["חנקן כללי מג\"ל",null,null,{"$f":"'קולחין שניוני'!G39","v":5.9}]
["זרחן כללי",null,null,{"$f":"'קולחין שניוני'!H39","v":5.2}]
[]
["איכות קולחין שלישוני:"]
["צח\"ב מג\"ל",null,null,{"$f":"'קולחין שלישוני'!D39","v":5}]
["צח\"כ מג\"ל",null,null,{"$f":"'קולחין שלישוני'!E39","v":26.5}]
["מוצקים מרחפים מג\"ל",null,null,{"$f":"'קולחין שלישוני'!F39","v":5}]
["קולי צואתי תא מגע",null,null,{"$f":"'קולחין שלישוני'!C39","v":1}]
["חנקן אמוניאקלי מג\"ל",null,null,{"$f":"'קולחין שלישוני'!I39","v":4.1775000000000002}]
[]
["יחידת טיפול  1:"]
["מוצקים מרחפים (MLSS) מג\"ל",null,null,{"$f":"'יחידת טיפול '!C39","v":{"$error":"#DIV/0!"}}]
["מוצקים נדיפים (MLVSS) מג\"ל",null,null,{"$f":"'יחידת טיפול '!D39","v":{"$error":"#DIV/0!"}}]
["שיקוע 30 דק'",null,null,{"$f":"'יחידת טיפול '!E39","v":{"$error":"#DIV/0!"}}]
["SVI מ\"ל / גר'",null,null,{"$f":"'יחידת טיפול '!F39","v":{"$error":"#DIV/0!"}}]
[]
[]
["יחידת טיפול  2:"]
["מוצקים מרחפים (MLSS) מג\"ל",null,null,{"$f":"'יחידת טיפול '!K39","v":{"$error":"#DIV/0!"}}]
["מוצקים נדיפים (MLVSS) מג\"ל",null,null,{"$f":"'יחידת טיפול '!L39","v":{"$error":"#DIV/0!"}}]
["שיקוע 30 דק'",null,null,{"$f":"'יחידת טיפול '!M39","v":374.5}]
["SVI מ\"ל / גר'",null,null,{"$f":"'יחידת טיפול '!N39","v":{"$error":"#DIV/0!"}}]
[]
["נתוני אנרגיה ובוצה:"]
["צריכת חשמל לחודש, קוט''ש",null,null,{"$f":"'עומסי שפכים וצריכת אנרגיה'!O39","v":45180}]
["צריכת חשמל ממוצע ליום קוט\"ש",null,null,{"$f":"'עומסי שפכים וצריכת אנרגיה'!O40","v":1506}]
["צריכת חשמל סגולית ממוצעת  קוט\"ש/מ\"ק",null,null,{"$f":"'עומסי שפכים וצריכת אנרגיה'!P39","v":1.0903562119895742}]
["צריכת חשמל לק\"ג צח\"ב קוט\"ש/ק\"ג",null,null,{"$f":"'עומסי שפכים וצריכת אנרגיה'!Q40","v":3.3061864314746208}]
["צריכת מים שפירים, מ''ק לחודש",null,null,{"$f":"ספיקות!L39","v":5}]
["יובש בוצה סחוטה",null,null,{"$f":"'טיפול וסילוק בוצה'!I40","v":18}]
["כמות בוצה לפינוי, טון לחודש",null,null,{"$f":"'טיפול וסילוק בוצה'!R39","v":24.8}]
[]
["הערות תפעול:"]
["תאריך","הערות תפעול ואחזקה"]
[{"$f":"Table!A7","v":"2024-11-01"},{"$f":"IF(Table!CT7<>\"\",Table!CT7,\"\")","v":"שטיפת מתקו כניסה כולל ערבוב , נקיון כללי במבנה משרדים ומסביב לחדר גנרטור ,"},{"$f":"IF(Table!J117<>\"\",Table!J117,\"\")","v":""},{"$f":"IF(Table!K117<>\"\",Table!K117,\"\")","v":""},{"$f":"IF(Table!L117<>\"\",Table!L117,\"\")","v":""},{"$f":"IF(Table!M117<>\"\",Table!M117,\"\")","v":""}]
[{"$f":"Table!A8","v":"2024-11-02"},{"$f":"IF(Table!CT8<>\"\",Table!CT8,\"\")","v":""},{"$f":"IF(Table!J118<>\"\",Table!J118,\"\")","v":""},{"$f":"IF(Table!K118<>\"\",Table!K118,\"\")","v":""},{"$f":"IF(Table!L118<>\"\",Table!L118,\"\")","v":""},{"$f":"IF(Table!M118<>\"\",Table!M118,\"\")","v":""}]
[{"$f":"Table!A9","v":"2024-11-03"},{"$f":"IF(Table!CT9<>\"\",Table!CT9,\"\")","v":"נקיון כללי בכל המתקן חניה בכניסה חניה קדמית חניה אחורית וכבישים , כיסוח דשא איסוף אשפה ,"},{"$f":"IF(Table!J119<>\"\",Table!J119,\"\")","v":""},{"$f":"IF(Table!K119<>\"\",Table!K119,\"\")","v":""},{"$f":"IF(Table!L119<>\"\",Table!L119,\"\")","v":""},{"$f":"IF(Table!M119<>\"\",Table!M119,\"\")","v":""}]
[{"$f":"Table!A10","v":"2024-11-04"},{"$f":"IF(Table!CT10<>\"\",Table!CT10,\"\")","v":"הפעלת מתקן בוצה שטיפה בסיום , טיפול שבועי מדחסי סינון ובוצה  נקיוז מים בדיקת שמן וניקוי פילטר ,"},{"$f":"IF(Table!J120<>\"\",Table!J120,\"\")","v":""},{"$f":"IF(Table!K120<>\"\",Table!K120,\"\")","v":""},{"$f":"IF(Table!L120<>\"\",Table!L120,\"\")","v":""},{"$f":"IF(Table!M120<>\"\",Table!M120,\"\")","v":""}]
[{"$f":"Table!A11","v":"2024-11-05"},{"$f":"IF(Table!CT11<>\"\",Table!CT11,\"\")","v":"הפעלת מתקן בוצה שטיפה בסיום , שטיפת כבישים ליד מתקן בוצה ומתקן כניסה  , הכנת קוגולונט כמות 200 ליטר ,"},{"$f":"IF(Table!J121<>\"\",Table!J121,\"\")","v":""},{"$f":"IF(Table!K121<>\"\",Table!K121,\"\")","v":""},{"$f":"IF(Table!L121<>\"\",Table!L121,\"\")","v":""},{"$f":"IF(Table!M121<>\"\",Table!M121,\"\")","v":""}]
[{"$f":"Table!A12","v":"2024-11-06"},{"$f":"IF(Table!CT12<>\"\",Table!CT12,\"\")","v":"הפעלת מתקן בוצה שטיפה בסיום , הארכת צינור קולחים 4\\3 ב 30 מטר כדי לשטוף בכל מקום במתקן , "},{"$f":"IF(Table!J122<>\"\",Table!J122,\"\")","v":""},{"$f":"IF(Table!K122<>\"\",Table!K122,\"\")","v":""},{"$f":"IF(Table!L122<>\"\",Table!L122,\"\")","v":""},{"$f":"IF(Table!M122<>\"\",Table!M122,\"\")","v":""}]
[{"$f":"Table!A13","v":"2024-11-07"},{"$f":"IF(Table!CT13<>\"\",Table!CT13,\"\")","v":"הפעלת מתקן בוצה ושטיפה בסיום , החלפת 2 מטפים מזנק 2,\" וגלגלון לא תקין לקראת ביקורת שנתית ציוד כיבוי אש מטללטין ,"},{"$f":"IF(Table!J123<>\"\",Table!J123,\"\")","v":""},{"$f":"IF(Table!K123<>\"\",Table!K123,\"\")","v":""},{"$f":"IF(Table!L123<>\"\",Table!L123,\"\")","v":""},{"$f":"IF(Table!M123<>\"\",Table!M123,\"\")","v":""}]
[{"$f":"Table!A14","v":"2024-11-08"},{"$f":"IF(Table!CT14<>\"\",Table!CT14,\"\")","v":"הפעלת מתקן בוצה מילוי מכולה 32 מ\"ק שטיפה יסודית בסיום , שטיפת מתקו כניסה ,"},{"$f":"IF(Table!J124<>\"\",Table!J124,\"\")","v":""},{"$f":"IF(Table!K124<>\"\",Table!K124,\"\")","v":""},{"$f":"IF(Table!L124<>\"\",Table!L124,\"\")","v":""},{"$f":"IF(Table!M124<>\"\",Table!M124,\"\")","v":""}]
[{"$f":"Table!A15","v":"2024-11-09"},{"$f":"IF(Table!CT15<>\"\",Table!CT15,\"\")","v":""},{"$f":"IF(Table!J125<>\"\",Table!J125,\"\")","v":""},{"$f":"IF(Table!K125<>\"\",Table!K125,\"\")","v":""},{"$f":"IF(Table!L125<>\"\",Table!L125,\"\")","v":""},{"$f":"IF(Table!M125<>\"\",Table!M125,\"\")","v":""}]
[{"$f":"Table!A16","v":"2024-11-10"},{"$f":"IF(Table!CT16<>\"\",Table!CT16,\"\")","v":"ניקוי וכיול מדי חמצן מומס בריאקטורים , בדיקת רצועות ושמן לכל המפוחים והמשאבות במתקן תהליך ,"},{"$f":"IF(Table!J126<>\"\",Table!J126,\"\")","v":""},{"$f":"IF(Table!K126<>\"\",Table!K126,\"\")","v":""},{"$f":"IF(Table!L126<>\"\",Table!L126,\"\")","v":""},{"$f":"IF(Table!M126<>\"\",Table!M126,\"\")","v":""}]
[{"$f":"Table!A17","v":"2024-11-11"},{"$f":"IF(Table!CT17<>\"\",Table!CT17,\"\")","v":"שחרור סתימה בצנרת דיגום כלור ועכירות וכיול מדי עכירות כניסה ויציאה , בכנת קוגולנט כמות 200 ליטר , "},{"$f":"IF(Table!J127<>\"\",Table!J127,\"\")","v":""},{"$f":"IF(Table!K127<>\"\",Table!K127,\"\")","v":""},{"$f":"IF(Table!L127<>\"\",Table!L127,\"\")","v":""},{"$f":"IF(Table!M127<>\"\",Table!M127,\"\")","v":""}]
[{"$f":"Table!A18","v":"2024-11-12"},{"$f":"IF(Table!CT18<>\"\",Table!CT18,\"\")","v":"פינוי מכולת בוצה לקומוסטאור בבקעה , טיפול שבועי מדחסי סינון ובוצה  נקיוז מים בדיקת שמן וניקוי פילטר ,"},{"$f":"IF(Table!J128<>\"\",Table!J128,\"\")","v":""},{"$f":"IF(Table!K128<>\"\",Table!K128,\"\")","v":""},{"$f":"IF(Table!L128<>\"\",Table!L128,\"\")","v":""},{"$f":"IF(Table!M128<>\"\",Table!M128,\"\")","v":""}]
[{"$f":"Table!A19","v":"2024-11-13"},{"$f":"IF(Table!CT19<>\"\",Table!CT19,\"\")","v":"פינוי מכולת גרוסת לדודאים , הפעלה יזומה גנרטור חירום למשך 10 דקות , שטיפת מתקן כניסה ,"},{"$f":"IF(Table!J129<>\"\",Table!J129,\"\")","v":""},{"$f":"IF(Table!K129<>\"\",Table!K129,\"\")","v":""},{"$f":"IF(Table!L129<>\"\",Table!L129,\"\")","v":""},{"$f":"IF(Table!M129<>\"\",Table!M129,\"\")","v":""}]
[{"$f":"Table!A20","v":"2024-11-14"},{"$f":"IF(Table!CT20<>\"\",Table!CT20,\"\")","v":"סידור תקלה ברז יציאה מסנן מס 3 לא נפתח סולונוייד תקוע , נקיון כללי בחוות כימיקלים ושטיפת מאצרות ,"},{"$f":"IF(Table!J130<>\"\",Table!J130,\"\")","v":""},{"$f":"IF(Table!K130<>\"\",Table!K130,\"\")","v":""},{"$f":"IF(Table!L130<>\"\",Table!L130,\"\")","v":""},{"$f":"IF(Table!M130<>\"\",Table!M130,\"\")","v":""}]
[{"$f":"Table!A21","v":"2024-11-15"},{"$f":"IF(Table!CT21<>\"\",Table!CT21,\"\")","v":"שטיפת מתקו כניסה כולל ערבוב , נקיון כללי במבנה משרדים ומסביב לחדר גנרטור ,"},{"$f":"IF(Table!J131<>\"\",Table!J131,\"\")","v":""},{"$f":"IF(Table!K131<>\"\",Table!K131,\"\")","v":""},{"$f":"IF(Table!L131<>\"\",Table!L131,\"\")","v":""},{"$f":"IF(Table!M131<>\"\",Table!M131,\"\")","v":""}]
[{"$f":"Table!A22","v":"2024-11-16"},{"$f":"IF(Table!CT22<>\"\",Table!CT22,\"\")","v":""},{"$f":"IF(Table!J132<>\"\",Table!J132,\"\")","v":""},{"$f":"IF(Table!K132<>\"\",Table!K132,\"\")","v":""},{"$f":"IF(Table!L132<>\"\",Table!L132,\"\")","v":""},{"$f":"IF(Table!M132<>\"\",Table!M132,\"\")","v":""}]
[{"$f":"Table!A23","v":"2024-11-17"},{"$f":"IF(Table!CT23<>\"\",Table!CT23,\"\")","v":"התקנת וחיבור טיימר לשער חשמלי כדי שיעשה ריסט בלילה ולא יתקע השער כפי שקורה היום , חיבור פנס תאורת חוץ ליד השער מתקן כניסה ,"},{"$f":"IF(Table!J133<>\"\",Table!J133,\"\")","v":""},{"$f":"IF(Table!K133<>\"\",Table!K133,\"\")","v":""},{"$f":"IF(Table!L133<>\"\",Table!L133,\"\")","v":""},{"$f":"IF(Table!M133<>\"\",Table!M133,\"\")","v":""}]
[{"$f":"Table!A24","v":"2024-11-18"},{"$f":"IF(Table!CT24<>\"\",Table!CT24,\"\")","v":"העברת אביזרי הרמה לברנע לביוקורת חצי שנתית , בדיקת רצועות ושמן לכל המפוחים והמשאבות במתקן תהליך "},{"$f":"IF(Table!J134<>\"\",Table!J134,\"\")","v":""},{"$f":"IF(Table!K134<>\"\",Table!K134,\"\")","v":""},{"$f":"IF(Table!L134<>\"\",Table!L134,\"\")","v":""},{"$f":"IF(Table!M134<>\"\",Table!M134,\"\")","v":""}]
[{"$f":"Table!A25","v":"2024-11-19"},{"$f":"IF(Table!CT25<>\"\",Table!CT25,\"\")","v":"טיפול שבועי מדחסי סינון ובוצה  נקיוז מים בדיקת שמן וניקוי פילטר , שטיפת מתקו כניסה כולל ערבוב ,"},{"$f":"IF(Table!J135<>\"\",Table!J135,\"\")","v":""},{"$f":"IF(Table!K135<>\"\",Table!K135,\"\")","v":""},{"$f":"IF(Table!L135<>\"\",Table!L135,\"\")","v":""},{"$f":"IF(Table!M135<>\"\",Table!M135,\"\")","v":""}]
[{"$f":"Table!A26","v":"2024-11-20"},{"$f":"IF(Table!CT26<>\"\",Table!CT26,\"\")","v":"ניקוי וכיול מדי חמצן מומס בריאקטורים , שחרור סתימה בצנרת דיגום כלור ועכירות וכיול מדי עכירות כניסה ויציאה "},{"$f":"IF(Table!J136<>\"\",Table!J136,\"\")","v":""},{"$f":"IF(Table!K136<>\"\",Table!K136,\"\")","v":""},{"$f":"IF(Table!L136<>\"\",Table!L136,\"\")","v":""},{"$f":"IF(Table!M136<>\"\",Table!M136,\"\")","v":""}]
[{"$f":"Table!A27","v":"2024-11-21"},{"$f":"IF(Table!CT27<>\"\",Table!CT27,\"\")","v":"טיפול תוקפתי בממיין חול ריקון הוצאת סמרטוטים ושטיפה יסודית , הפעלה יזומה גנרטור חירום למשך 10 דקות "},{"$f":"IF(Table!J137<>\"\",Table!J137,\"\")","v":""},{"$f":"IF(Table!K137<>\"\",Table!K137,\"\")","v":""},{"$f":"IF(Table!L137<>\"\",Table!L137,\"\")","v":""},{"$f":"IF(Table!M137<>\"\",Table!M137,\"\")","v":""}]
[{"$f":"Table!A28","v":"2024-11-22"},{"$f":"IF(Table!CT28<>\"\",Table!CT28,\"\")","v":"שטיפת מתקו כניסה כולל ערבוב , נקיון כללי במבנה משרדים ומסביב לחדר גנרטור ,"},{"$f":"IF(Table!J138<>\"\",Table!J138,\"\")","v":""},{"$f":"IF(Table!K138<>\"\",Table!K138,\"\")","v":""},{"$f":"IF(Table!L138<>\"\",Table!L138,\"\")","v":""},{"$f":"IF(Table!M138<>\"\",Table!M138,\"\")","v":""}]
[{"$f":"Table!A29","v":"2024-11-23"},{"$f":"IF(Table!CT29<>\"\",Table!CT29,\"\")","v":""},{"$f":"IF(Table!J139<>\"\",Table!J139,\"\")","v":""},{"$f":"IF(Table!K139<>\"\",Table!K139,\"\")","v":""},{"$f":"IF(Table!L139<>\"\",Table!L139,\"\")","v":""},{"$f":"IF(Table!M139<>\"\",Table!M139,\"\")","v":""}]
[{"$f":"Table!A30","v":"2024-11-24"},{"$f":"IF(Table!CT30<>\"\",Table!CT30,\"\")","v":"החלפת ארון כיבוי אש 2 אידרנטים 2\" וברז 1\" שלא נמצאו תקינים בביקורת שנתית ציוד כיבוי אש מטלטלין , "},{"$f":"IF(Table!J140<>\"\",Table!J140,\"\")","v":""},{"$f":"IF(Table!K140<>\"\",Table!K140,\"\")","v":""},{"$f":"IF(Table!L140<>\"\",Table!L140,\"\")","v":""},{"$f":"IF(Table!M140<>\"\",Table!M140,\"\")","v":""}]
[{"$f":"Table!A31","v":"2024-11-25"},{"$f":"IF(Table!CT31<>\"\",Table!CT31,\"\")","v":"בדיקת רצועות ושמן לכל המפוחים והמשאבות במתקן תהליך, כיסוח דשא איסוף אשפה , שטיפת מתקן כניסה ,"},{"$f":"IF(Table!J141<>\"\",Table!J141,\"\")","v":""},{"$f":"IF(Table!K141<>\"\",Table!K141,\"\")","v":""},{"$f":"IF(Table!L141<>\"\",Table!L141,\"\")","v":""},{"$f":"IF(Table!M141<>\"\",Table!M141,\"\")","v":""}]
[{"$f":"Table!A32","v":"2024-11-26"},{"$f":"IF(Table!CT32<>\"\",Table!CT32,\"\")","v":"ניקוי וכיול מדי חמצן מומס בריאקטורים , שחרור סתימה בצנרת דיגום כלור ועכירות וכיול מדי עכירות כניסה ויציאה "},{"$f":"IF(Table!J142<>\"\",Table!J142,\"\")","v":""},{"$f":"IF(Table!K142<>\"\",Table!K142,\"\")","v":""},{"$f":"IF(Table!L142<>\"\",Table!L142,\"\")","v":""},{"$f":"IF(Table!M142<>\"\",Table!M142,\"\")","v":""}]
[{"$f":"Table!A33","v":"2024-11-27"},{"$f":"IF(Table!CT33<>\"\",Table!CT33,\"\")","v":"טיפול שבועי מדחסי סינון ובוצה  נקיוז מים בדיקת שמן וניקוי פילטר , שטיפת מתקו כניסה כולל ערבוב ,"},{"$f":"IF(Table!J143<>\"\",Table!J143,\"\")","v":""},{"$f":"IF(Table!K143<>\"\",Table!K143,\"\")","v":""},{"$f":"IF(Table!L143<>\"\",Table!L143,\"\")","v":""},{"$f":"IF(Table!M143<>\"\",Table!M143,\"\")","v":""}]
[{"$f":"Table!A34","v":"2024-11-28"},{"$f":"IF(Table!CT34<>\"\",Table!CT34,\"\")","v":"סידור תקלה צינור הזרקת כלור השקיה השתחרר כלור נשפך לתוך המאצרה שאיבת הכלור שנשפך לתוך המיכל ושטיפת מאצרה ,"},{"$f":"IF(Table!J144<>\"\",Table!J144,\"\")","v":""},{"$f":"IF(Table!K144<>\"\",Table!K144,\"\")","v":""},{"$f":"IF(Table!L144<>\"\",Table!L144,\"\")","v":""},{"$f":"IF(Table!M144<>\"\",Table!M144,\"\")","v":""}]
[{"$f":"Table!A35","v":"2024-11-29"},{"$f":"IF(Table!CT35<>\"\",Table!CT35,\"\")","v":5},{"$f":"IF(Table!J145<>\"\",Table!J145,\"\")","v":""},{"$f":"IF(Table!K145<>\"\",Table!K145,\"\")","v":""},{"$f":"IF(Table!L145<>\"\",Table!L145,\"\")","v":""},{"$f":"IF(Table!M145<>\"\",Table!M145,\"\")","v":""}]
[{"$f":"Table!A36","v":"2024-11-30"},{"$f":"IF(Table!CT36<>\"\",Table!CT36,\"\")","v":""},{"$f":"IF(Table!J146<>\"\",Table!J146,\"\")","v":""},{"$f":"IF(Table!K146<>\"\",Table!K146,\"\")","v":""},{"$f":"IF(Table!L146<>\"\",Table!L146,\"\")","v":""},{"$f":"IF(Table!M146<>\"\",Table!M146,\"\")","v":""}]
[{"$f":"Table!A37","v":"2024-12-01"},null,{"$f":"IF(Table!J147<>\"\",Table!J147,\"\")","v":""},{"$f":"IF(Table!K147<>\"\",Table!K147,\"\")","v":""},{"$f":"IF(Table!L147<>\"\",Table!L147,\"\")","v":""},{"$f":"IF(Table!M147<>\"\",Table!M147,\"\")","v":""}]
[]
[]
[]
[null,null,null,null,"בכבוד רב,"]
[null,null,null,null,"אלקטרה גרינטק בע\"מ"]

{"sheet":"ספיקות","index":1,"n_rows":42,"n_cols":14,"rows_kept":42,"cut":false,"hidden":false,"merged":[[41,0,41,1],[38,0,38,1],[39,0,39,1],[4,0,5,0],[4,1,5,1],[40,0,40,1],[1,0,1,3],[2,0,2,2],[3,0,3,2],[4,2,5,2],[3,10,3,11],[3,3,3,4],[1,4,1,13],[4,3,5,3],[4,12,5,12],[3,12,3,13],[2,3,2,13],[3,6,3,7],[4,6,5,6],[4,10,5,10]]}
[]
[{"$f":"סיכום!C11","v":"מט\"ש נובמבר 2024"},null,null,null,"נתוני תפעול - גליון  1 - ספיקות "]
[null,null,null,"ספיקות"]
["יחידת פעולה",null,null,"שפכים",null,"סינון","קולחין שלישוני-השקיה",null,"הפרש","חיוב","מים שפירים",null,"בוצה יבשה"]
["תאריך","יום בשבוע","מזג אויר","ספיקה יומית מצטברת","ספיקה יומית","ספיקה יומית","ספיקה יומית מצטברת","ספיקה יומית","ספיקה יומית","ספיקה יומית","ספיקה יומית מצטברת","ספיקה יומית","ספיקה יומית מצטברת","ספיקה יומית"]
[null,null,null,null,"מ\"ק/יום","מ\"ק/יום",null,"מ\"ק/יום","מ\"ק/יום","מ\"ק/יום",null,"מ\"ק/יום",null,"מ\"ק/יום"]
[{"$f":"IF(Table!A7<>\"\",Table!A7,\"\")","v":"2024-11-01"},{"$f":"IF(Table!A7<>\"\",Table!A7,\"\")","v":"2024-11-01"},{"$f":"IF(Table!C7=1,\"חם מאוד\",IF(Table!C7=2,\"חם\",IF(Table!C7=3,\"מעונן\",IF(Table!C7=4,\"גשום\",IF(Table!C7=5,\"גשום מאוד\",\"\")))))","v":"חם"},{"$f":"IF(Table!D7<>\"\",Table!D7,\"\")","v":8234433},{"$f":"IF(AND(D8<>\"\",D7<>\"\"),D8-D7, \"\")","v":1526},{"$f":"IF(Table!F7<>\"\",Table!F7,\"\")","v":732},{"$f":"IF(Table!G7<>\"\",Table!G7,\"\")","v":61933},{"$f":"IF(AND(G8<>\"\",G7<>\"\"),G8-G7, \"\")","v":732},{"$f":"IF(AND(H7<>\"\",F7<>\"\"),F7-H7, \"\")","v":0},{"$f":"IF(AND(E7<>\"\",I7<>\"\"),E7-I7, \"\")","v":1526},{"$f":"IF(Table!I7<>\"\",Table!I7,\"\")","v":479},{"$f":"IF(AND(K8<>\"\",K7<>\"\"),K8-K7, \"\")","v":0},{"$f":"IF(Table!CE7<>\"\",Table!CE7,\"\")","v":10330},{"$f":"IF(AND(M8<>\"\",M7<>\"\"),M8-M7, \"\")","v":0}]
[{"$f":"IF(Table!A8<>\"\",Table!A8,\"\")","v":"2024-11-02"},{"$f":"IF(Table!A8<>\"\",Table!A8,\"\")","v":"2024-11-02"},{"$f":"IF(Table!C8=1,\"חם מאוד\",IF(Table!C8=2,\"חם\",IF(Table!C8=3,\"מעונן\",IF(Table!C8=4,\"גשום\",IF(Table!C8=5,\"גשום מאוד\",\"\")))))","v":"חם"},{"$f":"IF(Table!D8<>\"\",Table!D8,\"\")","v":8235959},{"$f":"IF(AND(D9<>\"\",D8<>\"\"),D9-D8, \"\")","v":1440},{"$f":"IF(Table!F8<>\"\",Table!F8,\"\")","v":0},{"$f":"IF(Table!G8<>\"\",Table!G8,\"\")","v":62665},{"$f":"IF(AND(G9<>\"\",G8<>\"\"),G9-G8, \"\")","v":0},{"$f":"IF(AND(H8<>\"\",F8<>\"\"),F8-H8, \"\")","v":0},{"$f":"IF(AND(E8<>\"\",I8<>\"\"),E8-I8, \"\")","v":1440},{"$f":"IF(Table!I8<>\"\",Table!I8,\"\")","v":479},{"$f":"IF(AND(K9<>\"\",K8<>\"\"),K9-K8, \"\")","v":0},{"$f":"IF(Table!CE8<>\"\",Table!CE8,\"\")","v":10330},{"$f":"IF(AND(M9<>\"\",M8<>\"\"),M9-M8, \"\")","v":0}]
[{"$f":"IF(Table!A9<>\"\",Table!A9,\"\")","v":"2024-11-03"},{"$f":"IF(Table!A9<>\"\",Table!A9,\"\")","v":"2024-11-03"},{"$f":"IF(Table!C9=1,\"חם מאוד\",IF(Table!C9=2,\"חם\",IF(Table!C9=3,\"מעונן\",IF(Table!C9=4,\"גשום\",IF(Table!C9=5,\"גשום מאוד\",\"\")))))","v":"חם"},{"$f":"IF(Table!D9<>\"\",Table!D9,\"\")","v":8237399},1555,{"$f":"IF(Table!F9<>\"\",Table!F9,\"\")","v":1425},{"$f":"IF(Table!G9<>\"\",Table!G9,\"\")","v":62665},1425,0,1555,{"$f":"IF(Table!I9<>\"\",Table!I9,\"\")","v":479},0,{"$f":"IF(Table!CE9<>\"\",Table!CE9,\"\")","v":10330},0]
[{"$f":"IF(Table!A10<>\"\",Table!A10,\"\")","v":"2024-11-04"},{"$f":"IF(Table!A10<>\"\",Table!A10,\"\")","v":"2024-11-04"},{"$f":"IF(Table!C10=1,\"חם מאוד\",IF(Table!C10=2,\"חם\",IF(Table!C10=3,\"נאה\",IF(Table!C10=4,\"גשום\",IF(Table!C10=5,\"גשום מאוד\",\"\")))))","v":"חם"},{"$f":"IF(Table!D10<>\"\",Table!D10,\"\")","v":8238954},1457,{"$f":"IF(Table!F10<>\"\",Table!F10,\"\")","v":1360},{"$f":"IF(Table!G10<>\"\",Table!G10,\"\")","v":64090},1360,0,1457,{"$f":"IF(Table!I10<>\"\",Table!I10,\"\")","v":479},0,{"$f":"IF(Table!CE10<>\"\",Table!CE10,\"\")","v":10330},41]
[{"$f":"IF(Table!A11<>\"\",Table!A11,\"\")","v":"2024-11-05"},{"$f":"IF(Table!A11<>\"\",Table!A11,\"\")","v":"2024-11-05"},{"$f":"IF(Table!C11=1,\"חם מאוד\",IF(Table!C11=2,\"חם\",IF(Table!C11=3,\"נאה\",IF(Table!C11=4,\"גשום\",IF(Table!C11=5,\"גשום מאוד\",\"\")))))","v":"חם"},{"$f":"IF(Table!D11<>\"\",Table!D11,\"\")","v":8240411},1480,{"$f":"IF(Table!F11<>\"\",Table!F11,\"\")","v":1517},{"$f":"IF(Table!G11<>\"\",Table!G11,\"\")","v":65450},1517,0,1480,{"$f":"IF(Table!I11<>\"\",Table!I11,\"\")","v":479},0,{"$f":"IF(Table!CE11<>\"\",Table!CE11,\"\")","v":10371},47]
[{"$f":"IF(Table!A12<>\"\",Table!A12,\"\")","v":"2024-11-06"},{"$f":"IF(Table!A12<>\"\",Table!A12,\"\")","v":"2024-11-06"},{"$f":"IF(Table!C12=1,\"חם מאוד\",IF(Table!C12=2,\"חם\",IF(Table!C12=3,\"נאה\",IF(Table!C12=4,\"גשום\",IF(Table!C12=5,\"גשום מאוד\",\"\")))))","v":"חם"},{"$f":"IF(Table!D12<>\"\",Table!D12,\"\")","v":8241891},1470,{"$f":"IF(Table!F12<>\"\",Table!F12,\"\")","v":1321},{"$f":"IF(Table!G12<>\"\",Table!G12,\"\")","v":66967},1321,0,1470,{"$f":"IF(Table!I12<>\"\",Table!I12,\"\")","v":479},0,{"$f":"IF(Table!CE12<>\"\",Table!CE12,\"\")","v":10418},45]
[{"$f":"IF(Table!A13<>\"\",Table!A13,\"\")","v":"2024-11-07"},{"$f":"IF(Table!A13<>\"\",Table!A13,\"\")","v":"2024-11-07"},{"$f":"IF(Table!C13=1,\"חם מאוד\",IF(Table!C13=2,\"חם\",IF(Table!C13=3,\"נאה\",IF(Table!C13=4,\"גשום\",IF(Table!C13=5,\"גשום מאוד\",\"\")))))","v":"חם"},{"$f":"IF(Table!D13<>\"\",Table!D13,\"\")","v":8243361},1504,{"$f":"IF(Table!F13<>\"\",Table!F13,\"\")","v":1599},{"$f":"IF(Table!G13<>\"\",Table!G13,\"\")","v":68288},1599,0,1504,{"$f":"IF(Table!I13<>\"\",Table!I13,\"\")","v":479},0,{"$f":"IF(Table!CE13<>\"\",Table!CE13,\"\")","v":10463},48]
[{"$f":"IF(Table!A14<>\"\",Table!A14,\"\")","v":"2024-11-08"},{"$f":"IF(Table!A14<>\"\",Table!A14,\"\")","v":"2024-11-08"},{"$f":"IF(Table!C14=1,\"חם מאוד\",IF(Table!C14=2,\"חם\",IF(Table!C14=3,\"נאה\",IF(Table!C14=4,\"גשום\",IF(Table!C14=5,\"גשום מאוד\",\"\")))))","v":"חם"},{"$f":"IF(Table!D14<>\"\",Table!D14,\"\")","v":8244865},1527,{"$f":"IF(Table!F14<>\"\",Table!F14,\"\")","v":700},{"$f":"IF(Table!G14<>\"\",Table!G14,\"\")","v":69887},700,0,1527,{"$f":"IF(Table!I14<>\"\",Table!I14,\"\")","v":479},1,{"$f":"IF(Table!CE14<>\"\",Table!CE14,\"\")","v":10511},47]
[{"$f":"IF(Table!A15<>\"\",Table!A15,\"\")","v":"2024-11-09"},{"$f":"IF(Table!A15<>\"\",Table!A15,\"\")","v":"2024-11-09"},{"$f":"IF(Table!C15=1,\"חם מאוד\",IF(Table!C15=2,\"חם\",IF(Table!C15=3,\"נאה\",IF(Table!C15=4,\"גשום\",IF(Table!C15=5,\"גשום מאוד\",\"\")))))","v":"חם"},{"$f":"IF(Table!D15<>\"\",Table!D15,\"\")","v":8246392},1516,{"$f":"IF(Table!F15<>\"\",Table!F15,\"\")","v":0},{"$f":"IF(Table!G15<>\"\",Table!G15,\"\")","v":70587},0,0,1516,{"$f":"IF(Table!I15<>\"\",Table!I15,\"\")","v":480},0,{"$f":"IF(Table!CE15<>\"\",Table!CE15,\"\")","v":10558},0]
[{"$f":"IF(Table!A16<>\"\",Table!A16,\"\")","v":"2024-11-10"},{"$f":"IF(Table!A16<>\"\",Table!A16,\"\")","v":"2024-11-10"},{"$f":"IF(Table!C16=1,\"חם מאוד\",IF(Table!C16=2,\"חם\",IF(Table!C16=3,\"נאה\",IF(Table!C16=4,\"גשום\",IF(Table!C16=5,\"גשום מאוד\",\"\")))))","v":"גשום"},{"$f":"IF(Table!D16<>\"\",Table!D16,\"\")","v":8247908},1548,{"$f":"IF(Table!F16<>\"\",Table!F16,\"\")","v":1296},{"$f":"IF(Table!G16<>\"\",Table!G16,\"\")","v":70587},1296,0,1548,{"$f":"IF(Table!I16<>\"\",Table!I16,\"\")","v":480},0,{"$f":"IF(Table!CE16<>\"\",Table!CE16,\"\")","v":10558},0]
[{"$f":"IF(Table!A17<>\"\",Table!A17,\"\")","v":"2024-11-11"},{"$f":"IF(Table!A17<>\"\",Table!A17,\"\")","v":"2024-11-11"},{"$f":"IF(Table!C17=1,\"חם מאוד\",IF(Table!C17=2,\"חם\",IF(Table!C17=3,\"נאה\",IF(Table!C17=4,\"גשום\",IF(Table!C17=5,\"גשום מאוד\",\"\")))))","v":"גשום"},{"$f":"IF(Table!D17<>\"\",Table!D17,\"\")","v":8249456},1469,{"$f":"IF(Table!F17<>\"\",Table!F17,\"\")","v":1122},{"$f":"IF(Table!G17<>\"\",Table!G17,\"\")","v":71883},1122,0,1469,{"$f":"IF(Table!I17<>\"\",Table!I17,\"\")","v":480},0,{"$f":"IF(Table!CE17<>\"\",Table!CE17,\"\")","v":10558},0]
[{"$f":"IF(Table!A18<>\"\",Table!A18,\"\")","v":"2024-11-12"},{"$f":"IF(Table!A18<>\"\",Table!A18,\"\")","v":"2024-11-12"},{"$f":"IF(Table!C18=1,\"חם מאוד\",IF(Table!C18=2,\"חם\",IF(Table!C18=3,\"נאה\",IF(Table!C18=4,\"גשום\",IF(Table!C18=5,\"גשום מאוד\",\"\")))))","v":"חם"},{"$f":"IF(Table!D18<>\"\",Table!D18,\"\")","v":8250925},1395,{"$f":"IF(Table!F18<>\"\",Table!F18,\"\")","v":1409},{"$f":"IF(Table!G18<>\"\",Table!G18,\"\")","v":73005},1409,0,1395,{"$f":"IF(Table!I18<>\"\",Table!I18,\"\")","v":480},1,{"$f":"IF(Table!CE18<>\"\",Table!CE18,\"\")","v":10558},0]
[{"$f":"IF(Table!A19<>\"\",Table!A19,\"\")","v":"2024-11-13"},{"$f":"IF(Table!A19<>\"\",Table!A19,\"\")","v":"2024-11-13"},{"$f":"IF(Table!C19=1,\"חם מאוד\",IF(Table!C19=2,\"חם\",IF(Table!C19=3,\"נאה\",IF(Table!C19=4,\"גשום\",IF(Table!C19=5,\"גשום מאוד\",\"\")))))","v":"חם"},{"$f":"IF(Table!D19<>\"\",Table!D19,\"\")","v":8252320},1337,{"$f":"IF(Table!F19<>\"\",Table!F19,\"\")","v":1165},{"$f":"IF(Table!G19<>\"\",Table!G19,\"\")","v":74414},1165,0,1337,{"$f":"IF(Table!I19<>\"\",Table!I19,\"\")","v":481},0,{"$f":"IF(Table!CE19<>\"\",Table!CE19,\"\")","v":10558},0]
[{"$f":"IF(Table!A20<>\"\",Table!A20,\"\")","v":"2024-11-14"},{"$f":"IF(Table!A20<>\"\",Table!A20,\"\")","v":"2024-11-14"},{"$f":"IF(Table!C20=1,\"חם מאוד\",IF(Table!C20=2,\"חם\",IF(Table!C20=3,\"נאה\",IF(Table!C20=4,\"גשום\",IF(Table!C20=5,\"גשום מאוד\",\"\")))))","v":"חם"},{"$f":"IF(Table!D20<>\"\",Table!D20,\"\")","v":8253657},1278,{"$f":"IF(Table!F20<>\"\",Table!F20,\"\")","v":1304},{"$f":"IF(Table!G20<>\"\",Table!G20,\"\")","v":75579},1304,0,1278,{"$f":"IF(Table!I20<>\"\",Table!I20,\"\")","v":481},0,{"$f":"IF(Table!CE20<>\"\",Table!CE20,\"\")","v":10558},0]
[{"$f":"IF(Table!A21<>\"\",Table!A21,\"\")","v":"2024-11-15"},{"$f":"IF(Table!A21<>\"\",Table!A21,\"\")","v":"2024-11-15"},{"$f":"IF(Table!C21=1,\"חם מאוד\",IF(Table!C21=2,\"חם\",IF(Table!C21=3,\"נאה\",IF(Table!C21=4,\"גשום\",IF(Table!C21=5,\"גשום מאוד\",\"\")))))","v":"חם"},{"$f":"IF(Table!D21<>\"\",Table!D21,\"\")","v":8254935},1388,{"$f":"IF(Table!F21<>\"\",Table!F21,\"\")","v":689},{"$f":"IF(Table!G21<>\"\",Table!G21,\"\")","v":76883},689,0,1388,{"$f":"IF(Table!I21<>\"\",Table!I21,\"\")","v":481},0,{"$f":"IF(Table!CE21<>\"\",Table!CE21,\"\")","v":10558},0]
[{"$f":"IF(Table!A22<>\"\",Table!A22,\"\")","v":"2024-11-16"},{"$f":"IF(Table!A22<>\"\",Table!A22,\"\")","v":"2024-11-16"},{"$f":"IF(Table!C22=1,\"חם מאוד\",IF(Table!C22=2,\"חם\",IF(Table!C22=3,\"נאה\",IF(Table!C22=4,\"גשום\",IF(Table!C22=5,\"גשום מאוד\",\"\")))))","v":"חם"},{"$f":"IF(Table!D22<>\"\",Table!D22,\"\")","v":8256323},1299,{"$f":"IF(Table!F22<>\"\",Table!F22,\"\")","v":0},{"$f":"IF(Table!G22<>\"\",Table!G22,\"\")","v":77572},0,0,1299,{"$f":"IF(Table!I22<>\"\",Table!I22,\"\")","v":481},0,{"$f":"IF(Table!CE22<>\"\",Table!CE22,\"\")","v":10558},0]
[{"$f":"IF(Table!A23<>\"\",Table!A23,\"\")","v":"2024-11-17"},{"$f":"IF(Table!A23<>\"\",Table!A23,\"\")","v":"2024-11-17"},{"$f":"IF(Table!C23=1,\"חם מאוד\",IF(Table!C23=2,\"חם\",IF(Table!C23=3,\"נאה\",IF(Table!C23=4,\"גשום\",IF(Table!C23=5,\"גשום מאוד\",\"\")))))","v":"חם"},{"$f":"IF(Table!D23<>\"\",Table!D23,\"\")","v":8257622},1428,{"$f":"IF(Table!F23<>\"\",Table!F23,\"\")","v":1346},{"$f":"IF(Table!G23<>\"\",Table!G23,\"\")","v":77572},1346,0,1428,{"$f":"IF(Table!I23<>\"\",Table!I23,\"\")","v":481},1,{"$f":"IF(Table!CE23<>\"\",Table!CE23,\"\")","v":10558},0]
[{"$f":"IF(Table!A24<>\"\",Table!A24,\"\")","v":"2024-11-18"},{"$f":"IF(Table!A24<>\"\",Table!A24,\"\")","v":"2024-11-18"},{"$f":"IF(Table!C24=1,\"חם מאוד\",IF(Table!C24=2,\"חם\",IF(Table!C24=3,\"נאה\",IF(Table!C24=4,\"גשום\",IF(Table!C24=5,\"גשום מאוד\",\"\")))))","v":"חם"},{"$f":"IF(Table!D24<>\"\",Table!D24,\"\")","v":8259050},1615,{"$f":"IF(Table!F24<>\"\",Table!F24,\"\")","v":922},{"$f":"IF(Table!G24<>\"\",Table!G24,\"\")","v":78918},922,0,1615,{"$f":"IF(Table!I24<>\"\",Table!I24,\"\")","v":482},0,{"$f":"IF(Table!CE24<>\"\",Table!CE24,\"\")","v":10558},0]
[{"$f":"IF(Table!A25<>\"\",Table!A25,\"\")","v":"2024-11-19"},{"$f":"IF(Table!A25<>\"\",Table!A25,\"\")","v":"2024-11-19"},{"$f":"IF(Table!C25=1,\"חם מאוד\",IF(Table!C25=2,\"חם\",IF(Table!C25=3,\"נאה\",IF(Table!C25=4,\"גשום\",IF(Table!C25=5,\"גשום מאוד\",\"\")))))","v":"חם"},{"$f":"IF(Table!D25<>\"\",Table!D25,\"\")","v":8260665},1427,{"$f":"IF(Table!F25<>\"\",Table!F25,\"\")","v":989},{"$f":"IF(Table!G25<>\"\",Table!G25,\"\")","v":79840},989,0,1427,{"$f":"IF(Table!I25<>\"\",Table!I25,\"\")","v":482},0,{"$f":"IF(Table!CE25<>\"\",Table!CE25,\"\")","v":10558},0]
[{"$f":"IF(Table!A26<>\"\",Table!A26,\"\")","v":"2024-11-20"},{"$f":"IF(Table!A26<>\"\",Table!A26,\"\")","v":"2024-11-20"},{"$f":"IF(Table!C26=1,\"חם מאוד\",IF(Table!C26=2,\"חם\",IF(Table!C26=3,\"נאה\",IF(Table!C26=4,\"גשום\",IF(Table!C26=5,\"גשום מאוד\",\"\")))))","v":"חם"},{"$f":"IF(Table!D26<>\"\",Table!D26,\"\")","v":8262092},1313,{"$f":"IF(Table!F26<>\"\",Table!F26,\"\")","v":923},{"$f":"IF(Table!G26<>\"\",Table!G26,\"\")","v":80829},923,0,1313,{"$f":"IF(Table!I26<>\"\",Table!I26,\"\")","v":482},0,{"$f":"IF(Table!CE26<>\"\",Table!CE26,\"\")","v":10558},0]
[{"$f":"IF(Table!A27<>\"\",Table!A27,\"\")","v":"2024-11-21"},{"$f":"IF(Table!A27<>\"\",Table!A27,\"\")","v":"2024-11-21"},{"$f":"IF(Table!C27=1,\"חם מאוד\",IF(Table!C27=2,\"חם\",IF(Table!C27=3,\"נאה\",IF(Table!C27=4,\"גשום\",IF(Table!C27=5,\"גשום מאוד\",\"\")))))","v":"חם"},{"$f":"IF(Table!D27<>\"\",Table!D27,\"\")","v":8263405},1202,{"$f":"IF(Table!F27<>\"\",Table!F27,\"\")","v":1134},{"$f":"IF(Table!G27<>\"\",Table!G27,\"\")","v":81752},1134,0,1202,{"$f":"IF(Table!I27<>\"\",Table!I27,\"\")","v":482},0,{"$f":"IF(Table!CE27<>\"\",Table!CE27,\"\")","v":10558},0]
[{"$f":"IF(Table!A28<>\"\",Table!A28,\"\")","v":"2024-11-22"},{"$f":"IF(Table!A28<>\"\",Table!A28,\"\")","v":"2024-11-22"},{"$f":"IF(Table!C28=1,\"חם מאוד\",IF(Table!C28=2,\"חם\",IF(Table!C28=3,\"נאה\",IF(Table!C28=4,\"גשום\",IF(Table!C28=5,\"גשום מאוד\",\"\")))))","v":"חם"},{"$f":"IF(Table!D28<>\"\",Table!D28,\"\")","v":8264607},1357,{"$f":"IF(Table!F28<>\"\",Table!F28,\"\")","v":542},{"$f":"IF(Table!G28<>\"\",Table!G28,\"\")","v":82886},542,0,1357,{"$f":"IF(Table!I28<>\"\",Table!I28,\"\")","v":482},0,{"$f":"IF(Table!CE28<>\"\",Table!CE28,\"\")","v":10558},0]
[{"$f":"IF(Table!A29<>\"\",Table!A29,\"\")","v":"2024-11-23"},{"$f":"IF(Table!A29<>\"\",Table!A29,\"\")","v":"2024-11-23"},{"$f":"IF(Table!C29=1,\"חם מאוד\",IF(Table!C29=2,\"חם\",IF(Table!C29=3,\"נאה\",IF(Table!C29=4,\"גשום\",IF(Table!C29=5,\"גשום מאוד\",\"\")))))","v":"חם"},{"$f":"IF(Table!D29<>\"\",Table!D29,\"\")","v":8265964},1290,{"$f":"IF(Table!F29<>\"\",Table!F29,\"\")","v":0},{"$f":"IF(Table!G29<>\"\",Table!G29,\"\")","v":83428},0,0,1290,{"$f":"IF(Table!I29<>\"\",Table!I29,\"\")","v":482},0,{"$f":"IF(Table!CE29<>\"\",Table!CE29,\"\")","v":10558},0]
[{"$f":"IF(Table!A30<>\"\",Table!A30,\"\")","v":"2024-11-24"},{"$f":"IF(Table!A30<>\"\",Table!A30,\"\")","v":"2024-11-24"},{"$f":"IF(Table!C30=1,\"חם מאוד\",IF(Table!C30=2,\"חם\",IF(Table!C30=3,\"נאה\",IF(Table!C30=4,\"גשום\",IF(Table!C30=5,\"גשום מאוד\",\"\")))))","v":"חם"},{"$f":"IF(Table!D30<>\"\",Table!D30,\"\")","v":8267254},1194,{"$f":"IF(Table!F30<>\"\",Table!F30,\"\")","v":990},{"$f":"IF(Table!G30<>\"\",Table!G30,\"\")","v":83428},990,0,1194,{"$f":"IF(Table!I30<>\"\",Table!I30,\"\")","v":482},0,{"$f":"IF(Table!CE30<>\"\",Table!CE30,\"\")","v":10558},0]
[{"$f":"IF(Table!A31<>\"\",Table!A31,\"\")","v":"2024-11-25"},{"$f":"IF(Table!A31<>\"\",Table!A31,\"\")","v":"2024-11-25"},{"$f":"IF(Table!C31=1,\"חם מאוד\",IF(Table!C31=2,\"חם\",IF(Table!C31=3,\"נאה\",IF(Table!C31=4,\"גשום\",IF(Table!C31=5,\"גשום מאוד\",\"\")))))","v":"חם"},{"$f":"IF(Table!D31<>\"\",Table!D31,\"\")","v":8268448},1130,{"$f":"IF(Table!F31<>\"\",Table!F31,\"\")","v":674},{"$f":"IF(Table!G31<>\"\",Table!G31,\"\")","v":84418},674,0,1130,{"$f":"IF(Table!I31<>\"\",Table!I31,\"\")","v":482},1,{"$f":"IF(Table!CE31<>\"\",Table!CE31,\"\")","v":10558},0]
[{"$f":"IF(Table!A32<>\"\",Table!A32,\"\")","v":"2024-11-26"},{"$f":"IF(Table!A32<>\"\",Table!A32,\"\")","v":"2024-11-26"},{"$f":"IF(Table!C32=1,\"חם מאוד\",IF(Table!C32=2,\"חם\",IF(Table!C32=3,\"נאה\",IF(Table!C32=4,\"גשום\",IF(Table!C32=5,\"גשום מאוד\",\"\")))))","v":"חם"},{"$f":"IF(Table!D32<>\"\",Table!D32,\"\")","v":8269578},1266,{"$f":"IF(Table!F32<>\"\",Table!F32,\"\")","v":1096},{"$f":"IF(Table!G32<>\"\",Table!G32,\"\")","v":85092},1096,0,1266,{"$f":"IF(Table!I32<>\"\",Table!I32,\"\")","v":483},0,{"$f":"IF(Table!CE32<>\"\",Table!CE32,\"\")","v":10558},0]
[{"$f":"IF(Table!A33<>\"\",Table!A33,\"\")","v":"2024-11-27"},{"$f":"IF(Table!A33<>\"\",Table!A33,\"\")","v":"2024-11-27"},{"$f":"IF(Table!C33=1,\"חם מאוד\",IF(Table!C33=2,\"חם\",IF(Table!C33=3,\"נאה\",IF(Table!C33=4,\"גשום\",IF(Table!C33=5,\"גשום מאוד\",\"\")))))","v":"חם"},{"$f":"IF(Table!D33<>\"\",Table!D33,\"\")","v":8270844},1164,{"$f":"IF(Table!F33<>\"\",Table!F33,\"\")","v":938},{"$f":"IF(Table!G33<>\"\",Table!G33,\"\")","v":86188},938,0,1164,{"$f":"IF(Table!I33<>\"\",Table!I33,\"\")","v":483},0,{"$f":"IF(Table!CE33<>\"\",Table!CE33,\"\")","v":10558},0]
[{"$f":"IF(Table!A34<>\"\",Table!A34,\"\")","v":"2024-11-28"},{"$f":"IF(Table!A34<>\"\",Table!A34,\"\")","v":"2024-11-28"},{"$f":"IF(Table!C34=1,\"חם מאוד\",IF(Table!C34=2,\"חם\",IF(Table!C34=3,\"נאה\",IF(Table!C34=4,\"גשום\",IF(Table!C34=5,\"גשום מאוד\",\"\")))))","v":"חם"},{"$f":"IF(Table!D34<>\"\",Table!D34,\"\")","v":8272008},1189,{"$f":"IF(Table!F34<>\"\",Table!F34,\"\")","v":1030},{"$f":"IF(Table!G34<>\"\",Table!G34,\"\")","v":87126},1030,0,1189,{"$f":"IF(Table!I34<>\"\",Table!I34,\"\")","v":483},0,{"$f":"IF(Table!CE34<>\"\",Table!CE34,\"\")","v":10558},0]
[{"$f":"IF(Table!A35<>\"\",Table!A35,\"\")","v":"2024-11-29"},{"$f":"IF(Table!A35<>\"\",Table!A35,\"\")","v":"2024-11-29"},{"$f":"IF(Table!C35=1,\"חם מאוד\",IF(Table!C35=2,\"חם\",IF(Table!C35=3,\"נאה\",IF(Table!C35=4,\"גשום\",IF(Table!C35=5,\"גשום מאוד\",\"\")))))","v":"חם"},{"$f":"IF(Table!D35<>\"\",Table!D35,\"\")","v":8273197},{"$f":"IF(AND(D36<>\"\",D35<>\"\"),D36-D35, \"\")","v":1373},{"$f":"IF(Table!F35<>\"\",Table!F35,\"\")","v":652},{"$f":"IF(Table!G35<>\"\",Table!G35,\"\")","v":88156},{"$f":"IF(AND(G36<>\"\",G35<>\"\"),G36-G35, \"\")","v":652},{"$f":"IF(AND(H35<>\"\",F35<>\"\"),F35-H35, \"\")","v":0},{"$f":"IF(AND(E35<>\"\",I35<>\"\"),E35-I35, \"\")","v":1373},{"$f":"IF(Table!I35<>\"\",Table!I35,\"\")","v":483},{"$f":"IF(AND(K36<>\"\",K35<>\"\"),K36-K35, \"\")","v":1},{"$f":"IF(Table!CE35<>\"\",Table!CE35,\"\")","v":10558},{"$f":"IF(AND(M36<>\"\",M35<>\"\"),M36-M35, \"\")","v":0}]
[{"$f":"IF(Table!A36<>\"\",Table!A36,\"\")","v":"2024-11-30"},{"$f":"IF(Table!A36<>\"\",Table!A36,\"\")","v":"2024-11-30"},{"$f":"IF(Table!C36=1,\"חם מאוד\",IF(Table!C36=2,\"חם\",IF(Table!C36=3,\"נאה\",IF(Table!C36=4,\"גשום\",IF(Table!C36=5,\"גשום מאוד\",\"\")))))","v":"חם"},{"$f":"IF(Table!D36<>\"\",Table!D36,\"\")","v":8274570},{"$f":"IF(AND(D37<>\"\",D36<>\"\"),D37-D36, \"\")","v":1299},{"$f":"IF(Table!F36<>\"\",Table!F36,\"\")","v":0},{"$f":"IF(Table!G36<>\"\",Table!G36,\"\")","v":88808},{"$f":"IF(AND(G37<>\"\",G36<>\"\"),G37-G36, \"\")","v":0},{"$f":"IF(AND(H36<>\"\",F36<>\"\"),F36-H36, \"\")","v":0},{"$f":"IF(AND(E36<>\"\",I36<>\"\"),E36-I36, \"\")","v":1299},{"$f":"IF(Table!I36<>\"\",Table!I36,\"\")","v":484},{"$f":"IF(AND(K37<>\"\",K36<>\"\"),K37-K36, \"\")","v":0},{"$f":"IF(Table!CE36<>\"\",Table!CE36,\"\")","v":10558},{"$f":"IF(AND(M37<>\"\",M36<>\"\"),M37-M36, \"\")","v":0}]
[{"$f":"IF(Table!A37<>\"\",Table!A37,\"\")","v":"2024-12-01"},{"$f":"IF(Table!A37<>\"\",Table!A37,\"\")","v":"2024-12-01"},{"$f":"IF(Table!C37=1,\"חם מאוד\",IF(Table!C37=2,\"חם\",IF(Table!C37=3,\"נאה\",IF(Table!C37=4,\"גשום\",IF(Table!C37=5,\"גשום מאוד\",\"\")))))","v":""},{"$f":"IF(Table!D37<>\"\",Table!D37,\"\")","v":8275869},{"$f":"IF(AND(D38<>\"\",D37<>\"\"),D38-D37, \"\")","v":""},{"$f":"IF(Table!F37<>\"\",Table!F37,\"\")","v":""},{"$f":"IF(Table!G37<>\"\",Table!G37,\"\")","v":88808},{"$f":"IF(AND(G38<>\"\",G37<>\"\"),G38-G37, \"\")","v":""},{"$f":"IF(AND(H37<>\"\",F37<>\"\"),F37-H37, \"\")","v":""},{"$f":"IF(AND(E37<>\"\",I37<>\"\"),E37-I37, \"\")","v":""},{"$f":"IF(Table!I37<>\"\",Table!I37,\"\")","v":484},{"$f":"IF(AND(K38<>\"\",K37<>\"\"),K38-K37, \"\")","v":""},{"$f":"IF(Table!CE37<>\"\",Table!CE37,\"\")","v":10558},{"$f":"IF(AND(M38<>\"\",M37<>\"\"),M38-M37, \"\")","v":""}]
[{"$f":"IF(Table!A38<>\"\",Table!A38,\"\")","v":"2024-12-02"},{"$f":"IF(Table!A38<>\"\",Table!A38,\"\")","v":"2024-12-02"},{"$f":"IF(Table!C38=1,\"חם מאוד\",IF(Table!C38=2,\"חם\",IF(Table!C38=3,\"נאה\",IF(Table!C38=4,\"גשום\",IF(Table!C38=5,\"גשום מאוד\",\"\")))))","v":""},{"$f":"IF(Table!D38<>\"\",Table!D38,\"\")","v":""},null,{"$f":"IF(Table!F38<>\"\",Table!F38,\"\")","v":""},{"$f":"IF(Table!G38<>\"\",Table!G38,\"\")","v":""},null,null,null,{"$f":"IF(Table!I38<>\"\",Table!I38,\"\")","v":""},null,{"$f":"IF(Table!CE38<>\"\",Table!CE38,\"\")","v":""}]
["סה\"כ לחודש",null,null,{"$f":"IF(D38<>\"\",D38-D7,IF(D37<>\"\",D37-D7,IF(D36<>\"\",D36-D7,D35-D7)))","v":41436},{"$f":"SUM(E7:E38)","v":41436},{"$f":"SUM(F7:F38)","v":26875},{"$f":"IF(G38<>\"\",G38-G7,IF(G37<>\"\",G37-G7,IF(G36<>\"\",G36-G7,G35-G7)))","v":26875},{"$f":"SUM(H7:H38)","v":26875},{"$f":"SUM(I7:I38)","v":0},{"$f":"SUM(J7:J38)","v":41436},{"$f":"IF(K38<>\"\",K38-K7,IF(K37<>\"\",K37-K7,IF(K36<>\"\",K36-K7,K35-K7)))","v":5},{"$f":"SUM(L7:L38)","v":5},{"$f":"IF(M38<>\"\",M38-M7,IF(M37<>\"\",M37-M7,IF(M36<>\"\",M36-M7,M35-M7)))","v":228},{"$f":"SUM(N7:N38)","v":228}]
["ממוצע ",null,null,null,{"$f":"AVERAGE(E7:E38)","v":1381.2},{"$f":"AVERAGE(F7:F38)","v":895.83333333333337},null,{"$f":"AVERAGE(H7:H38)","v":895.83333333333337},{"$f":"AVERAGE(I7:I38)","v":0},{"$f":"AVERAGE(J7:J38)","v":1381.2},null,{"$f":"AVERAGE(L7:L38)","v":0.16666666666666666},null,{"$f":"AVERAGE(N7:N38)","v":7.6}]
["מקסימום ",null,null,null,{"$f":"MAX(E7:E38)","v":1615},{"$f":"MAX(F7:F38)","v":1599},null,{"$f":"MAX(H7:H38)","v":1599},{"$f":"MAX(I7:I38)","v":0},{"$f":"MAX(J7:J38)","v":1615},null,{"$f":"MAX(L7:L38)","v":1},null,{"$f":"MAX(N7:N38)","v":48}]
["מינימום ",null,null,null,{"$f":"MIN(E7:E38)","v":1130},{"$f":"MIN(F7:F38)","v":0},null,{"$f":"MIN(H7:H38)","v":0},{"$f":"MIN(I7:I38)","v":0},{"$f":"MIN(J7:J38)","v":1130},null,{"$f":"MIN(L7:L38)","v":0},null,{"$f":"MIN(N7:N38)","v":0}]

{"sheet":"איכות שפכים","index":2,"n_rows":41,"n_cols":24,"rows_kept":41,"cut":false,"hidden":false,"merged":[[40,0,40,1],[37,0,37,1],[38,0,38,1],[39,0,39,1],[1,4,1,23],[1,0,1,3],[4,1,5,1],[3,12,3,18],[3,2,3,8],[3,10,3,11],[3,19,3,23],[2,2,2,23],[4,0,5,0],[3,0,3,1],[2,0,2,1]]}
[]
[{"$f":"סיכום!C11","v":"מט\"ש נובמבר 2024"},null,null,null,"נתוני תפעול  - גליון  2  - איכות שפכים"]
["יחידת פעולה",null,"מעבדה"]
["תדירות",null,"פעם בשבוע",null,null,null,null,null,null,"פעמים בחודש","פעם בחודש",null,"דיגום כל חודש אי זוגי: ינואר, מרץ, מאי, יולי, ספטמבר, נובמבר",null,null,null,null,null,null,"פעם בשלושה חודשים: ינואר, אפריל, יולי, אוקטובר"]
["תאריך","יום בשבוע","צח\"ב","צח\"כ","מוצקים מרחפים","חנקן אמוניאקלי","שומנים","כלורידים","זרחן כללי","חנקן קלדהל","חנקן כללי","שמן מנרלי","מוצקים נדיפים","צח\"ב מומס","צח\"כ מומס","דטרגנט אניוני","סולפיד מומס","פנול מרכיבים","ציאניד","כלל מוצקים נמסים","סולפאט","קשיות כ-CaCO3","אלקליניות כ- CaCO3","סריקת מתכות"]
[null,null,"מג\"ל","מג\"ל","מג\"ל","מג\"ל","מג\"ל","מג\"ל","מג\"ל","מג\"ל","מג\"ל","מג\"ל","מג\"ל","מג\"ל","מג\"ל","מג\"ל","מג\"ל","מג\"ל","מג\"ל","מג\"ל","מג\"ל","מג\"ל","מג\"ל","מג\"ל"]
[{"$f":"IF(Table!A7<>\"\",Table!A7,\"\")","v":"2024-11-01"},{"$f":"IF(Table!A7<>\"\",Table!A7,\"\")","v":"2024-11-01"},{"$f":"IF(Table!J7<>\"\",Table!J7,\"\")","v":""},{"$f":"IF(Table!K7<>\"\",Table!K7,\"\")","v":""},{"$f":"IF(Table!L7<>\"\",Table!L7,\"\")","v":""},{"$f":"IF(Table!M7<>\"\",Table!M7,\"\")","v":""},{"$f":"IF(Table!N7<>\"\",Table!N7,\"\")","v":""},{"$f":"IF(Table!O7<>\"\",Table!O7,\"\")","v":""},{"$f":"IF(Table!P7<>\"\",Table!P7,\"\")","v":""},{"$f":"IF(Table!Q7<>\"\",Table!Q7,\"\")","v":""},{"$f":"IF(Table!R7<>\"\",Table!R7,\"\")","v":""},{"$f":"IF(Table!S7<>\"\",Table!S7,\"\")","v":""},{"$f":"IF(Table!T7<>\"\",Table!T7,\"\")","v":""},{"$f":"IF(Table!U7<>\"\",Table!U7,\"\")","v":""},{"$f":"IF(Table!V7<>\"\",Table!V7,\"\")","v":""},{"$f":"IF(Table!W7<>\"\",Table!W7,\"\")","v":""},{"$f":"IF(Table!X7<>\"\",Table!X7,\"\")","v":""},{"$f":"IF(Table!Y7<>\"\",Table!Y7,\"\")","v":""},{"$f":"IF(Table!Z7<>\"\",Table!Z7,\"\")","v":""},{"$f":"IF(Table!AA7<>\"\",Table!AA7,\"\")","v":""},{"$f":"IF(Table!AB7<>\"\",Table!AB7,\"\")","v":""},{"$f":"IF(Table!AC7<>\"\",Table!AC7,\"\")","v":""},{"$f":"IF(Table!AD7<>\"\",Table!AD7,\"\")","v":""},{"$f":"IF(Table!AE7<>\"\",Table!AE7,\"\")","v":""}]
[{"$f":"IF(Table!A8<>\"\",Table!A8,\"\")","v":"2024-11-02"},{"$f":"IF(Table!A8<>\"\",Table!A8,\"\")","v":"2024-11-02"},{"$f":"IF(Table!J8<>\"\",Table!J8,\"\")","v":""},{"$f":"IF(Table!K8<>\"\",Table!K8,\"\")","v":""},{"$f":"IF(Table!L8<>\"\",Table!L8,\"\")","v":""},{"$f":"IF(Table!M8<>\"\",Table!M8,\"\")","v":""},{"$f":"IF(Table!N8<>\"\",Table!N8,\"\")","v":""},{"$f":"IF(Table!O8<>\"\",Table!O8,\"\")","v":""},{"$f":"IF(Table!P8<>\"\",Table!P8,\"\")","v":""},{"$f":"IF(Table!Q8<>\"\",Table!Q8,\"\")","v":""},{"$f":"IF(Table!R8<>\"\",Table!R8,\"\")","v":""},{"$f":"IF(Table!S8<>\"\",Table!S8,\"\")","v":""},{"$f":"IF(Table!T8<>\"\",Table!T8,\"\")","v":""},{"$f":"IF(Table!U8<>\"\",Table!U8,\"\")","v":""},{"$f":"IF(Table!V8<>\"\",Table!V8,\"\")","v":""},{"$f":"IF(Table!W8<>\"\",Table!W8,\"\")","v":""},{"$f":"IF(Table!X8<>\"\",Table!X8,\"\")","v":""},{"$f":"IF(Table!Y8<>\"\",Table!Y8,\"\")","v":""},{"$f":"IF(Table!Z8<>\"\",Table!Z8,\"\")","v":""},{"$f":"IF(Table!AA8<>\"\",Table!AA8,\"\")","v":""},{"$f":"IF(Table!AB8<>\"\",Table!AB8,\"\")","v":""},{"$f":"IF(Table!AC8<>\"\",Table!AC8,\"\")","v":""},{"$f":"IF(Table!AD8<>\"\",Table!AD8,\"\")","v":""},{"$f":"IF(Table!AE8<>\"\",Table!AE8,\"\")","v":""}]
[{"$f":"IF(Table!A9<>\"\",Table!A9,\"\")","v":"2024-11-03"},{"$f":"IF(Table!A9<>\"\",Table!A9,\"\")","v":"2024-11-03"},{"$f":"IF(Table!J9<>\"\",Table!J9,\"\")","v":""},{"$f":"IF(Table!K9<>\"\",Table!K9,\"\")","v":""},{"$f":"IF(Table!L9<>\"\",Table!L9,\"\")","v":""},{"$f":"IF(Table!M9<>\"\",Table!M9,\"\")","v":""},{"$f":"IF(Table!N9<>\"\",Table!N9,\"\")","v":""},{"$f":"IF(Table!O9<>\"\",Table!O9,\"\")","v":""},{"$f":"IF(Table!P9<>\"\",Table!P9,\"\")","v":""},{"$f":"IF(Table!Q9<>\"\",Table!Q9,\"\")","v":""},{"$f":"IF(Table!R9<>\"\",Table!R9,\"\")","v":""},{"$f":"IF(Table!S9<>\"\",Table!S9,\"\")","v":""},{"$f":"IF(Table!T9<>\"\",Table!T9,\"\")","v":""},{"$f":"IF(Table!U9<>\"\",Table!U9,\"\")","v":""},{"$f":"IF(Table!V9<>\"\",Table!V9,\"\")","v":""},{"$f":"IF(Table!W9<>\"\",Table!W9,\"\")","v":""},{"$f":"IF(Table!X9<>\"\",Table!X9,\"\")","v":""},{"$f":"IF(Table!Y9<>\"\",Table!Y9,\"\")","v":""},{"$f":"IF(Table!Z9<>\"\",Table!Z9,\"\")","v":""},{"$f":"IF(Table!AA9<>\"\",Table!AA9,\"\")","v":""},{"$f":"IF(Table!AB9<>\"\",Table!AB9,\"\")","v":""},{"$f":"IF(Table!AC9<>\"\",Table!AC9,\"\")","v":""},{"$f":"IF(Table!AD9<>\"\",Table!AD9,\"\")","v":""},{"$f":"IF(Table!AE9<>\"\",Table!AE9,\"\")","v":""}]
[{"$f":"IF(Table!A10<>\"\",Table!A10,\"\")","v":"2024-11-04"},{"$f":"IF(Table!A10<>\"\",Table!A10,\"\")","v":"2024-11-04"},{"$f":"IF(Table!J10<>\"\",Table!J10,\"\")","v":296},{"$f":"IF(Table!K10<>\"\",Table!K10,\"\")","v":718},{"$f":"IF(Table!L10<>\"\",Table!L10,\"\")","v":294},{"$f":"IF(Table!M10<>\"\",Table!M10,\"\")","v":34.85},{"$f":"IF(Table!N10<>\"\",Table!N10,\"\")","v":122},{"$f":"IF(Table!O10<>\"\",Table!O10,\"\")","v":0},{"$f":"IF(Table!P10<>\"\",Table!P10,\"\")","v":6.4},{"$f":"IF(Table!Q10<>\"\",Table!Q10,\"\")","v":56},{"$f":"IF(Table!R10<>\"\",Table!R10,\"\")","v":0},{"$f":"IF(Table!S10<>\"\",Table!S10,\"\")","v":10},{"$f":"IF(Table!T10<>\"\",Table!T10,\"\")","v":287},{"$f":"IF(Table!U10<>\"\",Table!U10,\"\")","v":109},{"$f":"IF(Table!V10<>\"\",Table!V10,\"\")","v":214},{"$f":"IF(Table!W10<>\"\",Table!W10,\"\")","v":8.1999999999999993},{"$f":"IF(Table!X10<>\"\",Table!X10,\"\")","v":2.1},0,{"$f":"IF(Table!Z10<>\"\",Table!Z10,\"\")","v":5.0000000000000001E-3},0,0,0,0,0]
[{"$f":"IF(Table!A11<>\"\",Table!A11,\"\")","v":"2024-11-05"},{"$f":"IF(Table!A11<>\"\",Table!A11,\"\")","v":"2024-11-05"},{"$f":"IF(Table!J11<>\"\",Table!J11,\"\")","v":""},{"$f":"IF(Table!K11<>\"\",Table!K11,\"\")","v":""},{"$f":"IF(Table!L11<>\"\",Table!L11,\"\")","v":""},{"$f":"IF(Table!M11<>\"\",Table!M11,\"\")","v":""},{"$f":"IF(Table!N11<>\"\",Table!N11,\"\")","v":""},{"$f":"IF(Table!O11<>\"\",Table!O11,\"\")","v":""},{"$f":"IF(Table!P11<>\"\",Table!P11,\"\")","v":""},{"$f":"IF(Table!Q11<>\"\",Table!Q11,\"\")","v":""},{"$f":"IF(Table!R11<>\"\",Table!R11,\"\")","v":""},{"$f":"IF(Table!S11<>\"\",Table!S11,\"\")","v":""},{"$f":"IF(Table!T11<>\"\",Table!T11,\"\")","v":""},{"$f":"IF(Table!U11<>\"\",Table!U11,\"\")","v":""},{"$f":"IF(Table!V11<>\"\",Table!V11,\"\")","v":""},{"$f":"IF(Table!W11<>\"\",Table!W11,\"\")","v":""},{"$f":"IF(Table!X11<>\"\",Table!X11,\"\")","v":""},{"$f":"IF(Table!Y11<>\"\",Table!Y11,\"\")","v":""},{"$f":"IF(Table!Z11<>\"\",Table!Z11,\"\")","v":""},{"$f":"IF(Table!AA11<>\"\",Table!AA11,\"\")","v":""},{"$f":"IF(Table!AB11<>\"\",Table!AB11,\"\")","v":""},{"$f":"IF(Table!AC11<>\"\",Table!AC11,\"\")","v":""},{"$f":"IF(Table!AD11<>\"\",Table!AD11,\"\")","v":""},{"$f":"IF(Table!AE11<>\"\",Table!AE11,\"\")","v":""}]
[{"$f":"IF(Table!A12<>\"\",Table!A12,\"\")","v":"2024-11-06"},{"$f":"IF(Table!A12<>\"\",Table!A12,\"\")","v":"2024-11-06"},{"$f":"IF(Table!J12<>\"\",Table!J12,\"\")","v":""},{"$f":"IF(Table!K12<>\"\",Table!K12,\"\")","v":""},{"$f":"IF(Table!L12<>\"\",Table!L12,\"\")","v":""},{"$f":"IF(Table!M12<>\"\",Table!M12,\"\")","v":""},{"$f":"IF(Table!N12<>\"\",Table!N12,\"\")","v":""},{"$f":"IF(Table!O12<>\"\",Table!O12,\"\")","v":""},{"$f":"IF(Table!P12<>\"\",Table!P12,\"\")","v":""},{"$f":"IF(Table!Q12<>\"\",Table!Q12,\"\")","v":""},{"$f":"IF(Table!R12<>\"\",Table!R12,\"\")","v":""},{"$f":"IF(Table!S12<>\"\",Table!S12,\"\")","v":""},{"$f":"IF(Table!T12<>\"\",Table!T12,\"\")","v":""},{"$f":"IF(Table!U12<>\"\",Table!U12,\"\")","v":""},{"$f":"IF(Table!V12<>\"\",Table!V12,\"\")","v":""},{"$f":"IF(Table!W12<>\"\",Table!W12,\"\")","v":""},{"$f":"IF(Table!X12<>\"\",Table!X12,\"\")","v":""},{"$f":"IF(Table!Y12<>\"\",Table!Y12,\"\")","v":""},{"$f":"IF(Table!Z12<>\"\",Table!Z12,\"\")","v":""},{"$f":"IF(Table!AA12<>\"\",Table!AA12,\"\")","v":""},{"$f":"IF(Table!AB12<>\"\",Table!AB12,\"\")","v":""},{"$f":"IF(Table!AC12<>\"\",Table!AC12,\"\")","v":""},{"$f":"IF(Table!AD12<>\"\",Table!AD12,\"\")","v":""},{"$f":"IF(Table!AE12<>\"\",Table!AE12,\"\")","v":""}]
[{"$f":"IF(Table!A13<>\"\",Table!A13,\"\")","v":"2024-11-07"},{"$f":"IF(Table!A13<>\"\",Table!A13,\"\")","v":"2024-11-07"},{"$f":"IF(Table!J13<>\"\",Table!J13,\"\")","v":""},{"$f":"IF(Table!K13<>\"\",Table!K13,\"\")","v":""},{"$f":"IF(Table!L13<>\"\",Table!L13,\"\")","v":""},{"$f":"IF(Table!M13<>\"\",Table!M13,\"\")","v":""},{"$f":"IF(Table!N13<>\"\",Table!N13,\"\")","v":""},{"$f":"IF(Table!O13<>\"\",Table!O13,\"\")","v":""},{"$f":"IF(Table!P13<>\"\",Table!P13,\"\")","v":""},{"$f":"IF(Table!Q13<>\"\",Table!Q13,\"\")","v":""},{"$f":"IF(Table!R13<>\"\",Table!R13,\"\")","v":""},{"$f":"IF(Table!S13<>\"\",Table!S13,\"\")","v":""},{"$f":"IF(Table!T13<>\"\",Table!T13,\"\")","v":""},{"$f":"IF(Table!U13<>\"\",Table!U13,\"\")","v":""},{"$f":"IF(Table!V13<>\"\",Table!V13,\"\")","v":""},{"$f":"IF(Table!W13<>\"\",Table!W13,\"\")","v":""},{"$f":"IF(Table!X13<>\"\",Table!X13,\"\")","v":""},{"$f":"IF(Table!Y13<>\"\",Table!Y13,\"\")","v":""},{"$f":"IF(Table!Z13<>\"\",Table!Z13,\"\")","v":""},{"$f":"IF(Table!AA13<>\"\",Table!AA13,\"\")","v":""},{"$f":"IF(Table!AB13<>\"\",Table!AB13,\"\")","v":""},{"$f":"IF(Table!AC13<>\"\",Table!AC13,\"\")","v":""},{"$f":"IF(Table!AD13<>\"\",Table!AD13,\"\")","v":""},{"$f":"IF(Table!AE13<>\"\",Table!AE13,\"\")","v":""}]
[{"$f":"IF(Table!A14<>\"\",Table!A14,\"\")","v":"2024-11-08"},{"$f":"IF(Table!A14<>\"\",Table!A14,\"\")","v":"2024-11-08"},{"$f":"IF(Table!J14<>\"\",Table!J14,\"\")","v":""},{"$f":"IF(Table!K14<>\"\",Table!K14,\"\")","v":""},{"$f":"IF(Table!L14<>\"\",Table!L14,\"\")","v":""},{"$f":"IF(Table!M14<>\"\",Table!M14,\"\")","v":""},{"$f":"IF(Table!N14<>\"\",Table!N14,\"\")","v":""},{"$f":"IF(Table!O14<>\"\",Table!O14,\"\")","v":""},{"$f":"IF(Table!P14<>\"\",Table!P14,\"\")","v":""},{"$f":"IF(Table!Q14<>\"\",Table!Q14,\"\")","v":""},{"$f":"IF(Table!R14<>\"\",Table!R14,\"\")","v":""},{"$f":"IF(Table!S14<>\"\",Table!S14,\"\")","v":""},{"$f":"IF(Table!T14<>\"\",Table!T14,\"\")","v":""},{"$f":"IF(Table!U14<>\"\",Table!U14,\"\")","v":""},{"$f":"IF(Table!V14<>\"\",Table!V14,\"\")","v":""},{"$f":"IF(Table!W14<>\"\",Table!W14,\"\")","v":""},{"$f":"IF(Table!X14<>\"\",Table!X14,\"\")","v":""},{"$f":"IF(Table!Y14<>\"\",Table!Y14,\"\")","v":""},{"$f":"IF(Table!Z14<>\"\",Table!Z14,\"\")","v":""},{"$f":"IF(Table!AA14<>\"\",Table!AA14,\"\")","v":""},{"$f":"IF(Table!AB14<>\"\",Table!AB14,\"\")","v":""},{"$f":"IF(Table!AC14<>\"\",Table!AC14,\"\")","v":""},{"$f":"IF(Table!AD14<>\"\",Table!AD14,\"\")","v":""},{"$f":"IF(Table!AE14<>\"\",Table!AE14,\"\")","v":""}]
[{"$f":"IF(Table!A15<>\"\",Table!A15,\"\")","v":"2024-11-09"},{"$f":"IF(Table!A15<>\"\",Table!A15,\"\")","v":"2024-11-09"},{"$f":"IF(Table!J15<>\"\",Table!J15,\"\")","v":""},{"$f":"IF(Table!K15<>\"\",Table!K15,\"\")","v":""},{"$f":"IF(Table!L15<>\"\",Table!L15,\"\")","v":""},{"$f":"IF(Table!M15<>\"\",Table!M15,\"\")","v":""},{"$f":"IF(Table!N15<>\"\",Table!N15,\"\")","v":""},{"$f":"IF(Table!O15<>\"\",Table!O15,\"\")","v":""},{"$f":"IF(Table!P15<>\"\",Table!P15,\"\")","v":""},{"$f":"IF(Table!Q15<>\"\",Table!Q15,\"\")","v":""},{"$f":"IF(Table!R15<>\"\",Table!R15,\"\")","v":""},{"$f":"IF(Table!S15<>\"\",Table!S15,\"\")","v":""},{"$f":"IF(Table!T15<>\"\",Table!T15,\"\")","v":""},{"$f":"IF(Table!U15<>\"\",Table!U15,\"\")","v":""},{"$f":"IF(Table!V15<>\"\",Table!V15,\"\")","v":""},{"$f":"IF(Table!W15<>\"\",Table!W15,\"\")","v":""},{"$f":"IF(Table!X15<>\"\",Table!X15,\"\")","v":""},{"$f":"IF(Table!Y15<>\"\",Table!Y15,\"\")","v":""},{"$f":"IF(Table!Z15<>\"\",Table!Z15,\"\")","v":""},{"$f":"IF(Table!AA15<>\"\",Table!AA15,\"\")","v":""},{"$f":"IF(Table!AB15<>\"\",Table!AB15,\"\")","v":""},{"$f":"IF(Table!AC15<>\"\",Table!AC15,\"\")","v":""},{"$f":"IF(Table!AD15<>\"\",Table!AD15,\"\")","v":""},{"$f":"IF(Table!AE15<>\"\",Table!AE15,\"\")","v":""}]
[{"$f":"IF(Table!A16<>\"\",Table!A16,\"\")","v":"2024-11-10"},{"$f":"IF(Table!A16<>\"\",Table!A16,\"\")","v":"2024-11-10"},{"$f":"IF(Table!J16<>\"\",Table!J16,\"\")","v":""},{"$f":"IF(Table!K16<>\"\",Table!K16,\"\")","v":""},{"$f":"IF(Table!L16<>\"\",Table!L16,\"\")","v":""},{"$f":"IF(Table!M16<>\"\",Table!M16,\"\")","v":""},{"$f":"IF(Table!N16<>\"\",Table!N16,\"\")","v":""},{"$f":"IF(Table!O16<>\"\",Table!O16,\"\")","v":""},{"$f":"IF(Table!P16<>\"\",Table!P16,\"\")","v":""},{"$f":"IF(Table!Q16<>\"\",Table!Q16,\"\")","v":""},{"$f":"IF(Table!R16<>\"\",Table!R16,\"\")","v":""},{"$f":"IF(Table!S16<>\"\",Table!S16,\"\")","v":""},{"$f":"IF(Table!T16<>\"\",Table!T16,\"\")","v":""},{"$f":"IF(Table!U16<>\"\",Table!U16,\"\")","v":""},{"$f":"IF(Table!V16<>\"\",Table!V16,\"\")","v":""},{"$f":"IF(Table!W16<>\"\",Table!W16,\"\")","v":""},{"$f":"IF(Table!X16<>\"\",Table!X16,\"\")","v":""},{"$f":"IF(Table!Y16<>\"\",Table!Y16,\"\")","v":""},{"$f":"IF(Table!Z16<>\"\",Table!Z16,\"\")","v":""},{"$f":"IF(Table!AA16<>\"\",Table!AA16,\"\")","v":""},{"$f":"IF(Table!AB16<>\"\",Table!AB16,\"\")","v":""},{"$f":"IF(Table!AC16<>\"\",Table!AC16,\"\")","v":""},{"$f":"IF(Table!AD16<>\"\",Table!AD16,\"\")","v":""},{"$f":"IF(Table!AE16<>\"\",Table!AE16,\"\")","v":""}]
[{"$f":"IF(Table!A17<>\"\",Table!A17,\"\")","v":"2024-11-11"},{"$f":"IF(Table!A17<>\"\",Table!A17,\"\")","v":"2024-11-11"},{"$f":"IF(Table!J17<>\"\",Table!J17,\"\")","v":""},{"$f":"IF(Table!K17<>\"\",Table!K17,\"\")","v":""},{"$f":"IF(Table!L17<>\"\",Table!L17,\"\")","v":""},{"$f":"IF(Table!M17<>\"\",Table!M17,\"\")","v":""},{"$f":"IF(Table!N17<>\"\",Table!N17,\"\")","v":""},{"$f":"IF(Table!O17<>\"\",Table!O17,\"\")","v":""},{"$f":"IF(Table!P17<>\"\",Table!P17,\"\")","v":""},{"$f":"IF(Table!Q17<>\"\",Table!Q17,\"\")","v":67},{"$f":"IF(Table!R17<>\"\",Table!R17,\"\")","v":""},{"$f":"IF(Table!S17<>\"\",Table!S17,\"\")","v":""},{"$f":"IF(Table!T17<>\"\",Table!T17,\"\")","v":""},{"$f":"IF(Table!U17<>\"\",Table!U17,\"\")","v":""},{"$f":"IF(Table!V17<>\"\",Table!V17,\"\")","v":""},{"$f":"IF(Table!W17<>\"\",Table!W17,\"\")","v":""},{"$f":"IF(Table!X17<>\"\",Table!X17,\"\")","v":""},{"$f":"IF(Table!Y17<>\"\",Table!Y17,\"\")","v":""},{"$f":"IF(Table!Z17<>\"\",Table!Z17,\"\")","v":""},{"$f":"IF(Table!AA17<>\"\",Table!AA17,\"\")","v":""},{"$f":"IF(Table!AB17<>\"\",Table!AB17,\"\")","v":""},{"$f":"IF(Table!AC17<>\"\",Table!AC17,\"\")","v":""},{"$f":"IF(Table!AD17<>\"\",Table!AD17,\"\")","v":""},{"$f":"IF(Table!AE17<>\"\",Table!AE17,\"\")","v":""}]
[{"$f":"IF(Table!A18<>\"\",Table!A18,\"\")","v":"2024-11-12"},{"$f":"IF(Table!A18<>\"\",Table!A18,\"\")","v":"2024-11-12"},{"$f":"IF(Table!J18<>\"\",Table!J18,\"\")","v":""},{"$f":"IF(Table!K18<>\"\",Table!K18,\"\")","v":""},{"$f":"IF(Table!L18<>\"\",Table!L18,\"\")","v":""},{"$f":"IF(Table!M18<>\"\",Table!M18,\"\")","v":""},{"$f":"IF(Table!N18<>\"\",Table!N18,\"\")","v":""},{"$f":"IF(Table!O18<>\"\",Table!O18,\"\")","v":""},{"$f":"IF(Table!P18<>\"\",Table!P18,\"\")","v":""},{"$f":"IF(Table!Q18<>\"\",Table!Q18,\"\")","v":""},{"$f":"IF(Table!R18<>\"\",Table!R18,\"\")","v":""},{"$f":"IF(Table!S18<>\"\",Table!S18,\"\")","v":""},{"$f":"IF(Table!T18<>\"\",Table!T18,\"\")","v":""},{"$f":"IF(Table!U18<>\"\",Table!U18,\"\")","v":""},{"$f":"IF(Table!V18<>\"\",Table!V18,\"\")","v":""},{"$f":"IF(Table!W18<>\"\",Table!W18,\"\")","v":""},{"$f":"IF(Table!X18<>\"\",Table!X18,\"\")","v":""},{"$f":"IF(Table!Y18<>\"\",Table!Y18,\"\")","v":""},{"$f":"IF(Table!Z18<>\"\",Table!Z18,\"\")","v":""},{"$f":"IF(Table!AA18<>\"\",Table!AA18,\"\")","v":""},{"$f":"IF(Table!AB18<>\"\",Table!AB18,\"\")","v":""},{"$f":"IF(Table!AC18<>\"\",Table!AC18,\"\")","v":""},{"$f":"IF(Table!AD18<>\"\",Table!AD18,\"\")","v":""},{"$f":"IF(Table!AE18<>\"\",Table!AE18,\"\")","v":""}]
[{"$f":"IF(Table!A19<>\"\",Table!A19,\"\")","v":"2024-11-13"},{"$f":"IF(Table!A19<>\"\",Table!A19,\"\")","v":"2024-11-13"},{"$f":"IF(Table!J19<>\"\",Table!J19,\"\")","v":""},{"$f":"IF(Table!K19<>\"\",Table!K19,\"\")","v":""},{"$f":"IF(Table!L19<>\"\",Table!L19,\"\")","v":""},{"$f":"IF(Table!M19<>\"\",Table!M19,\"\")","v":""},{"$f":"IF(Table!N19<>\"\",Table!N19,\"\")","v":""},{"$f":"IF(Table!O19<>\"\",Table!O19,\"\")","v":""},{"$f":"IF(Table!P19<>\"\",Table!P19,\"\")","v":""},{"$f":"IF(Table!Q19<>\"\",Table!Q19,\"\")","v":""},{"$f":"IF(Table!R19<>\"\",Table!R19,\"\")","v":""},{"$f":"IF(Table!S19<>\"\",Table!S19,\"\")","v":""},{"$f":"IF(Table!T19<>\"\",Table!T19,\"\")","v":""},{"$f":"IF(Table!U19<>\"\",Table!U19,\"\")","v":""},{"$f":"IF(Table!V19<>\"\",Table!V19,\"\")","v":""},{"$f":"IF(Table!W19<>\"\",Table!W19,\"\")","v":""},{"$f":"IF(Table!X19<>\"\",Table!X19,\"\")","v":""},{"$f":"IF(Table!Y19<>\"\",Table!Y19,\"\")","v":""},{"$f":"IF(Table!Z19<>\"\",Table!Z19,\"\")","v":""},{"$f":"IF(Table!AA19<>\"\",Table!AA19,\"\")","v":""},{"$f":"IF(Table!AB19<>\"\",Table!AB19,\"\")","v":""},{"$f":"IF(Table!AC19<>\"\",Table!AC19,\"\")","v":""},{"$f":"IF(Table!AD19<>\"\",Table!AD19,\"\")","v":""},{"$f":"IF(Table!AE19<>\"\",Table!AE19,\"\")","v":""}]
[{"$f":"IF(Table!A20<>\"\",Table!A20,\"\")","v":"2024-11-14"},{"$f":"IF(Table!A20<>\"\",Table!A20,\"\")","v":"2024-11-14"},{"$f":"IF(Table!J20<>\"\",Table!J20,\"\")","v":""},{"$f":"IF(Table!K20<>\"\",Table!K20,\"\")","v":""},{"$f":"IF(Table!L20<>\"\",Table!L20,\"\")","v":""},{"$f":"IF(Table!M20<>\"\",Table!M20,\"\")","v":""},{"$f":"IF(Table!N20<>\"\",Table!N20,\"\")","v":""},{"$f":"IF(Table!O20<>\"\",Table!O20,\"\")","v":""},{"$f":"IF(Table!P20<>\"\",Table!P20,\"\")","v":""},{"$f":"IF(Table!Q20<>\"\",Table!Q20,\"\")","v":""},{"$f":"IF(Table!R20<>\"\",Table!R20,\"\")","v":""},{"$f":"IF(Table!S20<>\"\",Table!S20,\"\")","v":""},{"$f":"IF(Table!T20<>\"\",Table!T20,\"\")","v":""},{"$f":"IF(Table!U20<>\"\",Table!U20,\"\")","v":""},{"$f":"IF(Table!V20<>\"\",Table!V20,\"\")","v":""},{"$f":"IF(Table!W20<>\"\",Table!W20,\"\")","v":""},{"$f":"IF(Table!X20<>\"\",Table!X20,\"\")","v":""},{"$f":"IF(Table!Y20<>\"\",Table!Y20,\"\")","v":""},{"$f":"IF(Table!Z20<>\"\",Table!Z20,\"\")","v":""},{"$f":"IF(Table!AA20<>\"\",Table!AA20,\"\")","v":""},{"$f":"IF(Table!AB20<>\"\",Table!AB20,\"\")","v":""},{"$f":"IF(Table!AC20<>\"\",Table!AC20,\"\")","v":""},{"$f":"IF(Table!AD20<>\"\",Table!AD20,\"\")","v":""},{"$f":"IF(Table!AE20<>\"\",Table!AE20,\"\")","v":""}]
[{"$f":"IF(Table!A21<>\"\",Table!A21,\"\")","v":"2024-11-15"},{"$f":"IF(Table!A21<>\"\",Table!A21,\"\")","v":"2024-11-15"},{"$f":"IF(Table!J21<>\"\",Table!J21,\"\")","v":""},{"$f":"IF(Table!K21<>\"\",Table!K21,\"\")","v":""},{"$f":"IF(Table!L21<>\"\",Table!L21,\"\")","v":""},{"$f":"IF(Table!M21<>\"\",Table!M21,\"\")","v":""},{"$f":"IF(Table!N21<>\"\",Table!N21,\"\")","v":""},{"$f":"IF(Table!O21<>\"\",Table!O21,\"\")","v":""},{"$f":"IF(Table!P21<>\"\",Table!P21,\"\")","v":""},{"$f":"IF(Table!Q21<>\"\",Table!Q21,\"\")","v":""},{"$f":"IF(Table!R21<>\"\",Table!R21,\"\")","v":""},{"$f":"IF(Table!S21<>\"\",Table!S21,\"\")","v":""},{"$f":"IF(Table!T21<>\"\",Table!T21,\"\")","v":""},{"$f":"IF(Table!U21<>\"\",Table!U21,\"\")","v":""},{"$f":"IF(Table!V21<>\"\",Table!V21,\"\")","v":""},{"$f":"IF(Table!W21<>\"\",Table!W21,\"\")","v":""},{"$f":"IF(Table!X21<>\"\",Table!X21,\"\")","v":""},{"$f":"IF(Table!Y21<>\"\",Table!Y21,\"\")","v":""},{"$f":"IF(Table!Z21<>\"\",Table!Z21,\"\")","v":""},{"$f":"IF(Table!AA21<>\"\",Table!AA21,\"\")","v":""},{"$f":"IF(Table!AB21<>\"\",Table!AB21,\"\")","v":""},{"$f":"IF(Table!AC21<>\"\",Table!AC21,\"\")","v":""},{"$f":"IF(Table!AD21<>\"\",Table!AD21,\"\")","v":""},{"$f":"IF(Table!AE21<>\"\",Table!AE21,\"\")","v":""}]
[{"$f":"IF(Table!A22<>\"\",Table!A22,\"\")","v":"2024-11-16"},{"$f":"IF(Table!A22<>\"\",Table!A22,\"\")","v":"2024-11-16"},{"$f":"IF(Table!J22<>\"\",Table!J22,\"\")","v":""},{"$f":"IF(Table!K22<>\"\",Table!K22,\"\")","v":""},{"$f":"IF(Table!L22<>\"\",Table!L22,\"\")","v":""},{"$f":"IF(Table!M22<>\"\",Table!M22,\"\")","v":""},{"$f":"IF(Table!N22<>\"\",Table!N22,\"\")","v":""},{"$f":"IF(Table!O22<>\"\",Table!O22,\"\")","v":""},{"$f":"IF(Table!P22<>\"\",Table!P22,\"\")","v":""},{"$f":"IF(Table!Q22<>\"\",Table!Q22,\"\")","v":""},{"$f":"IF(Table!R22<>\"\",Table!R22,\"\")","v":""},{"$f":"IF(Table!S22<>\"\",Table!S22,\"\")","v":""},{"$f":"IF(Table!T22<>\"\",Table!T22,\"\")","v":""},{"$f":"IF(Table!U22<>\"\",Table!U22,\"\")","v":""},{"$f":"IF(Table!V22<>\"\",Table!V22,\"\")","v":""},{"$f":"IF(Table!W22<>\"\",Table!W22,\"\")","v":""},{"$f":"IF(Table!X22<>\"\",Table!X22,\"\")","v":""},{"$f":"IF(Table!Y22<>\"\",Table!Y22,\"\")","v":""},{"$f":"IF(Table!Z22<>\"\",Table!Z22,\"\")","v":""},{"$f":"IF(Table!AA22<>\"\",Table!AA22,\"\")","v":""},{"$f":"IF(Table!AB22<>\"\",Table!AB22,\"\")","v":""},{"$f":"IF(Table!AC22<>\"\",Table!AC22,\"\")","v":""},{"$f":"IF(Table!AD22<>\"\",Table!AD22,\"\")","v":""},{"$f":"IF(Table!AE22<>\"\",Table!AE22,\"\")","v":""}]
[{"$f":"IF(Table!A23<>\"\",Table!A23,\"\")","v":"2024-11-17"},{"$f":"IF(Table!A23<>\"\",Table!A23,\"\")","v":"2024-11-17"},{"$f":"IF(Table!J23<>\"\",Table!J23,\"\")","v":""},{"$f":"IF(Table!K23<>\"\",Table!K23,\"\")","v":""},{"$f":"IF(Table!L23<>\"\",Table!L23,\"\")","v":""},{"$f":"IF(Table!M23<>\"\",Table!M23,\"\")","v":""},{"$f":"IF(Table!N23<>\"\",Table!N23,\"\")","v":""},{"$f":"IF(Table!O23<>\"\",Table!O23,\"\")","v":""},{"$f":"IF(Table!P23<>\"\",Table!P23,\"\")","v":""},{"$f":"IF(Table!Q23<>\"\",Table!Q23,\"\")","v":""},{"$f":"IF(Table!R23<>\"\",Table!R23,\"\")","v":""},{"$f":"IF(Table!S23<>\"\",Table!S23,\"\")","v":""},{"$f":"IF(Table!T23<>\"\",Table!T23,\"\")","v":""},{"$f":"IF(Table!U23<>\"\",Table!U23,\"\")","v":""},{"$f":"IF(Table!V23<>\"\",Table!V23,\"\")","v":""},{"$f":"IF(Table!W23<>\"\",Table!W23,\"\")","v":""},{"$f":"IF(Table!X23<>\"\",Table!X23,\"\")","v":""},{"$f":"IF(Table!Y23<>\"\",Table!Y23,\"\")","v":""},{"$f":"IF(Table!Z23<>\"\",Table!Z23,\"\")","v":""},{"$f":"IF(Table!AA23<>\"\",Table!AA23,\"\")","v":""},{"$f":"IF(Table!AB23<>\"\",Table!AB23,\"\")","v":""},{"$f":"IF(Table!AC23<>\"\",Table!AC23,\"\")","v":""},{"$f":"IF(Table!AD23<>\"\",Table!AD23,\"\")","v":""},{"$f":"IF(Table!AE23<>\"\",Table!AE23,\"\")","v":""}]
[{"$f":"IF(Table!A24<>\"\",Table!A24,\"\")","v":"2024-11-18"},{"$f":"IF(Table!A24<>\"\",Table!A24,\"\")","v":"2024-11-18"},{"$f":"IF(Table!J24<>\"\",Table!J24,\"\")","v":496},{"$f":"IF(Table!K24<>\"\",Table!K24,\"\")","v":1138},{"$f":"IF(Table!L24<>\"\",Table!L24,\"\")","v":459},{"$f":"IF(Table!M24<>\"\",Table!M24,\"\")","v":46.9},{"$f":"IF(Table!N24<>\"\",Table!N24,\"\")","v":197},{"$f":"IF(Table!O24<>\"\",Table!O24,\"\")","v":""},{"$f":"IF(Table!P24<>\"\",Table!P24,\"\")","v":""},{"$f":"IF(Table!Q24<>\"\",Table!Q24,\"\")","v":83},{"$f":"IF(Table!R24<>\"\",Table!R24,\"\")","v":""},{"$f":"IF(Table!S24<>\"\",Table!S24,\"\")","v":10},{"$f":"IF(Table!T24<>\"\",Table!T24,\"\")","v":""},{"$f":"IF(Table!U24<>\"\",Table!U24,\"\")","v":""},{"$f":"IF(Table!V24<>\"\",Table!V24,\"\")","v":""},{"$f":"IF(Table!W24<>\"\",Table!W24,\"\")","v":""},{"$f":"IF(Table!X24<>\"\",Table!X24,\"\")","v":""},{"$f":"IF(Table!Y24<>\"\",Table!Y24,\"\")","v":""},{"$f":"IF(Table!Z24<>\"\",Table!Z24,\"\")","v":""},{"$f":"IF(Table!AA24<>\"\",Table!AA24,\"\")","v":""},{"$f":"IF(Table!AB24<>\"\",Table!AB24,\"\")","v":""},{"$f":"IF(Table!AC24<>\"\",Table!AC24,\"\")","v":""},{"$f":"IF(Table!AD24<>\"\",Table!AD24,\"\")","v":""},{"$f":"IF(Table!AE24<>\"\",Table!AE24,\"\")","v":""}]
[{"$f":"IF(Table!A25<>\"\",Table!A25,\"\")","v":"2024-11-19"},{"$f":"IF(Table!A25<>\"\",Table!A25,\"\")","v":"2024-11-19"},{"$f":"IF(Table!J25<>\"\",Table!J25,\"\")","v":""},{"$f":"IF(Table!K25<>\"\",Table!K25,\"\")","v":""},{"$f":"IF(Table!L25<>\"\",Table!L25,\"\")","v":""},{"$f":"IF(Table!M25<>\"\",Table!M25,\"\")","v":""},{"$f":"IF(Table!N25<>\"\",Table!N25,\"\")","v":""},{"$f":"IF(Table!O25<>\"\",Table!O25,\"\")","v":""},{"$f":"IF(Table!P25<>\"\",Table!P25,\"\")","v":""},{"$f":"IF(Table!Q25<>\"\",Table!Q25,\"\")","v":""},{"$f":"IF(Table!R25<>\"\",Table!R25,\"\")","v":""},{"$f":"IF(Table!S25<>\"\",Table!S25,\"\")","v":""},{"$f":"IF(Table!T25<>\"\",Table!T25,\"\")","v":""},{"$f":"IF(Table!U25<>\"\",Table!U25,\"\")","v":""},{"$f":"IF(Table!V25<>\"\",Table!V25,\"\")","v":""},{"$f":"IF(Table!W25<>\"\",Table!W25,\"\")","v":""},{"$f":"IF(Table!X25<>\"\",Table!X25,\"\")","v":""},{"$f":"IF(Table!Y25<>\"\",Table!Y25,\"\")","v":""},{"$f":"IF(Table!Z25<>\"\",Table!Z25,\"\")","v":""},{"$f":"IF(Table!AA25<>\"\",Table!AA25,\"\")","v":""},{"$f":"IF(Table!AB25<>\"\",Table!AB25,\"\")","v":""},{"$f":"IF(Table!AC25<>\"\",Table!AC25,\"\")","v":""},{"$f":"IF(Table!AD25<>\"\",Table!AD25,\"\")","v":""},{"$f":"IF(Table!AE25<>\"\",Table!AE25,\"\")","v":""}]
[{"$f":"IF(Table!A26<>\"\",Table!A26,\"\")","v":"2024-11-20"},{"$f":"IF(Table!A26<>\"\",Table!A26,\"\")","v":"2024-11-20"},{"$f":"IF(Table!J26<>\"\",Table!J26,\"\")","v":""},{"$f":"IF(Table!K26<>\"\",Table!K26,\"\")","v":""},{"$f":"IF(Table!L26<>\"\",Table!L26,\"\")","v":""},{"$f":"IF(Table!M26<>\"\",Table!M26,\"\")","v":""},{"$f":"IF(Table!N26<>\"\",Table!N26,\"\")","v":""},{"$f":"IF(Table!O26<>\"\",Table!O26,\"\")","v":""},{"$f":"IF(Table!P26<>\"\",Table!P26,\"\")","v":""},{"$f":"IF(Table!Q26<>\"\",Table!Q26,\"\")","v":""},{"$f":"IF(Table!R26<>\"\",Table!R26,\"\")","v":""},{"$f":"IF(Table!S26<>\"\",Table!S26,\"\")","v":""},{"$f":"IF(Table!T26<>\"\",Table!T26,\"\")","v":""},{"$f":"IF(Table!U26<>\"\",Table!U26,\"\")","v":""},{"$f":"IF(Table!V26<>\"\",Table!V26,\"\")","v":""},{"$f":"IF(Table!W26<>\"\",Table!W26,\"\")","v":""},{"$f":"IF(Table!X26<>\"\",Table!X26,\"\")","v":""},{"$f":"IF(Table!Y26<>\"\",Table!Y26,\"\")","v":""},{"$f":"IF(Table!Z26<>\"\",Table!Z26,\"\")","v":""},{"$f":"IF(Table!AA26<>\"\",Table!AA26,\"\")","v":""},{"$f":"IF(Table!AB26<>\"\",Table!AB26,\"\")","v":""},{"$f":"IF(Table!AC26<>\"\",Table!AC26,\"\")","v":""},{"$f":"IF(Table!AD26<>\"\",Table!AD26,\"\")","v":""},{"$f":"IF(Table!AE26<>\"\",Table!AE26,\"\")","v":""}]
[{"$f":"IF(Table!A27<>\"\",Table!A27,\"\")","v":"2024-11-21"},{"$f":"IF(Table!A27<>\"\",Table!A27,\"\")","v":"2024-11-21"},{"$f":"IF(Table!J27<>\"\",Table!J27,\"\")","v":""},{"$f":"IF(Table!K27<>\"\",Table!K27,\"\")","v":""},{"$f":"IF(Table!L27<>\"\",Table!L27,\"\")","v":""},{"$f":"IF(Table!M27<>\"\",Table!M27,\"\")","v":""},{"$f":"IF(Table!N27<>\"\",Table!N27,\"\")","v":""},{"$f":"IF(Table!O27<>\"\",Table!O27,\"\")","v":""},{"$f":"IF(Table!P27<>\"\",Table!P27,\"\")","v":""},{"$f":"IF(Table!Q27<>\"\",Table!Q27,\"\")","v":""},{"$f":"IF(Table!R27<>\"\",Table!R27,\"\")","v":""},{"$f":"IF(Table!S27<>\"\",Table!S27,\"\")","v":""},{"$f":"IF(Table!T27<>\"\",Table!T27,\"\")","v":""},{"$f":"IF(Table!U27<>\"\",Table!U27,\"\")","v":""},{"$f":"IF(Table!V27<>\"\",Table!V27,\"\")","v":""},{"$f":"IF(Table!W27<>\"\",Table!W27,\"\")","v":""},{"$f":"IF(Table!X27<>\"\",Table!X27,\"\")","v":""},{"$f":"IF(Table!Y27<>\"\",Table!Y27,\"\")","v":""},{"$f":"IF(Table!Z27<>\"\",Table!Z27,\"\")","v":""},{"$f":"IF(Table!AA27<>\"\",Table!AA27,\"\")","v":""},{"$f":"IF(Table!AB27<>\"\",Table!AB27,\"\")","v":""},{"$f":"IF(Table!AC27<>\"\",Table!AC27,\"\")","v":""},{"$f":"IF(Table!AD27<>\"\",Table!AD27,\"\")","v":""},{"$f":"IF(Table!AE27<>\"\",Table!AE27,\"\")","v":""}]
[{"$f":"IF(Table!A28<>\"\",Table!A28,\"\")","v":"2024-11-22"},{"$f":"IF(Table!A28<>\"\",Table!A28,\"\")","v":"2024-11-22"},{"$f":"IF(Table!J28<>\"\",Table!J28,\"\")","v":""},{"$f":"IF(Table!K28<>\"\",Table!K28,\"\")","v":""},{"$f":"IF(Table!L28<>\"\",Table!L28,\"\")","v":""},{"$f":"IF(Table!M28<>\"\",Table!M28,\"\")","v":""},{"$f":"IF(Table!N28<>\"\",Table!N28,\"\")","v":""},{"$f":"IF(Table!O28<>\"\",Table!O28,\"\")","v":""},{"$f":"IF(Table!P28<>\"\",Table!P28,\"\")","v":""},{"$f":"IF(Table!Q28<>\"\",Table!Q28,\"\")","v":""},{"$f":"IF(Table!R28<>\"\",Table!R28,\"\")","v":""},{"$f":"IF(Table!S28<>\"\",Table!S28,\"\")","v":""},{"$f":"IF(Table!T28<>\"\",Table!T28,\"\")","v":""},{"$f":"IF(Table!U28<>\"\",Table!U28,\"\")","v":""},{"$f":"IF(Table!V28<>\"\",Table!V28,\"\")","v":""},{"$f":"IF(Table!W28<>\"\",Table!W28,\"\")","v":""},{"$f":"IF(Table!X28<>\"\",Table!X28,\"\")","v":""},{"$f":"IF(Table!Y28<>\"\",Table!Y28,\"\")","v":""},{"$f":"IF(Table!Z28<>\"\",Table!Z28,\"\")","v":""},{"$f":"IF(Table!AA28<>\"\",Table!AA28,\"\")","v":""},{"$f":"IF(Table!AB28<>\"\",Table!AB28,\"\")","v":""},{"$f":"IF(Table!AC28<>\"\",Table!AC28,\"\")","v":""},{"$f":"IF(Table!AD28<>\"\",Table!AD28,\"\")","v":""},{"$f":"IF(Table!AE28<>\"\",Table!AE28,\"\")","v":""}]
[{"$f":"IF(Table!A29<>\"\",Table!A29,\"\")","v":"2024-11-23"},{"$f":"IF(Table!A29<>\"\",Table!A29,\"\")","v":"2024-11-23"},{"$f":"IF(Table!J29<>\"\",Table!J29,\"\")","v":""},{"$f":"IF(Table!K29<>\"\",Table!K29,\"\")","v":""},{"$f":"IF(Table!L29<>\"\",Table!L29,\"\")","v":""},{"$f":"IF(Table!M29<>\"\",Table!M29,\"\")","v":""},{"$f":"IF(Table!N29<>\"\",Table!N29,\"\")","v":""},{"$f":"IF(Table!O29<>\"\",Table!O29,\"\")","v":""},{"$f":"IF(Table!P29<>\"\",Table!P29,\"\")","v":""},{"$f":"IF(Table!Q29<>\"\",Table!Q29,\"\")","v":""},{"$f":"IF(Table!R29<>\"\",Table!R29,\"\")","v":""},{"$f":"IF(Table!S29<>\"\",Table!S29,\"\")","v":""},{"$f":"IF(Table!T29<>\"\",Table!T29,\"\")","v":""},{"$f":"IF(Table!U29<>\"\",Table!U29,\"\")","v":""},{"$f":"IF(Table!V29<>\"\",Table!V29,\"\")","v":""},{"$f":"IF(Table!W29<>\"\",Table!W29,\"\")","v":""},{"$f":"IF(Table!X29<>\"\",Table!X29,\"\")","v":""},{"$f":"IF(Table!Y29<>\"\",Table!Y29,\"\")","v":""},{"$f":"IF(Table!Z29<>\"\",Table!Z29,\"\")","v":""},{"$f":"IF(Table!AA29<>\"\",Table!AA29,\"\")","v":""},{"$f":"IF(Table!AB29<>\"\",Table!AB29,\"\")","v":""},{"$f":"IF(Table!AC29<>\"\",Table!AC29,\"\")","v":""},{"$f":"IF(Table!AD29<>\"\",Table!AD29,\"\")","v":""},{"$f":"IF(Table!AE29<>\"\",Table!AE29,\"\")","v":""}]
[{"$f":"IF(Table!A30<>\"\",Table!A30,\"\")","v":"2024-11-24"},{"$f":"IF(Table!A30<>\"\",Table!A30,\"\")","v":"2024-11-24"},{"$f":"IF(Table!J30<>\"\",Table!J30,\"\")","v":""},{"$f":"IF(Table!K30<>\"\",Table!K30,\"\")","v":""},{"$f":"IF(Table!L30<>\"\",Table!L30,\"\")","v":""},{"$f":"IF(Table!M30<>\"\",Table!M30,\"\")","v":""},{"$f":"IF(Table!N30<>\"\",Table!N30,\"\")","v":""},{"$f":"IF(Table!O30<>\"\",Table!O30,\"\")","v":""},{"$f":"IF(Table!P30<>\"\",Table!P30,\"\")","v":""},{"$f":"IF(Table!Q30<>\"\",Table!Q30,\"\")","v":""},{"$f":"IF(Table!R30<>\"\",Table!R30,\"\")","v":""},{"$f":"IF(Table!S30<>\"\",Table!S30,\"\")","v":""},{"$f":"IF(Table!T30<>\"\",Table!T30,\"\")","v":""},{"$f":"IF(Table!U30<>\"\",Table!U30,\"\")","v":""},{"$f":"IF(Table!V30<>\"\",Table!V30,\"\")","v":""},{"$f":"IF(Table!W30<>\"\",Table!W30,\"\")","v":""},{"$f":"IF(Table!X30<>\"\",Table!X30,\"\")","v":""},{"$f":"IF(Table!Y30<>\"\",Table!Y30,\"\")","v":""},{"$f":"IF(Table!Z30<>\"\",Table!Z30,\"\")","v":""},{"$f":"IF(Table!AA30<>\"\",Table!AA30,\"\")","v":""},{"$f":"IF(Table!AB30<>\"\",Table!AB30,\"\")","v":""},{"$f":"IF(Table!AC30<>\"\",Table!AC30,\"\")","v":""},{"$f":"IF(Table!AD30<>\"\",Table!AD30,\"\")","v":""},{"$f":"IF(Table!AE30<>\"\",Table!AE30,\"\")","v":""}]
[{"$f":"IF(Table!A31<>\"\",Table!A31,\"\")","v":"2024-11-25"},{"$f":"IF(Table!A31<>\"\",Table!A31,\"\")","v":"2024-11-25"},{"$f":"IF(Table!J31<>\"\",Table!J31,\"\")","v":""},{"$f":"IF(Table!K31<>\"\",Table!K31,\"\")","v":""},{"$f":"IF(Table!L31<>\"\",Table!L31,\"\")","v":""},{"$f":"IF(Table!M31<>\"\",Table!M31,\"\")","v":""},{"$f":"IF(Table!N31<>\"\",Table!N31,\"\")","v":""},{"$f":"IF(Table!O31<>\"\",Table!O31,\"\")","v":""},{"$f":"IF(Table!P31<>\"\",Table!P31,\"\")","v":""},{"$f":"IF(Table!Q31<>\"\",Table!Q31,\"\")","v":74},{"$f":"IF(Table!R31<>\"\",Table!R31,\"\")","v":""},{"$f":"IF(Table!S31<>\"\",Table!S31,\"\")","v":""},{"$f":"IF(Table!T31<>\"\",Table!T31,\"\")","v":""},{"$f":"IF(Table!U31<>\"\",Table!U31,\"\")","v":""},{"$f":"IF(Table!V31<>\"\",Table!V31,\"\")","v":""},{"$f":"IF(Table!W31<>\"\",Table!W31,\"\")","v":""},{"$f":"IF(Table!X31<>\"\",Table!X31,\"\")","v":""},{"$f":"IF(Table!Y31<>\"\",Table!Y31,\"\")","v":""},{"$f":"IF(Table!Z31<>\"\",Table!Z31,\"\")","v":""},{"$f":"IF(Table!AA31<>\"\",Table!AA31,\"\")","v":""},{"$f":"IF(Table!AB31<>\"\",Table!AB31,\"\")","v":""},{"$f":"IF(Table!AC31<>\"\",Table!AC31,\"\")","v":""},{"$f":"IF(Table!AD31<>\"\",Table!AD31,\"\")","v":""},{"$f":"IF(Table!AE31<>\"\",Table!AE31,\"\")","v":""}]
[{"$f":"IF(Table!A32<>\"\",Table!A32,\"\")","v":"2024-11-26"},{"$f":"IF(Table!A32<>\"\",Table!A32,\"\")","v":"2024-11-26"},{"$f":"IF(Table!J32<>\"\",Table!J32,\"\")","v":""},{"$f":"IF(Table!K32<>\"\",Table!K32,\"\")","v":""},{"$f":"IF(Table!L32<>\"\",Table!L32,\"\")","v":""},{"$f":"IF(Table!M32<>\"\",Table!M32,\"\")","v":""},{"$f":"IF(Table!N32<>\"\",Table!N32,\"\")","v":""},{"$f":"IF(Table!O32<>\"\",Table!O32,\"\")","v":""},{"$f":"IF(Table!P32<>\"\",Table!P32,\"\")","v":""},{"$f":"IF(Table!Q32<>\"\",Table!Q32,\"\")","v":""},{"$f":"IF(Table!R32<>\"\",Table!R32,\"\")","v":""},{"$f":"IF(Table!S32<>\"\",Table!S32,\"\")","v":""},{"$f":"IF(Table!T32<>\"\",Table!T32,\"\")","v":""},{"$f":"IF(Table!U32<>\"\",Table!U32,\"\")","v":""},{"$f":"IF(Table!V32<>\"\",Table!V32,\"\")","v":""},{"$f":"IF(Table!W32<>\"\",Table!W32,\"\")","v":""},{"$f":"IF(Table!X32<>\"\",Table!X32,\"\")","v":""},{"$f":"IF(Table!Y32<>\"\",Table!Y32,\"\")","v":""},{"$f":"IF(Table!Z32<>\"\",Table!Z32,\"\")","v":""},{"$f":"IF(Table!AA32<>\"\",Table!AA32,\"\")","v":""},{"$f":"IF(Table!AB32<>\"\",Table!AB32,\"\")","v":""},{"$f":"IF(Table!AC32<>\"\",Table!AC32,\"\")","v":""},{"$f":"IF(Table!AD32<>\"\",Table!AD32,\"\")","v":""},{"$f":"IF(Table!AE32<>\"\",Table!AE32,\"\")","v":""}]
[{"$f":"IF(Table!A33<>\"\",Table!A33,\"\")","v":"2024-11-27"},{"$f":"IF(Table!A33<>\"\",Table!A33,\"\")","v":"2024-11-27"},{"$f":"IF(Table!J33<>\"\",Table!J33,\"\")","v":""},{"$f":"IF(Table!K33<>\"\",Table!K33,\"\")","v":""},{"$f":"IF(Table!L33<>\"\",Table!L33,\"\")","v":""},{"$f":"IF(Table!M33<>\"\",Table!M33,\"\")","v":""},{"$f":"IF(Table!N33<>\"\",Table!N33,\"\")","v":""},{"$f":"IF(Table!O33<>\"\",Table!O33,\"\")","v":""},{"$f":"IF(Table!P33<>\"\",Table!P33,\"\")","v":""},{"$f":"IF(Table!Q33<>\"\",Table!Q33,\"\")","v":""},{"$f":"IF(Table!R33<>\"\",Table!R33,\"\")","v":""},{"$f":"IF(Table!S33<>\"\",Table!S33,\"\")","v":""},{"$f":"IF(Table!T33<>\"\",Table!T33,\"\")","v":""},{"$f":"IF(Table!U33<>\"\",Table!U33,\"\")","v":""},{"$f":"IF(Table!V33<>\"\",Table!V33,\"\")","v":""},{"$f":"IF(Table!W33<>\"\",Table!W33,\"\")","v":""},{"$f":"IF(Table!X33<>\"\",Table!X33,\"\")","v":""},{"$f":"IF(Table!Y33<>\"\",Table!Y33,\"\")","v":""},{"$f":"IF(Table!Z33<>\"\",Table!Z33,\"\")","v":""},{"$f":"IF(Table!AA33<>\"\",Table!AA33,\"\")","v":""},{"$f":"IF(Table!AB33<>\"\",Table!AB33,\"\")","v":""},{"$f":"IF(Table!AC33<>\"\",Table!AC33,\"\")","v":""},{"$f":"IF(Table!AD33<>\"\",Table!AD33,\"\")","v":""},{"$f":"IF(Table!AE33<>\"\",Table!AE33,\"\")","v":""}]
[{"$f":"IF(Table!A34<>\"\",Table!A34,\"\")","v":"2024-11-28"},{"$f":"IF(Table!A34<>\"\",Table!A34,\"\")","v":"2024-11-28"},{"$f":"IF(Table!J34<>\"\",Table!J34,\"\")","v":""},{"$f":"IF(Table!K34<>\"\",Table!K34,\"\")","v":""},{"$f":"IF(Table!L34<>\"\",Table!L34,\"\")","v":""},{"$f":"IF(Table!M34<>\"\",Table!M34,\"\")","v":""},{"$f":"IF(Table!N34<>\"\",Table!N34,\"\")","v":""},{"$f":"IF(Table!O34<>\"\",Table!O34,\"\")","v":""},{"$f":"IF(Table!P34<>\"\",Table!P34,\"\")","v":""},{"$f":"IF(Table!Q34<>\"\",Table!Q34,\"\")","v":""},{"$f":"IF(Table!R34<>\"\",Table!R34,\"\")","v":""},{"$f":"IF(Table!S34<>\"\",Table!S34,\"\")","v":""},{"$f":"IF(Table!T34<>\"\",Table!T34,\"\")","v":""},{"$f":"IF(Table!U34<>\"\",Table!U34,\"\")","v":""},{"$f":"IF(Table!V34<>\"\",Table!V34,\"\")","v":""},{"$f":"IF(Table!W34<>\"\",Table!W34,\"\")","v":""},{"$f":"IF(Table!X34<>\"\",Table!X34,\"\")","v":""},{"$f":"IF(Table!Y34<>\"\",Table!Y34,\"\")","v":""},{"$f":"IF(Table!Z34<>\"\",Table!Z34,\"\")","v":""},{"$f":"IF(Table!AA34<>\"\",Table!AA34,\"\")","v":""},{"$f":"IF(Table!AB34<>\"\",Table!AB34,\"\")","v":""},{"$f":"IF(Table!AC34<>\"\",Table!AC34,\"\")","v":""},{"$f":"IF(Table!AD34<>\"\",Table!AD34,\"\")","v":""},{"$f":"IF(Table!AE34<>\"\",Table!AE34,\"\")","v":""}]
[{"$f":"IF(Table!A35<>\"\",Table!A35,\"\")","v":"2024-11-29"},{"$f":"IF(Table!A35<>\"\",Table!A35,\"\")","v":"2024-11-29"},{"$f":"IF(Table!J35<>\"\",Table!J35,\"\")","v":""},{"$f":"IF(Table!K35<>\"\",Table!K35,\"\")","v":""},{"$f":"IF(Table!L35<>\"\",Table!L35,\"\")","v":""},{"$f":"IF(Table!M35<>\"\",Table!M35,\"\")","v":""},{"$f":"IF(Table!N35<>\"\",Table!N35,\"\")","v":""},{"$f":"IF(Table!O35<>\"\",Table!O35,\"\")","v":""},{"$f":"IF(Table!P35<>\"\",Table!P35,\"\")","v":""},{"$f":"IF(Table!Q35<>\"\",Table!Q35,\"\")","v":""},{"$f":"IF(Table!R35<>\"\",Table!R35,\"\")","v":""},{"$f":"IF(Table!S35<>\"\",Table!S35,\"\")","v":""},{"$f":"IF(Table!T35<>\"\",Table!T35,\"\")","v":""},{"$f":"IF(Table!U35<>\"\",Table!U35,\"\")","v":""},{"$f":"IF(Table!V35<>\"\",Table!V35,\"\")","v":""},{"$f":"IF(Table!W35<>\"\",Table!W35,\"\")","v":""},{"$f":"IF(Table!X35<>\"\",Table!X35,\"\")","v":""},{"$f":"IF(Table!Y35<>\"\",Table!Y35,\"\")","v":""},{"$f":"IF(Table!Z35<>\"\",Table!Z35,\"\")","v":""},{"$f":"IF(Table!AA35<>\"\",Table!AA35,\"\")","v":""},{"$f":"IF(Table!AB35<>\"\",Table!AB35,\"\")","v":""},{"$f":"IF(Table!AC35<>\"\",Table!AC35,\"\")","v":""},{"$f":"IF(Table!AD35<>\"\",Table!AD35,\"\")","v":""},{"$f":"IF(Table!AE35<>\"\",Table!AE35,\"\")","v":""}]
[{"$f":"IF(Table!A36<>\"\",Table!A36,\"\")","v":"2024-11-30"},{"$f":"IF(Table!A36<>\"\",Table!A36,\"\")","v":"2024-11-30"},{"$f":"IF(Table!J36<>\"\",Table!J36,\"\")","v":""},{"$f":"IF(Table!K36<>\"\",Table!K36,\"\")","v":""},{"$f":"IF(Table!L36<>\"\",Table!L36,\"\")","v":""},{"$f":"IF(Table!M36<>\"\",Table!M36,\"\")","v":""},{"$f":"IF(Table!N36<>\"\",Table!N36,\"\")","v":""},{"$f":"IF(Table!O36<>\"\",Table!O36,\"\")","v":""},{"$f":"IF(Table!P36<>\"\",Table!P36,\"\")","v":""},{"$f":"IF(Table!Q36<>\"\",Table!Q36,\"\")","v":""},{"$f":"IF(Table!R36<>\"\",Table!R36,\"\")","v":""},{"$f":"IF(Table!S36<>\"\",Table!S36,\"\")","v":""},{"$f":"IF(Table!T36<>\"\",Table!T36,\"\")","v":""},{"$f":"IF(Table!U36<>\"\",Table!U36,\"\")","v":""},{"$f":"IF(Table!V36<>\"\",Table!V36,\"\")","v":""},{"$f":"IF(Table!W36<>\"\",Table!W36,\"\")","v":""},{"$f":"IF(Table!X36<>\"\",Table!X36,\"\")","v":""},{"$f":"IF(Table!Y36<>\"\",Table!Y36,\"\")","v":""},{"$f":"IF(Table!Z36<>\"\",Table!Z36,\"\")","v":""},{"$f":"IF(Table!AA36<>\"\",Table!AA36,\"\")","v":""},{"$f":"IF(Table!AB36<>\"\",Table!AB36,\"\")","v":""},{"$f":"IF(Table!AC36<>\"\",Table!AC36,\"\")","v":""},{"$f":"IF(Table!AD36<>\"\",Table!AD36,\"\")","v":""},{"$f":"IF(Table!AE36<>\"\",Table!AE36,\"\")","v":""}]
[{"$f":"IF(Table!A37<>\"\",Table!A37,\"\")","v":"2024-12-01"},{"$f":"IF(Table!A37<>\"\",Table!A37,\"\")","v":"2024-12-01"},{"$f":"IF(Table!J37<>\"\",Table!J37,\"\")","v":""},{"$f":"IF(Table!K37<>\"\",Table!K37,\"\")","v":""},{"$f":"IF(Table!L37<>\"\",Table!L37,\"\")","v":""},{"$f":"IF(Table!M37<>\"\",Table!M37,\"\")","v":""},{"$f":"IF(Table!N37<>\"\",Table!N37,\"\")","v":""},{"$f":"IF(Table!O37<>\"\",Table!O37,\"\")","v":""},{"$f":"IF(Table!P37<>\"\",Table!P37,\"\")","v":""},{"$f":"IF(Table!Q37<>\"\",Table!Q37,\"\")","v":""},{"$f":"IF(Table!R37<>\"\",Table!R37,\"\")","v":""},{"$f":"IF(Table!S37<>\"\",Table!S37,\"\")","v":""},{"$f":"IF(Table!T37<>\"\",Table!T37,\"\")","v":""},{"$f":"IF(Table!U37<>\"\",Table!U37,\"\")","v":""},{"$f":"IF(Table!V37<>\"\",Table!V37,\"\")","v":""},{"$f":"IF(Table!W37<>\"\",Table!W37,\"\")","v":""},{"$f":"IF(Table!X37<>\"\",Table!X37,\"\")","v":""},{"$f":"IF(Table!Y37<>\"\",Table!Y37,\"\")","v":""},{"$f":"IF(Table!Z37<>\"\",Table!Z37,\"\")","v":""},{"$f":"IF(Table!AA37<>\"\",Table!AA37,\"\")","v":""},{"$f":"IF(Table!AB37<>\"\",Table!AB37,\"\")","v":""},{"$f":"IF(Table!AC37<>\"\",Table!AC37,\"\")","v":""},{"$f":"IF(Table!AD37<>\"\",Table!AD37,\"\")","v":""},{"$f":"IF(Table!AE37<>\"\",Table!AE37,\"\")","v":""}]
["סה\"כ לחודש"]
["ממוצע ",null,{"$f":"AVERAGE(C7:C37)","v":396},{"$f":"AVERAGE(D7:D37)","v":928},376.5,40.875,159.5,0,6.4,70,0,10,287,109,214,8.1999999999999993,2.1,0,5.0000000000000001E-3,0,0,0,0,0]
["מקסימום ",null,{"$f":"MAX(C7:C37)","v":496},{"$f":"MAX(D7:D37)","v":1138},459,46.9,197,0,6.4,83,0,10,287,109,214,8.1999999999999993,2.1,0,5.0000000000000001E-3,0,0,0,0,0]
["מינימום ",null,{"$f":"MIN(C7:C37)","v":296},{"$f":"MIN(D7:D37)","v":718},294,34.85,122,0,6.4,56,0,10,287,109,214,8.1999999999999993,2.1,0,5.0000000000000001E-3,0,0,0,0,0]

{"sheet":"קולחין שניוני","index":3,"n_rows":41,"n_cols":15,"rows_kept":41,"cut":false,"hidden":false,"merged":[[40,0,40,1],[37,0,37,1],[38,0,38,1],[39,0,39,1],[2,0,2,1],[1,4,1,14],[1,0,1,3],[3,0,3,1],[3,2,3,4],[3,5,3,7],[3,8,3,12],[2,2,2,14],[3,14,5,14],[4,0,5,0],[4,1,5,1]]}
[]
[{"$f":"סיכום!C11","v":"מט\"ש נובמבר 2024"},null,null,null,"נתוני תפעול   - גליון  3 - איכות קולחין שניוני"]
["יחידת פעולה",null,"מעבדה"]
["תדירות",null,"פעמיים בשבוע",null,null,"פעם בשבוע",null,null,"פעם בחודש",null,null,null,null,"פעם בשלושה חודשים: ינואר, אפריל, יולי, אוקטובר ","זמן שהייה ב-SBR"]
["תאריך","יום בשבוע","צח\"ב","צח\"כ","מוצקים מרחפים","חנקן אמוניאקלי","חנקן כללי","זרחן כללי","דטרגנט אניוני","כלורידים","שמן מינרלי","מוליכות","סריקת מתכות","ציאניד"]
[null,null,"מג\"ל","מג\"ל","מג\"ל","מג\"ל","מג\"ל","מג\"ל","מג\"ל","מג\"ל","מג\"ל","cm/s","מג\"ל","מג\"ל"]
[{"$f":"IF(Table!A7<>\"\",Table!A7,\"\")","v":"2024-11-01"},{"$f":"IF(Table!A7<>\"\",Table!A7,\"\")","v":"2024-11-01"},{"$f":"IF(Table!AH7<>\"\",Table!AH7,\"\")","v":""},{"$f":"IF(Table!AI7<>\"\",Table!AI7,\"\")","v":""},{"$f":"IF(Table!AJ7<>\"\",Table!AJ7,\"\")","v":""},{"$f":"IF(Table!AK7<>\"\",Table!AK7,\"\")","v":""},{"$f":"IF(Table!AL7<>\"\",Table!AL7,\"\")","v":""},{"$f":"IF(Table!AM7<>\"\",Table!AM7,\"\")","v":""},{"$f":"IF(Table!AN7<>\"\",Table!AN7,\"\")","v":""},{"$f":"IF(Table!AO7<>\"\",Table!AO7,\"\")","v":""},{"$f":"IF(Table!AP7<>\"\",Table!AP7,\"\")","v":""},{"$f":"IF(Table!AQ7<>\"\",Table!AQ7,\"\")","v":""},{"$f":"IF(Table!AR7<>\"\",Table!AR7,\"\")","v":""},{"$f":"IF(Table!AS7<>\"\",Table!AS7,\"\")","v":""},{"$f":"IF(ספיקות!E7<>\"\",(24*Table!CS7)/ספיקות!E7,\"\")","v":22.647444298820446}]
[{"$f":"IF(Table!A8<>\"\",Table!A8,\"\")","v":"2024-11-02"},{"$f":"IF(Table!A8<>\"\",Table!A8,\"\")","v":"2024-11-02"},{"$f":"IF(Table!AU8<>\"\",Table!AU8,\"\")","v":""},{"$f":"IF(Table!AV8<>\"\",Table!AV8,\"\")","v":""},{"$f":"IF(Table!AW8<>\"\",Table!AW8,\"\")","v":""},{"$f":"IF(Table!AK8<>\"\",Table!AK8,\"\")","v":""},{"$f":"IF(Table!AL8<>\"\",Table!AL8,\"\")","v":""},{"$f":"IF(Table!AM8<>\"\",Table!AM8,\"\")","v":""},{"$f":"IF(Table!AN8<>\"\",Table!AN8,\"\")","v":""},{"$f":"IF(Table!AO8<>\"\",Table!AO8,\"\")","v":""},{"$f":"IF(Table!AP8<>\"\",Table!AP8,\"\")","v":""},{"$f":"IF(Table!AQ8<>\"\",Table!AQ8,\"\")","v":""},{"$f":"IF(Table!AR8<>\"\",Table!AR8,\"\")","v":""},{"$f":"IF(Table!AS8<>\"\",Table!AS8,\"\")","v":""},{"$f":"IF(ספיקות!E8<>\"\",(24*Table!CS8)/ספיקות!E8,\"\")","v":24}]
[{"$f":"IF(Table!A9<>\"\",Table!A9,\"\")","v":"2024-11-03"},{"$f":"IF(Table!A9<>\"\",Table!A9,\"\")","v":"2024-11-03"},{"$f":"IF(Table!AH9<>\"\",Table!AH9,\"\")","v":""},{"$f":"IF(Table!AI9<>\"\",Table!AI9,\"\")","v":""},{"$f":"IF(Table!AJ9<>\"\",Table!AJ9,\"\")","v":""},{"$f":"IF(Table!AK9<>\"\",Table!AK9,\"\")","v":""},{"$f":"IF(Table!AL9<>\"\",Table!AL9,\"\")","v":""},{"$f":"IF(Table!AM9<>\"\",Table!AM9,\"\")","v":""},{"$f":"IF(Table!AN9<>\"\",Table!AN9,\"\")","v":""},{"$f":"IF(Table!AO9<>\"\",Table!AO9,\"\")","v":""},{"$f":"IF(Table!AP9<>\"\",Table!AP9,\"\")","v":""},{"$f":"IF(Table!AQ9<>\"\",Table!AQ9,\"\")","v":""},{"$f":"IF(Table!AR9<>\"\",Table!AR9,\"\")","v":""},0,{"$f":"IF(ספיקות!E9<>\"\",(24*Table!CS9)/ספיקות!E9,\"\")","v":22.225080385852092}]
[{"$f":"IF(Table!A10<>\"\",Table!A10,\"\")","v":"2024-11-04"},{"$f":"IF(Table!A10<>\"\",Table!A10,\"\")","v":"2024-11-04"},{"$f":"IF(Table!AH10<>\"\",Table!AH10,\"\")","v":5},{"$f":"IF(Table!AI10<>\"\",Table!AI10,\"\")","v":25},{"$f":"IF(Table!AJ10<>\"\",Table!AJ10,\"\")","v":5},{"$f":"IF(Table!AK11<>\"\",Table!AK11,\"\")","v":""},{"$f":"IF(Table!AL10<>\"\",Table!AL10,\"\")","v":5.9},{"$f":"IF(Table!AM10<>\"\",Table!AM10,\"\")","v":5.2},{"$f":"IF(Table!AN10<>\"\",Table!AN10,\"\")","v":0.05},{"$f":"IF(Table!AO10<>\"\",Table!AO10,\"\")","v":230},{"$f":"IF(Table!AP10<>\"\",Table!AP10,\"\")","v":10},{"$f":"IF(Table!AQ10<>\"\",Table!AQ10,\"\")","v":1.45},{"$f":"IF(Table!AR10<>\"\",Table!AR10,\"\")","v":""},{"$f":"IF(Table!AS10<>\"\",Table!AS10,\"\")","v":""},{"$f":"IF(ספיקות!E10<>\"\",(24*Table!CS10)/ספיקות!E10,\"\")","v":23.719972546328073}]
[{"$f":"IF(Table!A11<>\"\",Table!A11,\"\")","v":"2024-11-05"},{"$f":"IF(Table!A11<>\"\",Table!A11,\"\")","v":"2024-11-05"},{"$f":"IF(Table!AH11<>\"\",Table!AH11,\"\")","v":""},{"$f":"IF(Table!AI11<>\"\",Table!AI11,\"\")","v":""},{"$f":"IF(Table!AJ11<>\"\",Table!AJ11,\"\")","v":""},{"$f":"IF(Table!AK12<>\"\",Table!AK12,\"\")","v":""},{"$f":"IF(Table!AL11<>\"\",Table!AL11,\"\")","v":""},{"$f":"IF(Table!AM11<>\"\",Table!AM11,\"\")","v":""},{"$f":"IF(Table!AN11<>\"\",Table!AN11,\"\")","v":""},{"$f":"IF(Table!AO11<>\"\",Table!AO11,\"\")","v":""},{"$f":"IF(Table!AP11<>\"\",Table!AP11,\"\")","v":""},{"$f":"IF(Table!AQ11<>\"\",Table!AQ11,\"\")","v":""},{"$f":"IF(Table!AR11<>\"\",Table!AR11,\"\")","v":""},{"$f":"IF(Table!AS11<>\"\",Table!AS11,\"\")","v":""},{"$f":"IF(ספיקות!E11<>\"\",(24*Table!CS11)/ספיקות!E11,\"\")","v":23.351351351351351}]
[{"$f":"IF(Table!A12<>\"\",Table!A12,\"\")","v":"2024-11-06"},{"$f":"IF(Table!A12<>\"\",Table!A12,\"\")","v":"2024-11-06"},{"$f":"IF(Table!AH12<>\"\",Table!AH12,\"\")","v":""},{"$f":"IF(Table!AI12<>\"\",Table!AI12,\"\")","v":""},{"$f":"IF(Table!AJ12<>\"\",Table!AJ12,\"\")","v":""},{"$f":"IF(Table!AK13<>\"\",Table!AK13,\"\")","v":""},{"$f":"IF(Table!AL12<>\"\",Table!AL12,\"\")","v":""},{"$f":"IF(Table!AM12<>\"\",Table!AM12,\"\")","v":""},{"$f":"IF(Table!AN12<>\"\",Table!AN12,\"\")","v":""},{"$f":"IF(Table!AO12<>\"\",Table!AO12,\"\")","v":""},{"$f":"IF(Table!AP12<>\"\",Table!AP12,\"\")","v":""},{"$f":"IF(Table!AQ12<>\"\",Table!AQ12,\"\")","v":""},{"$f":"IF(Table!AR12<>\"\",Table!AR12,\"\")","v":""},{"$f":"IF(Table!AS12<>\"\",Table!AS12,\"\")","v":""},{"$f":"IF(ספיקות!E12<>\"\",(24*Table!CS12)/ספיקות!E12,\"\")","v":23.510204081632654}]
[{"$f":"IF(Table!A13<>\"\",Table!A13,\"\")","v":"2024-11-07"},{"$f":"IF(Table!A13<>\"\",Table!A13,\"\")","v":"2024-11-07"},{"$f":"IF(Table!AH13<>\"\",Table!AH13,\"\")","v":""},{"$f":"IF(Table!AI13<>\"\",Table!AI13,\"\")","v":""},{"$f":"IF(Table!AJ13<>\"\",Table!AJ13,\"\")","v":""},{"$f":"IF(Table!AK13<>\"\",Table!AK13,\"\")","v":""},{"$f":"IF(Table!AL13<>\"\",Table!AL13,\"\")","v":""},{"$f":"IF(Table!AM13<>\"\",Table!AM13,\"\")","v":""},{"$f":"IF(Table!AN13<>\"\",Table!AN13,\"\")","v":""},{"$f":"IF(Table!AO13<>\"\",Table!AO13,\"\")","v":""},{"$f":"IF(Table!AP13<>\"\",Table!AP13,\"\")","v":""},{"$f":"IF(Table!AQ13<>\"\",Table!AQ13,\"\")","v":""},{"$f":"IF(Table!AR13<>\"\",Table!AR13,\"\")","v":""},{"$f":"IF(Table!AS13<>\"\",Table!AS13,\"\")","v":""},{"$f":"IF(ספיקות!E13<>\"\",(24*Table!CS13)/ספיקות!E13,\"\")","v":22.978723404255319}]
[{"$f":"IF(Table!A14<>\"\",Table!A14,\"\")","v":"2024-11-08"},{"$f":"IF(Table!A14<>\"\",Table!A14,\"\")","v":"2024-11-08"},{"$f":"IF(Table!AH14<>\"\",Table!AH14,\"\")","v":""},{"$f":"IF(Table!AI14<>\"\",Table!AI14,\"\")","v":""},{"$f":"IF(Table!AJ14<>\"\",Table!AJ14,\"\")","v":""},{"$f":"IF(Table!AK14<>\"\",Table!AK14,\"\")","v":""},{"$f":"IF(Table!AL14<>\"\",Table!AL14,\"\")","v":""},{"$f":"IF(Table!AM14<>\"\",Table!AM14,\"\")","v":""},{"$f":"IF(Table!AN14<>\"\",Table!AN14,\"\")","v":""},{"$f":"IF(Table!AO14<>\"\",Table!AO14,\"\")","v":""},{"$f":"IF(Table!AP14<>\"\",Table!AP14,\"\")","v":""},{"$f":"IF(Table!AQ14<>\"\",Table!AQ14,\"\")","v":""},{"$f":"IF(Table!AR14<>\"\",Table!AR14,\"\")","v":""},{"$f":"IF(Table!AS14<>\"\",Table!AS14,\"\")","v":""},{"$f":"IF(ספיקות!E14<>\"\",(24*Table!CS14)/ספיקות!E14,\"\")","v":22.632612966601179}]
[{"$f":"IF(Table!A15<>\"\",Table!A15,\"\")","v":"2024-11-09"},{"$f":"IF(Table!A15<>\"\",Table!A15,\"\")","v":"2024-11-09"},{"$f":"IF(Table!AH15<>\"\",Table!AH15,\"\")","v":""},{"$f":"IF(Table!AI15<>\"\",Table!AI15,\"\")","v":""},{"$f":"IF(Table!AJ15<>\"\",Table!AJ15,\"\")","v":""},{"$f":"IF(Table!AK15<>\"\",Table!AK15,\"\")","v":""},{"$f":"IF(Table!AL15<>\"\",Table!AL15,\"\")","v":""},{"$f":"IF(Table!AM15<>\"\",Table!AM15,\"\")","v":""},{"$f":"IF(Table!AN15<>\"\",Table!AN15,\"\")","v":""},{"$f":"IF(Table!AO15<>\"\",Table!AO15,\"\")","v":""},{"$f":"IF(Table!AP15<>\"\",Table!AP15,\"\")","v":""},{"$f":"IF(Table!AQ15<>\"\",Table!AQ15,\"\")","v":""},{"$f":"IF(Table!AR15<>\"\",Table!AR15,\"\")","v":""},{"$f":"IF(Table!AS15<>\"\",Table!AS15,\"\")","v":""},{"$f":"IF(ספיקות!E15<>\"\",(24*Table!CS15)/ספיקות!E15,\"\")","v":22.796833773087073}]
[{"$f":"IF(Table!A16<>\"\",Table!A16,\"\")","v":"2024-11-10"},{"$f":"IF(Table!A16<>\"\",Table!A16,\"\")","v":"2024-11-10"},{"$f":"IF(Table!AH16<>\"\",Table!AH16,\"\")","v":""},{"$f":"IF(Table!AI16<>\"\",Table!AI16,\"\")","v":""},{"$f":"IF(Table!AJ16<>\"\",Table!AJ16,\"\")","v":""},{"$f":"IF(Table!AK16<>\"\",Table!AK16,\"\")","v":""},{"$f":"IF(Table!AL16<>\"\",Table!AL16,\"\")","v":""},{"$f":"IF(Table!AM16<>\"\",Table!AM16,\"\")","v":""},{"$f":"IF(Table!AN16<>\"\",Table!AN16,\"\")","v":""},{"$f":"IF(Table!AO16<>\"\",Table!AO16,\"\")","v":""},{"$f":"IF(Table!AP16<>\"\",Table!AP16,\"\")","v":""},{"$f":"IF(Table!AQ16<>\"\",Table!AQ16,\"\")","v":""},{"$f":"IF(Table!AR16<>\"\",Table!AR16,\"\")","v":""},{"$f":"IF(Table!AS16<>\"\",Table!AS16,\"\")","v":""},{"$f":"IF(ספיקות!E16<>\"\",(24*Table!CS16)/ספיקות!E16,\"\")","v":22.325581395348838}]
[{"$f":"IF(Table!A17<>\"\",Table!A17,\"\")","v":"2024-11-11"},{"$f":"IF(Table!A17<>\"\",Table!A17,\"\")","v":"2024-11-11"},{"$f":"IF(Table!AH17<>\"\",Table!AH17,\"\")","v":""},{"$f":"IF(Table!AI17<>\"\",Table!AI17,\"\")","v":""},{"$f":"IF(Table!AJ17<>\"\",Table!AJ17,\"\")","v":""},{"$f":"IF(Table!AK17<>\"\",Table!AK17,\"\")","v":""},{"$f":"IF(Table!AL17<>\"\",Table!AL17,\"\")","v":""},{"$f":"IF(Table!AM17<>\"\",Table!AM17,\"\")","v":""},{"$f":"IF(Table!AN17<>\"\",Table!AN17,\"\")","v":""},{"$f":"IF(Table!AO17<>\"\",Table!AO17,\"\")","v":""},{"$f":"IF(Table!AP17<>\"\",Table!AP17,\"\")","v":""},{"$f":"IF(Table!AQ17<>\"\",Table!AQ17,\"\")","v":""},{"$f":"IF(Table!AR17<>\"\",Table!AR17,\"\")","v":""},{"$f":"IF(Table!AS17<>\"\",Table!AS17,\"\")","v":""},{"$f":"IF(ספיקות!E17<>\"\",(24*Table!CS17)/ספיקות!E17,\"\")","v":23.526208304969366}]
[{"$f":"IF(Table!A18<>\"\",Table!A18,\"\")","v":"2024-11-12"},{"$f":"IF(Table!A18<>\"\",Table!A18,\"\")","v":"2024-11-12"},{"$f":"IF(Table!AH18<>\"\",Table!AH18,\"\")","v":""},{"$f":"IF(Table!AI18<>\"\",Table!AI18,\"\")","v":""},{"$f":"IF(Table!AJ18<>\"\",Table!AJ18,\"\")","v":""},{"$f":"IF(Table!AK18<>\"\",Table!AK18,\"\")","v":""},{"$f":"IF(Table!AL18<>\"\",Table!AL18,\"\")","v":""},{"$f":"IF(Table!AM18<>\"\",Table!AM18,\"\")","v":""},{"$f":"IF(Table!AN18<>\"\",Table!AN18,\"\")","v":""},{"$f":"IF(Table!AO18<>\"\",Table!AO18,\"\")","v":""},{"$f":"IF(Table!AP18<>\"\",Table!AP18,\"\")","v":""},{"$f":"IF(Table!AQ18<>\"\",Table!AQ18,\"\")","v":""},{"$f":"IF(Table!AR18<>\"\",Table!AR18,\"\")","v":""},{"$f":"IF(Table!AS18<>\"\",Table!AS18,\"\")","v":""},{"$f":"IF(ספיקות!E18<>\"\",(24*Table!CS18)/ספיקות!E18,\"\")","v":24.774193548387096}]
[{"$f":"IF(Table!A19<>\"\",Table!A19,\"\")","v":"2024-11-13"},{"$f":"IF(Table!A19<>\"\",Table!A19,\"\")","v":"2024-11-13"},{"$f":"IF(Table!AH19<>\"\",Table!AH19,\"\")","v":""},{"$f":"IF(Table!AI19<>\"\",Table!AI19,\"\")","v":""},{"$f":"IF(Table!AJ19<>\"\",Table!AJ19,\"\")","v":""},{"$f":"IF(Table!AK19<>\"\",Table!AK19,\"\")","v":""},{"$f":"IF(Table!AL19<>\"\",Table!AL19,\"\")","v":""},{"$f":"IF(Table!AM19<>\"\",Table!AM19,\"\")","v":""},{"$f":"IF(Table!AN19<>\"\",Table!AN19,\"\")","v":""},{"$f":"IF(Table!AO19<>\"\",Table!AO19,\"\")","v":""},{"$f":"IF(Table!AP19<>\"\",Table!AP19,\"\")","v":""},{"$f":"IF(Table!AQ19<>\"\",Table!AQ19,\"\")","v":""},{"$f":"IF(Table!AR19<>\"\",Table!AR19,\"\")","v":""},{"$f":"IF(Table!AS19<>\"\",Table!AS19,\"\")","v":""},{"$f":"IF(ספיקות!E19<>\"\",(24*Table!CS19)/ספיקות!E19,\"\")","v":25.848915482423337}]
[{"$f":"IF(Table!A20<>\"\",Table!A20,\"\")","v":"2024-11-14"},{"$f":"IF(Table!A20<>\"\",Table!A20,\"\")","v":"2024-11-14"},{"$f":"IF(Table!AH20<>\"\",Table!AH20,\"\")","v":""},{"$f":"IF(Table!AI20<>\"\",Table!AI20,\"\")","v":""},{"$f":"IF(Table!AJ20<>\"\",Table!AJ20,\"\")","v":""},{"$f":"IF(Table!AK20<>\"\",Table!AK20,\"\")","v":""},{"$f":"IF(Table!AL20<>\"\",Table!AL20,\"\")","v":""},{"$f":"IF(Table!AM20<>\"\",Table!AM20,\"\")","v":""},{"$f":"IF(Table!AN20<>\"\",Table!AN20,\"\")","v":""},{"$f":"IF(Table!AO20<>\"\",Table!AO20,\"\")","v":""},{"$f":"IF(Table!AP20<>\"\",Table!AP20,\"\")","v":""},{"$f":"IF(Table!AQ20<>\"\",Table!AQ20,\"\")","v":""},{"$f":"IF(Table!AR20<>\"\",Table!AR20,\"\")","v":""},{"$f":"IF(Table!AS20<>\"\",Table!AS20,\"\")","v":""},{"$f":"IF(ספיקות!E20<>\"\",(24*Table!CS20)/ספיקות!E20,\"\")","v":27.04225352112676}]
[{"$f":"IF(Table!A21<>\"\",Table!A21,\"\")","v":"2024-11-15"},{"$f":"IF(Table!A21<>\"\",Table!A21,\"\")","v":"2024-11-15"},{"$f":"IF(Table!AU21<>\"\",Table!AU21,\"\")","v":""},{"$f":"IF(Table!AV21<>\"\",Table!AV21,\"\")","v":""},{"$f":"IF(Table!AW21<>\"\",Table!AW21,\"\")","v":""},{"$f":"IF(Table!AK21<>\"\",Table!AK21,\"\")","v":""},{"$f":"IF(Table!AL21<>\"\",Table!AL21,\"\")","v":""},{"$f":"IF(Table!AM21<>\"\",Table!AM21,\"\")","v":""},{"$f":"IF(Table!AN21<>\"\",Table!AN21,\"\")","v":""},{"$f":"IF(Table!AO21<>\"\",Table!AO21,\"\")","v":""},{"$f":"IF(Table!AP21<>\"\",Table!AP21,\"\")","v":""},{"$f":"IF(Table!AQ21<>\"\",Table!AQ21,\"\")","v":""},{"$f":"IF(Table!AR21<>\"\",Table!AR21,\"\")","v":""},{"$f":"IF(Table!AS21<>\"\",Table!AS21,\"\")","v":""},{"$f":"IF(ספיקות!E21<>\"\",(24*Table!CS21)/ספיקות!E21,\"\")","v":24.899135446685879}]
[{"$f":"IF(Table!A22<>\"\",Table!A22,\"\")","v":"2024-11-16"},{"$f":"IF(Table!A22<>\"\",Table!A22,\"\")","v":"2024-11-16"},{"$f":"IF(Table!AH22<>\"\",Table!AH22,\"\")","v":""},{"$f":"IF(Table!AI22<>\"\",Table!AI22,\"\")","v":""},{"$f":"IF(Table!AJ22<>\"\",Table!AJ22,\"\")","v":""},{"$f":"IF(Table!AK22<>\"\",Table!AK22,\"\")","v":""},{"$f":"IF(Table!AL22<>\"\",Table!AL22,\"\")","v":""},{"$f":"IF(Table!AM22<>\"\",Table!AM22,\"\")","v":""},{"$f":"IF(Table!AN22<>\"\",Table!AN22,\"\")","v":""},{"$f":"IF(Table!AO22<>\"\",Table!AO22,\"\")","v":""},{"$f":"IF(Table!AP22<>\"\",Table!AP22,\"\")","v":""},{"$f":"IF(Table!AQ22<>\"\",Table!AQ22,\"\")","v":""},{"$f":"IF(Table!AR22<>\"\",Table!AR22,\"\")","v":""},{"$f":"IF(Table!AS22<>\"\",Table!AS22,\"\")","v":""},{"$f":"IF(ספיקות!E22<>\"\",(24*Table!CS22)/ספיקות!E22,\"\")","v":26.605080831408777}]
[{"$f":"IF(Table!A23<>\"\",Table!A23,\"\")","v":"2024-11-17"},{"$f":"IF(Table!A23<>\"\",Table!A23,\"\")","v":"2024-11-17"},{"$f":"IF(Table!AH23<>\"\",Table!AH23,\"\")","v":""},{"$f":"IF(Table!AI23<>\"\",Table!AI23,\"\")","v":""},{"$f":"IF(Table!AJ23<>\"\",Table!AJ23,\"\")","v":""},{"$f":"IF(Table!AK23<>\"\",Table!AK23,\"\")","v":""},{"$f":"IF(Table!AL23<>\"\",Table!AL23,\"\")","v":""},{"$f":"IF(Table!AM23<>\"\",Table!AM23,\"\")","v":""},{"$f":"IF(Table!AN23<>\"\",Table!AN23,\"\")","v":""},{"$f":"IF(Table!AO23<>\"\",Table!AO23,\"\")","v":""},{"$f":"IF(Table!AP23<>\"\",Table!AP23,\"\")","v":""},{"$f":"IF(Table!AQ23<>\"\",Table!AQ23,\"\")","v":""},{"$f":"IF(Table!AR23<>\"\",Table!AR23,\"\")","v":""},{"$f":"IF(Table!AS23<>\"\",Table!AS23,\"\")","v":""},{"$f":"IF(ספיקות!E23<>\"\",(24*Table!CS23)/ספיקות!E23,\"\")","v":24.201680672268907}]
[{"$f":"IF(Table!A24<>\"\",Table!A24,\"\")","v":"2024-11-18"},{"$f":"IF(Table!A24<>\"\",Table!A24,\"\")","v":"2024-11-18"},{"$f":"IF(Table!AH24<>\"\",Table!AH24,\"\")","v":""},{"$f":"IF(Table!AI24<>\"\",Table!AI24,\"\")","v":""},{"$f":"IF(Table!AJ24<>\"\",Table!AJ24,\"\")","v":""},{"$f":"IF(Table!AK24<>\"\",Table!AK24,\"\")","v":""},{"$f":"IF(Table!AL24<>\"\",Table!AL24,\"\")","v":""},{"$f":"IF(Table!AM24<>\"\",Table!AM24,\"\")","v":""},{"$f":"IF(Table!AN24<>\"\",Table!AN24,\"\")","v":""},{"$f":"IF(Table!AO24<>\"\",Table!AO24,\"\")","v":""},{"$f":"IF(Table!AP24<>\"\",Table!AP24,\"\")","v":""},{"$f":"IF(Table!AQ24<>\"\",Table!AQ24,\"\")","v":""},{"$f":"IF(Table!AR24<>\"\",Table!AR24,\"\")","v":""},{"$f":"IF(Table!AS24<>\"\",Table!AS24,\"\")","v":""},{"$f":"IF(ספיקות!E24<>\"\",(24*Table!CS24)/ספיקות!E24,\"\")","v":21.399380804953559}]
[{"$f":"IF(Table!A25<>\"\",Table!A25,\"\")","v":"2024-11-19"},{"$f":"IF(Table!A25<>\"\",Table!A25,\"\")","v":"2024-11-19"},{"$f":"IF(Table!AH25<>\"\",Table!AH25,\"\")","v":""},{"$f":"IF(Table!AI25<>\"\",Table!AI25,\"\")","v":""},{"$f":"IF(Table!AJ25<>\"\",Table!AJ25,\"\")","v":""},{"$f":"IF(Table!AK25<>\"\",Table!AK25,\"\")","v":""},{"$f":"IF(Table!AL25<>\"\",Table!AL25,\"\")","v":""},{"$f":"IF(Table!AM25<>\"\",Table!AM25,\"\")","v":""},{"$f":"IF(Table!AN25<>\"\",Table!AN25,\"\")","v":""},{"$f":"IF(Table!AO25<>\"\",Table!AO25,\"\")","v":""},{"$f":"IF(Table!AP25<>\"\",Table!AP25,\"\")","v":""},{"$f":"IF(Table!AQ25<>\"\",Table!AQ25,\"\")","v":""},{"$f":"IF(Table!AR25<>\"\",Table!AR25,\"\")","v":""},{"$f":"IF(Table!AS25<>\"\",Table!AS25,\"\")","v":""},{"$f":"IF(ספיקות!E25<>\"\",(24*Table!CS25)/ספיקות!E25,\"\")","v":24.218640504555012}]
[{"$f":"IF(Table!A26<>\"\",Table!A26,\"\")","v":"2024-11-20"},{"$f":"IF(Table!A26<>\"\",Table!A26,\"\")","v":"2024-11-20"},{"$f":"IF(Table!AH26<>\"\",Table!AH26,\"\")","v":""},{"$f":"IF(Table!AI26<>\"\",Table!AI26,\"\")","v":""},{"$f":"IF(Table!AJ26<>\"\",Table!AJ26,\"\")","v":""},{"$f":"IF(Table!AK26<>\"\",Table!AK26,\"\")","v":""},{"$f":"IF(Table!AL26<>\"\",Table!AL26,\"\")","v":""},{"$f":"IF(Table!AM26<>\"\",Table!AM26,\"\")","v":""},{"$f":"IF(Table!AN26<>\"\",Table!AN26,\"\")","v":""},{"$f":"IF(Table!AO26<>\"\",Table!AO26,\"\")","v":""},{"$f":"IF(Table!AP26<>\"\",Table!AP26,\"\")","v":""},{"$f":"IF(Table!AQ26<>\"\",Table!AQ26,\"\")","v":""},{"$f":"IF(Table!AR26<>\"\",Table!AR26,\"\")","v":""},{"$f":"IF(Table!AS26<>\"\",Table!AS26,\"\")","v":""},{"$f":"IF(ספיקות!E26<>\"\",(24*Table!CS26)/ספיקות!E26,\"\")","v":26.321401370906322}]
[{"$f":"IF(Table!A27<>\"\",Table!A27,\"\")","v":"2024-11-21"},{"$f":"IF(Table!A27<>\"\",Table!A27,\"\")","v":"2024-11-21"},{"$f":"IF(Table!AH27<>\"\",Table!AH27,\"\")","v":""},{"$f":"IF(Table!AI27<>\"\",Table!AI27,\"\")","v":""},{"$f":"IF(Table!AJ27<>\"\",Table!AJ27,\"\")","v":""},{"$f":"IF(Table!AK27<>\"\",Table!AK27,\"\")","v":""},{"$f":"IF(Table!AL27<>\"\",Table!AL27,\"\")","v":""},{"$f":"IF(Table!AM27<>\"\",Table!AM27,\"\")","v":""},{"$f":"IF(Table!AN27<>\"\",Table!AN27,\"\")","v":""},{"$f":"IF(Table!AO27<>\"\",Table!AO27,\"\")","v":""},{"$f":"IF(Table!AP27<>\"\",Table!AP27,\"\")","v":""},{"$f":"IF(Table!AQ27<>\"\",Table!AQ27,\"\")","v":""},{"$f":"IF(Table!AR27<>\"\",Table!AR27,\"\")","v":""},{"$f":"IF(Table!AS27<>\"\",Table!AS27,\"\")","v":""},{"$f":"IF(ספיקות!E27<>\"\",(24*Table!CS27)/ספיקות!E27,\"\")","v":28.752079866888518}]
[{"$f":"IF(Table!A28<>\"\",Table!A28,\"\")","v":"2024-11-22"},{"$f":"IF(Table!A28<>\"\",Table!A28,\"\")","v":"2024-11-22"},{"$f":"IF(Table!AH28<>\"\",Table!AH28,\"\")","v":""},{"$f":"IF(Table!AI28<>\"\",Table!AI28,\"\")","v":""},{"$f":"IF(Table!AJ28<>\"\",Table!AJ28,\"\")","v":""},{"$f":"IF(Table!AK28<>\"\",Table!AK28,\"\")","v":""},{"$f":"IF(Table!AL28<>\"\",Table!AL28,\"\")","v":""},{"$f":"IF(Table!AM28<>\"\",Table!AM28,\"\")","v":""},{"$f":"IF(Table!AN28<>\"\",Table!AN28,\"\")","v":""},{"$f":"IF(Table!AO28<>\"\",Table!AO28,\"\")","v":""},{"$f":"IF(Table!AP28<>\"\",Table!AP28,\"\")","v":""},{"$f":"IF(Table!AQ28<>\"\",Table!AQ28,\"\")","v":""},{"$f":"IF(Table!AR28<>\"\",Table!AR28,\"\")","v":""},{"$f":"IF(Table!AS28<>\"\",Table!AS28,\"\")","v":""},{"$f":"IF(ספיקות!E28<>\"\",(24*Table!CS28)/ספיקות!E28,\"\")","v":25.467943994104644}]
[{"$f":"IF(Table!A29<>\"\",Table!A29,\"\")","v":"2024-11-23"},{"$f":"IF(Table!A29<>\"\",Table!A29,\"\")","v":"2024-11-23"},{"$f":"IF(Table!AH29<>\"\",Table!AH29,\"\")","v":""},{"$f":"IF(Table!AI29<>\"\",Table!AI29,\"\")","v":""},{"$f":"IF(Table!AJ29<>\"\",Table!AJ29,\"\")","v":""},{"$f":"IF(Table!AK29<>\"\",Table!AK29,\"\")","v":""},{"$f":"IF(Table!AL29<>\"\",Table!AL29,\"\")","v":""},{"$f":"IF(Table!AM29<>\"\",Table!AM29,\"\")","v":""},{"$f":"IF(Table!AN29<>\"\",Table!AN29,\"\")","v":""},{"$f":"IF(Table!AO29<>\"\",Table!AO29,\"\")","v":""},{"$f":"IF(Table!AP29<>\"\",Table!AP29,\"\")","v":""},{"$f":"IF(Table!AQ29<>\"\",Table!AQ29,\"\")","v":""},{"$f":"IF(Table!AR29<>\"\",Table!AR29,\"\")","v":""},{"$f":"IF(Table!AS29<>\"\",Table!AS29,\"\")","v":""},{"$f":"IF(ספיקות!E29<>\"\",(24*Table!CS29)/ספיקות!E29,\"\")","v":26.790697674418606}]
[{"$f":"IF(Table!A30<>\"\",Table!A30,\"\")","v":"2024-11-24"},{"$f":"IF(Table!A30<>\"\",Table!A30,\"\")","v":"2024-11-24"},{"$f":"IF(Table!AH30<>\"\",Table!AH30,\"\")","v":""},{"$f":"IF(Table!AI30<>\"\",Table!AI30,\"\")","v":""},{"$f":"IF(Table!AJ30<>\"\",Table!AJ30,\"\")","v":""},{"$f":"IF(Table!AK30<>\"\",Table!AK30,\"\")","v":""},{"$f":"IF(Table!AL30<>\"\",Table!AL30,\"\")","v":""},{"$f":"IF(Table!AM30<>\"\",Table!AM30,\"\")","v":""},{"$f":"IF(Table!AN30<>\"\",Table!AN30,\"\")","v":""},{"$f":"IF(Table!AO30<>\"\",Table!AO30,\"\")","v":""},{"$f":"IF(Table!AP30<>\"\",Table!AP30,\"\")","v":""},{"$f":"IF(Table!AQ30<>\"\",Table!AQ30,\"\")","v":""},{"$f":"IF(Table!AR30<>\"\",Table!AR30,\"\")","v":""},{"$f":"IF(Table!AS30<>\"\",Table!AS30,\"\")","v":""},{"$f":"IF(ספיקות!E30<>\"\",(24*Table!CS30)/ספיקות!E30,\"\")","v":28.944723618090453}]
[{"$f":"IF(Table!A31<>\"\",Table!A31,\"\")","v":"2024-11-25"},{"$f":"IF(Table!A31<>\"\",Table!A31,\"\")","v":"2024-11-25"},{"$f":"IF(Table!AH31<>\"\",Table!AH31,\"\")","v":""},{"$f":"IF(Table!AI31<>\"\",Table!AI31,\"\")","v":""},{"$f":"IF(Table!AJ31<>\"\",Table!AJ31,\"\")","v":""},{"$f":"IF(Table!AK31<>\"\",Table!AK31,\"\")","v":""},{"$f":"IF(Table!AL31<>\"\",Table!AL31,\"\")","v":""},{"$f":"IF(Table!AM31<>\"\",Table!AM31,\"\")","v":""},{"$f":"IF(Table!AN31<>\"\",Table!AN31,\"\")","v":""},{"$f":"IF(Table!AO31<>\"\",Table!AO31,\"\")","v":""},{"$f":"IF(Table!AP31<>\"\",Table!AP31,\"\")","v":""},{"$f":"IF(Table!AQ31<>\"\",Table!AQ31,\"\")","v":""},{"$f":"IF(Table!AR31<>\"\",Table!AR31,\"\")","v":""},{"$f":"IF(Table!AS31<>\"\",Table!AS31,\"\")","v":""},{"$f":"IF(ספיקות!E31<>\"\",(24*Table!CS31)/ספיקות!E31,\"\")","v":30.584070796460178}]
[{"$f":"IF(Table!A32<>\"\",Table!A32,\"\")","v":"2024-11-26"},{"$f":"IF(Table!A32<>\"\",Table!A32,\"\")","v":"2024-11-26"},{"$f":"IF(Table!AH32<>\"\",Table!AH32,\"\")","v":""},{"$f":"IF(Table!AI32<>\"\",Table!AI32,\"\")","v":""},{"$f":"IF(Table!AJ32<>\"\",Table!AJ32,\"\")","v":""},{"$f":"IF(Table!AK32<>\"\",Table!AK32,\"\")","v":""},{"$f":"IF(Table!AL32<>\"\",Table!AL32,\"\")","v":""},{"$f":"IF(Table!AM32<>\"\",Table!AM32,\"\")","v":""},{"$f":"IF(Table!AN32<>\"\",Table!AN32,\"\")","v":""},{"$f":"IF(Table!AO32<>\"\",Table!AO32,\"\")","v":""},{"$f":"IF(Table!AP32<>\"\",Table!AP32,\"\")","v":""},{"$f":"IF(Table!AQ32<>\"\",Table!AQ32,\"\")","v":""},{"$f":"IF(Table!AR32<>\"\",Table!AR32,\"\")","v":""},{"$f":"IF(Table!AS32<>\"\",Table!AS32,\"\")","v":""},{"$f":"IF(ספיקות!E32<>\"\",(24*Table!CS32)/ספיקות!E32,\"\")","v":27.298578199052134}]
[{"$f":"IF(Table!A33<>\"\",Table!A33,\"\")","v":"2024-11-27"},{"$f":"IF(Table!A33<>\"\",Table!A33,\"\")","v":"2024-11-27"},{"$f":"IF(Table!AH33<>\"\",Table!AH33,\"\")","v":""},{"$f":"IF(Table!AI33<>\"\",Table!AI33,\"\")","v":""},{"$f":"IF(Table!AJ33<>\"\",Table!AJ33,\"\")","v":""},{"$f":"IF(Table!AK33<>\"\",Table!AK33,\"\")","v":""},{"$f":"IF(Table!AL33<>\"\",Table!AL33,\"\")","v":""},{"$f":"IF(Table!AM33<>\"\",Table!AM33,\"\")","v":""},{"$f":"IF(Table!AN33<>\"\",Table!AN33,\"\")","v":""},{"$f":"IF(Table!AO33<>\"\",Table!AO33,\"\")","v":""},{"$f":"IF(Table!AP33<>\"\",Table!AP33,\"\")","v":""},{"$f":"IF(Table!AQ33<>\"\",Table!AQ33,\"\")","v":""},{"$f":"IF(Table!AR33<>\"\",Table!AR33,\"\")","v":""},{"$f":"IF(Table!AS33<>\"\",Table!AS33,\"\")","v":""},{"$f":"IF(ספיקות!E33<>\"\",(24*Table!CS33)/ספיקות!E33,\"\")","v":29.690721649484537}]
[{"$f":"IF(Table!A34<>\"\",Table!A34,\"\")","v":"2024-11-28"},{"$f":"IF(Table!A34<>\"\",Table!A34,\"\")","v":"2024-11-28"},{"$f":"IF(Table!AH34<>\"\",Table!AH34,\"\")","v":""},{"$f":"IF(Table!AI34<>\"\",Table!AI34,\"\")","v":""},{"$f":"IF(Table!AJ34<>\"\",Table!AJ34,\"\")","v":""},{"$f":"IF(Table!AK34<>\"\",Table!AK34,\"\")","v":""},{"$f":"IF(Table!AL34<>\"\",Table!AL34,\"\")","v":""},{"$f":"IF(Table!AM34<>\"\",Table!AM34,\"\")","v":""},{"$f":"IF(Table!AN34<>\"\",Table!AN34,\"\")","v":""},{"$f":"IF(Table!AO34<>\"\",Table!AO34,\"\")","v":""},{"$f":"IF(Table!AP34<>\"\",Table!AP34,\"\")","v":""},{"$f":"IF(Table!AQ34<>\"\",Table!AQ34,\"\")","v":""},{"$f":"IF(Table!AR34<>\"\",Table!AR34,\"\")","v":""},{"$f":"IF(Table!AS34<>\"\",Table!AS34,\"\")","v":""},{"$f":"IF(ספיקות!E34<>\"\",(24*Table!CS34)/ספיקות!E34,\"\")","v":29.066442388561818}]
[{"$f":"IF(Table!A35<>\"\",Table!A35,\"\")","v":"2024-11-29"},{"$f":"IF(Table!A35<>\"\",Table!A35,\"\")","v":"2024-11-29"},{"$f":"IF(Table!AH35<>\"\",Table!AH35,\"\")","v":""},{"$f":"IF(Table!AI35<>\"\",Table!AI35,\"\")","v":""},{"$f":"IF(Table!AJ35<>\"\",Table!AJ35,\"\")","v":""},{"$f":"IF(Table!AK35<>\"\",Table!AK35,\"\")","v":""},{"$f":"IF(Table!AL35<>\"\",Table!AL35,\"\")","v":""},{"$f":"IF(Table!AM35<>\"\",Table!AM35,\"\")","v":""},{"$f":"IF(Table!AN35<>\"\",Table!AN35,\"\")","v":""},{"$f":"IF(Table!AO35<>\"\",Table!AO35,\"\")","v":""},{"$f":"IF(Table!AP35<>\"\",Table!AP35,\"\")","v":""},{"$f":"IF(Table!AQ35<>\"\",Table!AQ35,\"\")","v":""},{"$f":"IF(Table!AR35<>\"\",Table!AR35,\"\")","v":""},{"$f":"IF(Table!AS35<>\"\",Table!AS35,\"\")","v":""},{"$f":"IF(ספיקות!E35<>\"\",(24*Table!CS35)/ספיקות!E35,\"\")","v":25.17115804806992}]
[{"$f":"IF(Table!A36<>\"\",Table!A36,\"\")","v":"2024-11-30"},{"$f":"IF(Table!A36<>\"\",Table!A36,\"\")","v":"2024-11-30"},{"$f":"IF(Table!AH36<>\"\",Table!AH36,\"\")","v":""},{"$f":"IF(Table!AI36<>\"\",Table!AI36,\"\")","v":""},{"$f":"IF(Table!AJ36<>\"\",Table!AJ36,\"\")","v":""},{"$f":"IF(Table!AK36<>\"\",Table!AK36,\"\")","v":""},{"$f":"IF(Table!AL36<>\"\",Table!AL36,\"\")","v":""},{"$f":"IF(Table!AM36<>\"\",Table!AM36,\"\")","v":""},{"$f":"IF(Table!AN36<>\"\",Table!AN36,\"\")","v":""},{"$f":"IF(Table!AO36<>\"\",Table!AO36,\"\")","v":""},{"$f":"IF(Table!AP36<>\"\",Table!AP36,\"\")","v":""},{"$f":"IF(Table!AQ36<>\"\",Table!AQ36,\"\")","v":""},{"$f":"IF(Table!AR36<>\"\",Table!AR36,\"\")","v":""},{"$f":"IF(Table!AS36<>\"\",Table!AS36,\"\")","v":""},{"$f":"IF(ספיקות!E36<>\"\",(24*Table!CS36)/ספיקות!E36,\"\")","v":26.605080831408777}]
[{"$f":"IF(Table!A37<>\"\",Table!A37,\"\")","v":"2024-12-01"},{"$f":"IF(Table!A37<>\"\",Table!A37,\"\")","v":"2024-12-01"},{"$f":"IF(Table!AH37<>\"\",Table!AH37,\"\")","v":""},{"$f":"IF(Table!AI37<>\"\",Table!AI37,\"\")","v":""},{"$f":"IF(Table!AJ37<>\"\",Table!AJ37,\"\")","v":""},{"$f":"IF(Table!AK37<>\"\",Table!AK37,\"\")","v":""},{"$f":"IF(Table!AL37<>\"\",Table!AL37,\"\")","v":""},{"$f":"IF(Table!AM37<>\"\",Table!AM37,\"\")","v":""},{"$f":"IF(Table!AN37<>\"\",Table!AN37,\"\")","v":""},{"$f":"IF(Table!AO37<>\"\",Table!AO37,\"\")","v":""},{"$f":"IF(Table!AP37<>\"\",Table!AP37,\"\")","v":""},{"$f":"IF(Table!AQ37<>\"\",Table!AQ37,\"\")","v":""},{"$f":"IF(Table!AR37<>\"\",Table!AR37,\"\")","v":""},{"$f":"IF(Table!AS37<>\"\",Table!AS37,\"\")","v":""},{"$f":"IF(ספיקות!E37<>\"\",(24*Table!CS37)/ספיקות!E37,\"\")","v":""}]
["סה\"כ לחודש"]
["ממוצע ",null,{"$f":"AVERAGE(C7:C37)","v":5},{"$f":"AVERAGE(D7:D37)","v":25},5,{"$error":"#DIV/0!"},5.9,5.2,0.05,230,10,1.45,null,{"$f":"AVERAGE(N7:N37)","v":0},25.246539725250059]
["מקסימום ",null,{"$f":"MAX(C7:C37)","v":5},{"$f":"MAX(D7:D37)","v":25},5,0,5.9,5.2,0.05,230,10,1.45,null,{"$f":"MAX(N7:N37)","v":0},30.584070796460178]
["מינימום ",null,{"$f":"MIN(C7:C37)","v":5},{"$f":"MIN(D7:D37)","v":25},5,0,5.9,5.2,0.05,230,10,1.45,null,{"$f":"MIN(N7:N37)","v":0},21.399380804953559]

{"sheet":"קולחין שלישוני","index":4,"n_rows":41,"n_cols":26,"rows_kept":41,"cut":false,"hidden":false,"merged":[[1,4,1,25],[40,0,40,1],[37,0,37,1],[38,0,38,1],[39,0,39,1],[2,2,2,21],[1,0,1,3],[3,0,3,1],[2,0,2,1],[3,2,3,5],[3,6,3,12],[3,23,4,23],[4,0,5,0],[4,1,5,1],[3,25,4,25],[3,22,4,22],[3,13,3,15],[3,17,3,21],[3,24,4,24]]}
[]
[{"$f":"סיכום!C11","v":"מט\"ש נובמבר 2024"},null,null,null,"נתוני תפעול   - גליון 4  - איכות קולחין שלישוני"]
["יחידת פעולה",null,"מעבדה",null,null,null,null,null,null,null,null,null,null,null,null,null,null,null,null,null,null,null,"מעבדה","שטח-רציף","מעבדה","שטח-רציף"]
["תדירות",null,"פעמיים בשבוע",null,null,null,"פעם בשבוע",null,null,null,null,null,null,"פעמיים בחודש",null,null,"פעם בחודש","פעם בשלושה חודשים: ינואר, אפריל, יולי, אוקטובר ",null,null,null,null,"מד עכירות  נייד","מד עכירות  קבוע","מד כלור כללי  נייד","מד כלור כללי  קבוע"]
["תאריך","יום בשבוע","קולי צואתי תא מגע","צח\"ב","צח\"כ","מוצקים מרחפים","חנקן כללי","חנקן קלדהל","חנקן אמוניאקלי","חנקן חנקיתי","חנקן חנקתי","נתרן","כלורידים","זרחן כללי","בורון","מוליכות","שמן מינרלי","דטרגנט אניוני","ציאניד","פלואוריד","SAR","סריקת מתכות"]
[null,null,"ב-100 מ\"ל","מג\"ל","מג\"ל","מג\"ל","מג\"ל","מג\"ל","מג\"ל","מג\"ל","מג\"ל","מג\"ל","מג\"ל","מג\"ל","מג\"ל","cm/s","מג\"ל","מג\"ל","מג\"ל","מג\"ל","מג\"ל","מג\"ל","מ\"ג/ליטר","מ\"ג/ליטר","מ\"ג/ליטר","מ\"ג/ליטר"]
[{"$f":"IF(Table!A7<>\"\",Table!A7,\"\")","v":"2024-11-01"},{"$f":"IF(Table!A7<>\"\",Table!A7,\"\")","v":"2024-11-01"},{"$f":"IF(Table!AT7<>\"\",Table!AT7,\"\")","v":""},{"$f":"IF(Table!AU7<>\"\",Table!AU7,\"\")","v":""},{"$f":"IF(Table!AV7<>\"\",Table!AV7,\"\")","v":""},{"$f":"IF(Table!AW7<>\"\",Table!AW7,\"\")","v":""},{"$f":"IF(Table!AX7<>\"\",Table!AX7,\"\")","v":""},{"$f":"IF(Table!AY7<>\"\",Table!AY7,\"\")","v":""},{"$f":"IF(Table!AZ7<>\"\",Table!AZ7,\"\")","v":""},{"$f":"IF(Table!BA7<>\"\",Table!BA7,\"\")","v":""},{"$f":"IF(Table!BB7<>\"\",Table!BB7,\"\")","v":""},{"$f":"IF(Table!BC7<>\"\",Table!BC7,\"\")","v":""},{"$f":"IF(Table!BD7<>\"\",Table!BD7,\"\")","v":""},{"$f":"IF(Table!BE7<>\"\",Table!BE7,\"\")","v":""},{"$f":"IF(Table!BF7<>\"\",Table!BF7,\"\")","v":""},{"$f":"IF(Table!BG7<>\"\",Table!BG7,\"\")","v":""},{"$f":"IF(Table!BH7<>\"\",Table!BH7,\"\")","v":""},{"$f":"IF(Table!BI7<>\"\",Table!BI7,\"\")","v":""},{"$f":"IF(Table!BJ7<>\"\",Table!BJ7,\"\")","v":""},{"$f":"IF(Table!BK7<>\"\",Table!BK7,\"\")","v":""},{"$f":"IF(Table!BL7<>\"\",Table!BL7,\"\")","v":""},{"$f":"IF(Table!BM7<>\"\",Table!BM7,\"\")","v":""},{"$f":"IF(Table!BN7<>\"\",Table!BN7,\"\")","v":""},{"$f":"IF(Table!BO7<>\"\",Table!BO7,\"\")","v":""},{"$f":"IF(Table!BP7<>\"\",Table!BP7,\"\")","v":""},{"$f":"IF(Table!BQ7<>\"\",Table!BQ7,\"\")","v":""}]
[{"$f":"IF(Table!A8<>\"\",Table!A8,\"\")","v":"2024-11-02"},{"$f":"IF(Table!A8<>\"\",Table!A8,\"\")","v":"2024-11-02"},{"$f":"IF(Table!AT8<>\"\",Table!AT8,\"\")","v":""},null,null,null,{"$f":"IF(Table!AX8<>\"\",Table!AX8,\"\")","v":""},{"$f":"IF(Table!AY8<>\"\",Table!AY8,\"\")","v":""},{"$f":"IF(Table!AZ8<>\"\",Table!AZ8,\"\")","v":""},{"$f":"IF(Table!BA8<>\"\",Table!BA8,\"\")","v":""},{"$f":"IF(Table!BB8<>\"\",Table!BB8,\"\")","v":""},{"$f":"IF(Table!BC8<>\"\",Table!BC8,\"\")","v":""},{"$f":"IF(Table!BD8<>\"\",Table!BD8,\"\")","v":""},{"$f":"IF(Table!BE8<>\"\",Table!BE8,\"\")","v":""},{"$f":"IF(Table!BF8<>\"\",Table!BF8,\"\")","v":""},{"$f":"IF(Table!BG8<>\"\",Table!BG8,\"\")","v":""},{"$f":"IF(Table!BH8<>\"\",Table!BH8,\"\")","v":""},{"$f":"IF(Table!BI8<>\"\",Table!BI8,\"\")","v":""},{"$f":"IF(Table!BJ8<>\"\",Table!BJ8,\"\")","v":""},{"$f":"IF(Table!BK8<>\"\",Table!BK8,\"\")","v":""},{"$f":"IF(Table!BL8<>\"\",Table!BL8,\"\")","v":""},{"$f":"IF(Table!BM8<>\"\",Table!BM8,\"\")","v":""},{"$f":"IF(Table!BN8<>\"\",Table!BN8,\"\")","v":""},{"$f":"IF(Table!BO8<>\"\",Table!BO8,\"\")","v":""},{"$f":"IF(Table!BP8<>\"\",Table!BP8,\"\")","v":""},{"$f":"IF(Table!BQ8<>\"\",Table!BQ8,\"\")","v":""}]
[{"$f":"IF(Table!A9<>\"\",Table!A9,\"\")","v":"2024-11-03"},{"$f":"IF(Table!A9<>\"\",Table!A9,\"\")","v":"2024-11-03"},{"$f":"IF(Table!AT9<>\"\",Table!AT9,\"\")","v":""},{"$f":"IF(Table!AU9<>\"\",Table!AU9,\"\")","v":""},{"$f":"IF(Table!AV9<>\"\",Table!AV9,\"\")","v":""},{"$f":"IF(Table!AW9<>\"\",Table!AW9,\"\")","v":""},{"$f":"IF(Table!AX9<>\"\",Table!AX9,\"\")","v":""},{"$f":"IF(Table!AY9<>\"\",Table!AY9,\"\")","v":""},{"$f":"IF(Table!AZ9<>\"\",Table!AZ9,\"\")","v":""},{"$f":"IF(Table!BA9<>\"\",Table!BA9,\"\")","v":""},{"$f":"IF(Table!BB9<>\"\",Table!BB9,\"\")","v":""},{"$f":"IF(Table!BC9<>\"\",Table!BC9,\"\")","v":""},{"$f":"IF(Table!BD9<>\"\",Table!BD9,\"\")","v":""},{"$f":"IF(Table!BE9<>\"\",Table!BE9,\"\")","v":""},{"$f":"IF(Table!BF9<>\"\",Table!BF9,\"\")","v":""},{"$f":"IF(Table!BG9<>\"\",Table!BG9,\"\")","v":""},{"$f":"IF(Table!BH9<>\"\",Table!BH9,\"\")","v":""},{"$f":"IF(Table!BI9<>\"\",Table!BI9,\"\")","v":""},{"$f":"IF(Table!BJ9<>\"\",Table!BJ9,\"\")","v":""},{"$f":"IF(Table!BK9<>\"\",Table!BK9,\"\")","v":""},{"$f":"IF(Table!BL9<>\"\",Table!BL9,\"\")","v":""},0,{"$f":"IF(Table!BN9<>\"\",Table!BN9,\"\")","v":1.49},{"$f":"IF(Table!BO9<>\"\",Table!BO9,\"\")","v":1.47},{"$f":"IF(Table!BP9<>\"\",Table!BP9,\"\")","v":1.65},{"$f":"IF(Table!BQ9<>\"\",Table!BQ9,\"\")","v":1.62}]
[{"$f":"IF(Table!A10<>\"\",Table!A10,\"\")","v":"2024-11-04"},{"$f":"IF(Table!A10<>\"\",Table!A10,\"\")","v":"2024-11-04"},{"$f":"IF(Table!AT10<>\"\",Table!AT10,\"\")","v":""},{"$f":"IF(Table!AU10<>\"\",Table!AU10,\"\")","v":5},{"$f":"IF(Table!AV10<>\"\",Table!AV10,\"\")","v":13},{"$f":"IF(Table!AW10<>\"\",Table!AW10,\"\")","v":5},{"$f":"IF(Table!AX10<>\"\",Table!AX10,\"\")","v":5.8},{"$f":"IF(Table!AY10<>\"\",Table!AY10,\"\")","v":3.95},{"$f":"IF(Table!AZ10<>\"\",Table!AZ10,\"\")","v":1.85},{"$f":"IF(Table!BA10<>\"\",Table!BA10,\"\")","v":""},{"$f":"IF(Table!BB10<>\"\",Table!BB10,\"\")","v":1.85},{"$f":"IF(Table!BC10<>\"\",Table!BC10,\"\")","v":139},{"$f":"IF(Table!BD10<>\"\",Table!BD10,\"\")","v":229},{"$f":"IF(Table!BE10<>\"\",Table!BE10,\"\")","v":5.17},{"$f":"IF(Table!BF10<>\"\",Table!BF10,\"\")","v":0.2},{"$f":"IF(Table!BG10<>\"\",Table!BG10,\"\")","v":1.46},{"$f":"IF(Table!BH10<>\"\",Table!BH10,\"\")","v":0.3},0,0,0,0,{"$f":"IF(Table!BM10<>\"\",Table!BM10,\"\")","v":""},{"$f":"IF(Table!BN10<>\"\",Table!BN10,\"\")","v":1.44},{"$f":"IF(Table!BO10<>\"\",Table!BO10,\"\")","v":1.45},{"$f":"IF(Table!BP10<>\"\",Table!BP10,\"\")","v":1.49},{"$f":"IF(Table!BQ10<>\"\",Table!BQ10,\"\")","v":1.46}]
[{"$f":"IF(Table!A11<>\"\",Table!A11,\"\")","v":"2024-11-05"},{"$f":"IF(Table!A11<>\"\",Table!A11,\"\")","v":"2024-11-05"},{"$f":"IF(Table!AT11<>\"\",Table!AT11,\"\")","v":""},{"$f":"IF(Table!AU11<>\"\",Table!AU11,\"\")","v":""},{"$f":"IF(Table!AV11<>\"\",Table!AV11,\"\")","v":""},{"$f":"IF(Table!AW11<>\"\",Table!AW11,\"\")","v":""},{"$f":"IF(Table!AX11<>\"\",Table!AX11,\"\")","v":""},{"$f":"IF(Table!AY11<>\"\",Table!AY11,\"\")","v":""},{"$f":"IF(Table!AZ11<>\"\",Table!AZ11,\"\")","v":""},{"$f":"IF(Table!BA11<>\"\",Table!BA11,\"\")","v":""},{"$f":"IF(Table!BB11<>\"\",Table!BB11,\"\")","v":""},{"$f":"IF(Table!BC11<>\"\",Table!BC11,\"\")","v":""},{"$f":"IF(Table!BD11<>\"\",Table!BD11,\"\")","v":""},{"$f":"IF(Table!BE11<>\"\",Table!BE11,\"\")","v":""},{"$f":"IF(Table!BF11<>\"\",Table!BF11,\"\")","v":""},{"$f":"IF(Table!BG11<>\"\",Table!BG11,\"\")","v":""},{"$f":"IF(Table!BH11<>\"\",Table!BH11,\"\")","v":""},{"$f":"IF(Table!BI11<>\"\",Table!BI11,\"\")","v":""},{"$f":"IF(Table!BJ11<>\"\",Table!BJ11,\"\")","v":""},{"$f":"IF(Table!BK11<>\"\",Table!BK11,\"\")","v":""},{"$f":"IF(Table!BL11<>\"\",Table!BL11,\"\")","v":""},{"$f":"IF(Table!BM11<>\"\",Table!BM11,\"\")","v":""},{"$f":"IF(Table!BN11<>\"\",Table!BN11,\"\")","v":1.64},{"$f":"IF(Table!BO11<>\"\",Table!BO11,\"\")","v":1.6},{"$f":"IF(Table!BP11<>\"\",Table!BP11,\"\")","v":1.47},{"$f":"IF(Table!BQ11<>\"\",Table!BQ11,\"\")","v":1.44}]
[{"$f":"IF(Table!A12<>\"\",Table!A12,\"\")","v":"2024-11-06"},{"$f":"IF(Table!A12<>\"\",Table!A12,\"\")","v":"2024-11-06"},{"$f":"IF(Table!AT12<>\"\",Table!AT12,\"\")","v":""},{"$f":"IF(Table!AU12<>\"\",Table!AU12,\"\")","v":5},{"$f":"IF(Table!AV12<>\"\",Table!AV12,\"\")","v":29},{"$f":"IF(Table!AW12<>\"\",Table!AW12,\"\")","v":5},{"$f":"IF(Table!AX12<>\"\",Table!AX12,\"\")","v":""},{"$f":"IF(Table!AY12<>\"\",Table!AY12,\"\")","v":""},{"$f":"IF(Table!AZ12<>\"\",Table!AZ12,\"\")","v":""},{"$f":"IF(Table!BA12<>\"\",Table!BA12,\"\")","v":""},{"$f":"IF(Table!BB12<>\"\",Table!BB12,\"\")","v":""},{"$f":"IF(Table!BC12<>\"\",Table!BC12,\"\")","v":""},{"$f":"IF(Table!BD12<>\"\",Table!BD12,\"\")","v":""},{"$f":"IF(Table!BE12<>\"\",Table!BE12,\"\")","v":""},{"$f":"IF(Table!BF12<>\"\",Table!BF12,\"\")","v":""},{"$f":"IF(Table!BG12<>\"\",Table!BG12,\"\")","v":""},{"$f":"IF(Table!BH12<>\"\",Table!BH12,\"\")","v":""},{"$f":"IF(Table!BI12<>\"\",Table!BI12,\"\")","v":""},{"$f":"IF(Table!BJ12<>\"\",Table!BJ12,\"\")","v":""},{"$f":"IF(Table!BK12<>\"\",Table!BK12,\"\")","v":""},{"$f":"IF(Table!BL12<>\"\",Table!BL12,\"\")","v":""},{"$f":"IF(Table!BM12<>\"\",Table!BM12,\"\")","v":""},{"$f":"IF(Table!BN12<>\"\",Table!BN12,\"\")","v":1.82},{"$f":"IF(Table!BO12<>\"\",Table!BO12,\"\")","v":1.82},{"$f":"IF(Table!BP12<>\"\",Table!BP12,\"\")","v":1.38},{"$f":"IF(Table!BQ12<>\"\",Table!BQ12,\"\")","v":1.33}]
[{"$f":"IF(Table!A13<>\"\",Table!A13,\"\")","v":"2024-11-07"},{"$f":"IF(Table!A13<>\"\",Table!A13,\"\")","v":"2024-11-07"},{"$f":"IF(Table!AT13<>\"\",Table!AT13,\"\")","v":""},{"$f":"IF(Table!AU13<>\"\",Table!AU13,\"\")","v":""},{"$f":"IF(Table!AV13<>\"\",Table!AV13,\"\")","v":""},{"$f":"IF(Table!AW13<>\"\",Table!AW13,\"\")","v":""},{"$f":"IF(Table!AX13<>\"\",Table!AX13,\"\")","v":""},{"$f":"IF(Table!AY13<>\"\",Table!AY13,\"\")","v":""},{"$f":"IF(Table!AZ13<>\"\",Table!AZ13,\"\")","v":""},{"$f":"IF(Table!BA13<>\"\",Table!BA13,\"\")","v":""},{"$f":"IF(Table!BB13<>\"\",Table!BB13,\"\")","v":""},{"$f":"IF(Table!BC13<>\"\",Table!BC13,\"\")","v":""},{"$f":"IF(Table!BD13<>\"\",Table!BD13,\"\")","v":""},{"$f":"IF(Table!BE13<>\"\",Table!BE13,\"\")","v":""},{"$f":"IF(Table!BF13<>\"\",Table!BF13,\"\")","v":""},{"$f":"IF(Table!BG13<>\"\",Table!BG13,\"\")","v":""},{"$f":"IF(Table!BH13<>\"\",Table!BH13,\"\")","v":""},{"$f":"IF(Table!BI13<>\"\",Table!BI13,\"\")","v":""},{"$f":"IF(Table!BJ13<>\"\",Table!BJ13,\"\")","v":""},{"$f":"IF(Table!BK13<>\"\",Table!BK13,\"\")","v":""},{"$f":"IF(Table!BL13<>\"\",Table!BL13,\"\")","v":""},{"$f":"IF(Table!BM13<>\"\",Table!BM13,\"\")","v":""},{"$f":"IF(Table!BN13<>\"\",Table!BN13,\"\")","v":1.49},{"$f":"IF(Table!BO13<>\"\",Table!BO13,\"\")","v":1.47},{"$f":"IF(Table!BP13<>\"\",Table!BP13,\"\")","v":1.65},{"$f":"IF(Table!BQ13<>\"\",Table!BQ13,\"\")","v":1.62}]
[{"$f":"IF(Table!A14<>\"\",Table!A14,\"\")","v":"2024-11-08"},{"$f":"IF(Table!A14<>\"\",Table!A14,\"\")","v":"2024-11-08"},{"$f":"IF(Table!AT14<>\"\",Table!AT14,\"\")","v":""},{"$f":"IF(Table!AU14<>\"\",Table!AU14,\"\")","v":""},{"$f":"IF(Table!AV14<>\"\",Table!AV14,\"\")","v":""},{"$f":"IF(Table!AW14<>\"\",Table!AW14,\"\")","v":""},{"$f":"IF(Table!AX14<>\"\",Table!AX14,\"\")","v":""},{"$f":"IF(Table!AY14<>\"\",Table!AY14,\"\")","v":""},{"$f":"IF(Table!AZ14<>\"\",Table!AZ14,\"\")","v":""},{"$f":"IF(Table!BA14<>\"\",Table!BA14,\"\")","v":""},{"$f":"IF(Table!BB14<>\"\",Table!BB14,\"\")","v":""},{"$f":"IF(Table!BC14<>\"\",Table!BC14,\"\")","v":""},{"$f":"IF(Table!BD14<>\"\",Table!BD14,\"\")","v":""},{"$f":"IF(Table!BE14<>\"\",Table!BE14,\"\")","v":""},{"$f":"IF(Table!BF14<>\"\",Table!BF14,\"\")","v":""},{"$f":"IF(Table!BG14<>\"\",Table!BG14,\"\")","v":""},{"$f":"IF(Table!BH14<>\"\",Table!BH14,\"\")","v":""},{"$f":"IF(Table!BI14<>\"\",Table!BI14,\"\")","v":""},{"$f":"IF(Table!BJ14<>\"\",Table!BJ14,\"\")","v":""},{"$f":"IF(Table!BK14<>\"\",Table!BK14,\"\")","v":""},{"$f":"IF(Table!BL14<>\"\",Table!BL14,\"\")","v":""},{"$f":"IF(Table!BM14<>\"\",Table!BM14,\"\")","v":""},{"$f":"IF(Table!BN14<>\"\",Table!BN14,\"\")","v":""},{"$f":"IF(Table!BO14<>\"\",Table!BO14,\"\")","v":""},{"$f":"IF(Table!BP14<>\"\",Table!BP14,\"\")","v":""},{"$f":"IF(Table!BQ14<>\"\",Table!BQ14,\"\")","v":""}]
[{"$f":"IF(Table!A15<>\"\",Table!A15,\"\")","v":"2024-11-09"},{"$f":"IF(Table!A15<>\"\",Table!A15,\"\")","v":"2024-11-09"},{"$f":"IF(Table!AT15<>\"\",Table!AT15,\"\")","v":""},{"$f":"IF(Table!AU15<>\"\",Table!AU15,\"\")","v":""},{"$f":"IF(Table!AV15<>\"\",Table!AV15,\"\")","v":""},{"$f":"IF(Table!AW15<>\"\",Table!AW15,\"\")","v":""},{"$f":"IF(Table!AX15<>\"\",Table!AX15,\"\")","v":""},{"$f":"IF(Table!AY15<>\"\",Table!AY15,\"\")","v":""},{"$f":"IF(Table!AZ15<>\"\",Table!AZ15,\"\")","v":""},{"$f":"IF(Table!BA15<>\"\",Table!BA15,\"\")","v":""},{"$f":"IF(Table!BB15<>\"\",Table!BB15,\"\")","v":""},{"$f":"IF(Table!BC15<>\"\",Table!BC15,\"\")","v":""},{"$f":"IF(Table!BD15<>\"\",Table!BD15,\"\")","v":""},{"$f":"IF(Table!BE15<>\"\",Table!BE15,\"\")","v":""},{"$f":"IF(Table!BF15<>\"\",Table!BF15,\"\")","v":""},{"$f":"IF(Table!BG15<>\"\",Table!BG15,\"\")","v":""},{"$f":"IF(Table!BH15<>\"\",Table!BH15,\"\")","v":""},{"$f":"IF(Table!BI15<>\"\",Table!BI15,\"\")","v":""},{"$f":"IF(Table!BJ15<>\"\",Table!BJ15,\"\")","v":""},{"$f":"IF(Table!BK15<>\"\",Table!BK15,\"\")","v":""},{"$f":"IF(Table!BL15<>\"\",Table!BL15,\"\")","v":""},{"$f":"IF(Table!BM15<>\"\",Table!BM15,\"\")","v":""},{"$f":"IF(Table!BN15<>\"\",Table!BN15,\"\")","v":""},{"$f":"IF(Table!BO15<>\"\",Table!BO15,\"\")","v":""},{"$f":"IF(Table!BP15<>\"\",Table!BP15,\"\")","v":""},{"$f":"IF(Table!BQ15<>\"\",Table!BQ15,\"\")","v":""}]
[{"$f":"IF(Table!A16<>\"\",Table!A16,\"\")","v":"2024-11-10"},{"$f":"IF(Table!A16<>\"\",Table!A16,\"\")","v":"2024-11-10"},{"$f":"IF(Table!AT16<>\"\",Table!AT16,\"\")","v":""},{"$f":"IF(Table!AU16<>\"\",Table!AU16,\"\")","v":""},{"$f":"IF(Table!AV16<>\"\",Table!AV16,\"\")","v":""},{"$f":"IF(Table!AW16<>\"\",Table!AW16,\"\")","v":""},{"$f":"IF(Table!AX16<>\"\",Table!AX16,\"\")","v":""},{"$f":"IF(Table!AY16<>\"\",Table!AY16,\"\")","v":""},{"$f":"IF(Table!AZ16<>\"\",Table!AZ16,\"\")","v":""},{"$f":"IF(Table!BA16<>\"\",Table!BA16,\"\")","v":""},{"$f":"IF(Table!BB16<>\"\",Table!BB16,\"\")","v":""},{"$f":"IF(Table!BC16<>\"\",Table!BC16,\"\")","v":""},{"$f":"IF(Table!BD16<>\"\",Table!BD16,\"\")","v":""},{"$f":"IF(Table!BE16<>\"\",Table!BE16,\"\")","v":""},{"$f":"IF(Table!BF16<>\"\",Table!BF16,\"\")","v":""},{"$f":"IF(Table!BG16<>\"\",Table!BG16,\"\")","v":""},{"$f":"IF(Table!BH16<>\"\",Table!BH16,\"\")","v":""},{"$f":"IF(Table!BI16<>\"\",Table!BI16,\"\")","v":""},{"$f":"IF(Table!BJ16<>\"\",Table!BJ16,\"\")","v":""},{"$f":"IF(Table!BK16<>\"\",Table!BK16,\"\")","v":""},{"$f":"IF(Table!BL16<>\"\",Table!BL16,\"\")","v":""},{"$f":"IF(Table!BM16<>\"\",Table!BM16,\"\")","v":""},{"$f":"IF(Table!BN16<>\"\",Table!BN16,\"\")","v":1.57},{"$f":"IF(Table!BO16<>\"\",Table!BO16,\"\")","v":1.59},{"$f":"IF(Table!BP16<>\"\",Table!BP16,\"\")","v":1.38},{"$f":"IF(Table!BQ16<>\"\",Table!BQ16,\"\")","v":1.37}]
[{"$f":"IF(Table!A17<>\"\",Table!A17,\"\")","v":"2024-11-11"},{"$f":"IF(Table!A17<>\"\",Table!A17,\"\")","v":"2024-11-11"},{"$f":"IF(Table!AT17<>\"\",Table!AT17,\"\")","v":""},{"$f":"IF(Table!AU17<>\"\",Table!AU17,\"\")","v":""},{"$f":"IF(Table!AV17<>\"\",Table!AV17,\"\")","v":22},{"$f":"IF(Table!AW17<>\"\",Table!AW17,\"\")","v":5},{"$f":"IF(Table!AX17<>\"\",Table!AX17,\"\")","v":7},{"$f":"IF(Table!AY17<>\"\",Table!AY17,\"\")","v":6.08},{"$f":"IF(Table!AZ17<>\"\",Table!AZ17,\"\")","v":4.76},{"$f":"IF(Table!BA17<>\"\",Table!BA17,\"\")","v":0.1},{"$f":"IF(Table!BB17<>\"\",Table!BB17,\"\")","v":0.82},{"$f":"IF(Table!BC17<>\"\",Table!BC17,\"\")","v":143},{"$f":"IF(Table!BD17<>\"\",Table!BD17,\"\")","v":229},{"$f":"IF(Table!BE17<>\"\",Table!BE17,\"\")","v":""},{"$f":"IF(Table!BF17<>\"\",Table!BF17,\"\")","v":""},{"$f":"IF(Table!BG17<>\"\",Table!BG17,\"\")","v":1.47},{"$f":"IF(Table!BH17<>\"\",Table!BH17,\"\")","v":""},{"$f":"IF(Table!BI17<>\"\",Table!BI17,\"\")","v":""},{"$f":"IF(Table!BJ17<>\"\",Table!BJ17,\"\")","v":""},{"$f":"IF(Table!BK17<>\"\",Table!BK17,\"\")","v":""},{"$f":"IF(Table!BL17<>\"\",Table!BL17,\"\")","v":""},{"$f":"IF(Table!BM17<>\"\",Table!BM17,\"\")","v":""},{"$f":"IF(Table!BN17<>\"\",Table!BN17,\"\")","v":1.23},{"$f":"IF(Table!BO17<>\"\",Table!BO17,\"\")","v":1.24},{"$f":"IF(Table!BP17<>\"\",Table!BP17,\"\")","v":1.45},{"$f":"IF(Table!BQ17<>\"\",Table!BQ17,\"\")","v":1.42}]
[{"$f":"IF(Table!A18<>\"\",Table!A18,\"\")","v":"2024-11-12"},{"$f":"IF(Table!A18<>\"\",Table!A18,\"\")","v":"2024-11-12"},{"$f":"IF(Table!AT18<>\"\",Table!AT18,\"\")","v":""},{"$f":"IF(Table!AU18<>\"\",Table!AU18,\"\")","v":""},{"$f":"IF(Table!AV18<>\"\",Table!AV18,\"\")","v":""},{"$f":"IF(Table!AW18<>\"\",Table!AW18,\"\")","v":""},{"$f":"IF(Table!AX18<>\"\",Table!AX18,\"\")","v":""},{"$f":"IF(Table!AY18<>\"\",Table!AY18,\"\")","v":""},{"$f":"IF(Table!AZ18<>\"\",Table!AZ18,\"\")","v":""},{"$f":"IF(Table!BA18<>\"\",Table!BA18,\"\")","v":""},{"$f":"IF(Table!BB18<>\"\",Table!BB18,\"\")","v":""},{"$f":"IF(Table!BC18<>\"\",Table!BC18,\"\")","v":""},{"$f":"IF(Table!BD18<>\"\",Table!BD18,\"\")","v":""},{"$f":"IF(Table!BE18<>\"\",Table!BE18,\"\")","v":""},{"$f":"IF(Table!BF18<>\"\",Table!BF18,\"\")","v":""},{"$f":"IF(Table!BG18<>\"\",Table!BG18,\"\")","v":""},{"$f":"IF(Table!BH18<>\"\",Table!BH18,\"\")","v":""},{"$f":"IF(Table!BI18<>\"\",Table!BI18,\"\")","v":""},{"$f":"IF(Table!BJ18<>\"\",Table!BJ18,\"\")","v":""},{"$f":"IF(Table!BK18<>\"\",Table!BK18,\"\")","v":""},{"$f":"IF(Table!BL18<>\"\",Table!BL18,\"\")","v":""},{"$f":"IF(Table!BM18<>\"\",Table!BM18,\"\")","v":""},{"$f":"IF(Table!BN18<>\"\",Table!BN18,\"\")","v":1.34},{"$f":"IF(Table!BO18<>\"\",Table!BO18,\"\")","v":1.33},{"$f":"IF(Table!BP18<>\"\",Table!BP18,\"\")","v":1.52},{"$f":"IF(Table!BQ18<>\"\",Table!BQ18,\"\")","v":1.49}]
[{"$f":"IF(Table!A19<>\"\",Table!A19,\"\")","v":"2024-11-13"},{"$f":"IF(Table!A19<>\"\",Table!A19,\"\")","v":"2024-11-13"},{"$f":"IF(Table!AT19<>\"\",Table!AT19,\"\")","v":1},{"$f":"IF(Table!AU19<>\"\",Table!AU19,\"\")","v":5},{"$f":"IF(Table!AV19<>\"\",Table!AV19,\"\")","v":35},{"$f":"IF(Table!AW19<>\"\",Table!AW19,\"\")","v":5},{"$f":"IF(Table!AX19<>\"\",Table!AX19,\"\")","v":""},{"$f":"IF(Table!AY19<>\"\",Table!AY19,\"\")","v":""},{"$f":"IF(Table!AZ19<>\"\",Table!AZ19,\"\")","v":""},{"$f":"IF(Table!BA19<>\"\",Table!BA19,\"\")","v":""},{"$f":"IF(Table!BB19<>\"\",Table!BB19,\"\")","v":""},{"$f":"IF(Table!BC19<>\"\",Table!BC19,\"\")","v":""},{"$f":"IF(Table!BD19<>\"\",Table!BD19,\"\")","v":""},{"$f":"IF(Table!BE19<>\"\",Table!BE19,\"\")","v":""},{"$f":"IF(Table!BF19<>\"\",Table!BF19,\"\")","v":""},{"$f":"IF(Table!BG19<>\"\",Table!BG19,\"\")","v":""},{"$f":"IF(Table!BH19<>\"\",Table!BH19,\"\")","v":""},{"$f":"IF(Table!BI19<>\"\",Table!BI19,\"\")","v":""},{"$f":"IF(Table!BJ19<>\"\",Table!BJ19,\"\")","v":""},{"$f":"IF(Table!BK19<>\"\",Table!BK19,\"\")","v":""},{"$f":"IF(Table!BL19<>\"\",Table!BL19,\"\")","v":""},{"$f":"IF(Table!BM19<>\"\",Table!BM19,\"\")","v":""},{"$f":"IF(Table!BN19<>\"\",Table!BN19,\"\")","v":1.41},{"$f":"IF(Table!BO19<>\"\",Table!BO19,\"\")","v":1.39},{"$f":"IF(Table!BP19<>\"\",Table!BP19,\"\")","v":1.36},{"$f":"IF(Table!BQ19<>\"\",Table!BQ19,\"\")","v":1.33}]
[{"$f":"IF(Table!A20<>\"\",Table!A20,\"\")","v":"2024-11-14"},{"$f":"IF(Table!A20<>\"\",Table!A20,\"\")","v":"2024-11-14"},{"$f":"IF(Table!AT20<>\"\",Table!AT20,\"\")","v":""},{"$f":"IF(Table!AU20<>\"\",Table!AU20,\"\")","v":""},{"$f":"IF(Table!AV20<>\"\",Table!AV20,\"\")","v":""},{"$f":"IF(Table!AW20<>\"\",Table!AW20,\"\")","v":""},{"$f":"IF(Table!AX20<>\"\",Table!AX20,\"\")","v":""},{"$f":"IF(Table!AY20<>\"\",Table!AY20,\"\")","v":""},{"$f":"IF(Table!AZ20<>\"\",Table!AZ20,\"\")","v":""},{"$f":"IF(Table!BA20<>\"\",Table!BA20,\"\")","v":""},{"$f":"IF(Table!BB20<>\"\",Table!BB20,\"\")","v":""},{"$f":"IF(Table!BC20<>\"\",Table!BC20,\"\")","v":""},{"$f":"IF(Table!BD20<>\"\",Table!BD20,\"\")","v":""},{"$f":"IF(Table!BE20<>\"\",Table!BE20,\"\")","v":""},{"$f":"IF(Table!BF20<>\"\",Table!BF20,\"\")","v":""},{"$f":"IF(Table!BG20<>\"\",Table!BG20,\"\")","v":""},{"$f":"IF(Table!BH20<>\"\",Table!BH20,\"\")","v":""},{"$f":"IF(Table!BI20<>\"\",Table!BI20,\"\")","v":""},{"$f":"IF(Table!BJ20<>\"\",Table!BJ20,\"\")","v":""},{"$f":"IF(Table!BK20<>\"\",Table!BK20,\"\")","v":""},{"$f":"IF(Table!BL20<>\"\",Table!BL20,\"\")","v":""},{"$f":"IF(Table!BM20<>\"\",Table!BM20,\"\")","v":""},{"$f":"IF(Table!BN20<>\"\",Table!BN20,\"\")","v":1.81},{"$f":"IF(Table!BO20<>\"\",Table!BO20,\"\")","v":1.82},{"$f":"IF(Table!BP20<>\"\",Table!BP20,\"\")","v":1.27},{"$f":"IF(Table!BQ20<>\"\",Table!BQ20,\"\")","v":1.27}]
[{"$f":"IF(Table!A21<>\"\",Table!A21,\"\")","v":"2024-11-15"},{"$f":"IF(Table!A21<>\"\",Table!A21,\"\")","v":"2024-11-15"},{"$f":"IF(Table!AT21<>\"\",Table!AT21,\"\")","v":""},null,null,null,{"$f":"IF(Table!AX21<>\"\",Table!AX21,\"\")","v":""},{"$f":"IF(Table!AY21<>\"\",Table!AY21,\"\")","v":""},{"$f":"IF(Table!AZ21<>\"\",Table!AZ21,\"\")","v":""},{"$f":"IF(Table!BA21<>\"\",Table!BA21,\"\")","v":""},{"$f":"IF(Table!BB21<>\"\",Table!BB21,\"\")","v":""},{"$f":"IF(Table!BC21<>\"\",Table!BC21,\"\")","v":""},{"$f":"IF(Table!BD21<>\"\",Table!BD21,\"\")","v":""},{"$f":"IF(Table!BE21<>\"\",Table!BE21,\"\")","v":""},{"$f":"IF(Table!BF21<>\"\",Table!BF21,\"\")","v":""},{"$f":"IF(Table!BG21<>\"\",Table!BG21,\"\")","v":""},{"$f":"IF(Table!BH21<>\"\",Table!BH21,\"\")","v":""},{"$f":"IF(Table!BI21<>\"\",Table!BI21,\"\")","v":""},{"$f":"IF(Table!BJ21<>\"\",Table!BJ21,\"\")","v":""},{"$f":"IF(Table!BK21<>\"\",Table!BK21,\"\")","v":""},{"$f":"IF(Table!BL21<>\"\",Table!BL21,\"\")","v":""},{"$f":"IF(Table!BM21<>\"\",Table!BM21,\"\")","v":""},{"$f":"IF(Table!BN21<>\"\",Table!BN21,\"\")","v":""},{"$f":"IF(Table!BO21<>\"\",Table!BO21,\"\")","v":""},{"$f":"IF(Table!BP21<>\"\",Table!BP21,\"\")","v":""},{"$f":"IF(Table!BQ21<>\"\",Table!BQ21,\"\")","v":""}]
[{"$f":"IF(Table!A22<>\"\",Table!A22,\"\")","v":"2024-11-16"},{"$f":"IF(Table!A22<>\"\",Table!A22,\"\")","v":"2024-11-16"},{"$f":"IF(Table!AT22<>\"\",Table!AT22,\"\")","v":""},{"$f":"IF(Table!AU22<>\"\",Table!AU22,\"\")","v":""},{"$f":"IF(Table!AV22<>\"\",Table!AV22,\"\")","v":""},{"$f":"IF(Table!AW22<>\"\",Table!AW22,\"\")","v":""},{"$f":"IF(Table!AX22<>\"\",Table!AX22,\"\")","v":""},{"$f":"IF(Table!AY22<>\"\",Table!AY22,\"\")","v":""},{"$f":"IF(Table!AZ22<>\"\",Table!AZ22,\"\")","v":""},{"$f":"IF(Table!BA22<>\"\",Table!BA22,\"\")","v":""},{"$f":"IF(Table!BB22<>\"\",Table!BB22,\"\")","v":""},{"$f":"IF(Table!BC22<>\"\",Table!BC22,\"\")","v":""},{"$f":"IF(Table!BD22<>\"\",Table!BD22,\"\")","v":""},{"$f":"IF(Table!BE22<>\"\",Table!BE22,\"\")","v":""},{"$f":"IF(Table!BF22<>\"\",Table!BF22,\"\")","v":""},{"$f":"IF(Table!BG22<>\"\",Table!BG22,\"\")","v":""},{"$f":"IF(Table!BH22<>\"\",Table!BH22,\"\")","v":""},{"$f":"IF(Table!BI22<>\"\",Table!BI22,\"\")","v":""},{"$f":"IF(Table!BJ22<>\"\",Table!BJ22,\"\")","v":""},{"$f":"IF(Table!BK22<>\"\",Table!BK22,\"\")","v":""},{"$f":"IF(Table!BL22<>\"\",Table!BL22,\"\")","v":""},{"$f":"IF(Table!BM22<>\"\",Table!BM22,\"\")","v":""},{"$f":"IF(Table!BN22<>\"\",Table!BN22,\"\")","v":""},{"$f":"IF(Table!BO22<>\"\",Table!BO22,\"\")","v":""},{"$f":"IF(Table!BP22<>\"\",Table!BP22,\"\")","v":""},{"$f":"IF(Table!BQ22<>\"\",Table!BQ22,\"\")","v":""}]
[{"$f":"IF(Table!A23<>\"\",Table!A23,\"\")","v":"2024-11-17"},{"$f":"IF(Table!A23<>\"\",Table!A23,\"\")","v":"2024-11-17"},{"$f":"IF(Table!AT23<>\"\",Table!AT23,\"\")","v":""},{"$f":"IF(Table!AU23<>\"\",Table!AU23,\"\")","v":""},{"$f":"IF(Table!AV23<>\"\",Table!AV23,\"\")","v":""},{"$f":"IF(Table!AW23<>\"\",Table!AW23,\"\")","v":""},{"$f":"IF(Table!AX23<>\"\",Table!AX23,\"\")","v":""},{"$f":"IF(Table!AY23<>\"\",Table!AY23,\"\")","v":""},{"$f":"IF(Table!AZ23<>\"\",Table!AZ23,\"\")","v":""},{"$f":"IF(Table!BA23<>\"\",Table!BA23,\"\")","v":""},{"$f":"IF(Table!BB23<>\"\",Table!BB23,\"\")","v":""},{"$f":"IF(Table!BC23<>\"\",Table!BC23,\"\")","v":""},{"$f":"IF(Table!BD23<>\"\",Table!BD23,\"\")","v":""},{"$f":"IF(Table!BE23<>\"\",Table!BE23,\"\")","v":""},{"$f":"IF(Table!BF23<>\"\",Table!BF23,\"\")","v":""},{"$f":"IF(Table!BG23<>\"\",Table!BG23,\"\")","v":""},{"$f":"IF(Table!BH23<>\"\",Table!BH23,\"\")","v":""},{"$f":"IF(Table!BI23<>\"\",Table!BI23,\"\")","v":""},{"$f":"IF(Table!BJ23<>\"\",Table!BJ23,\"\")","v":""},{"$f":"IF(Table!BK23<>\"\",Table!BK23,\"\")","v":""},{"$f":"IF(Table!BL23<>\"\",Table!BL23,\"\")","v":""},{"$f":"IF(Table!BM23<>\"\",Table!BM23,\"\")","v":""},{"$f":"IF(Table!BN23<>\"\",Table!BN23,\"\")","v":1.66},{"$f":"IF(Table!BO23<>\"\",Table!BO23,\"\")","v":1.68},{"$f":"IF(Table!BP23<>\"\",Table!BP23,\"\")","v":1.68},{"$f":"IF(Table!BQ23<>\"\",Table!BQ23,\"\")","v":1.65}]
[{"$f":"IF(Table!A24<>\"\",Table!A24,\"\")","v":"2024-11-18"},{"$f":"IF(Table!A24<>\"\",Table!A24,\"\")","v":"2024-11-18"},{"$f":"IF(Table!AT24<>\"\",Table!AT24,\"\")","v":1},{"$f":"IF(Table!AU24<>\"\",Table!AU24,\"\")","v":5},{"$f":"IF(Table!AV24<>\"\",Table!AV24,\"\")","v":36},{"$f":"IF(Table!AW24<>\"\",Table!AW24,\"\")","v":5},{"$f":"IF(Table!AX24<>\"\",Table!AX24,\"\")","v":8.6},{"$f":"IF(Table!AY24<>\"\",Table!AY24,\"\")","v":7.07},{"$f":"IF(Table!AZ24<>\"\",Table!AZ24,\"\")","v":3.91},{"$f":"IF(Table!BA24<>\"\",Table!BA24,\"\")","v":0.13},{"$f":"IF(Table!BB24<>\"\",Table!BB24,\"\")","v":1.4},{"$f":"IF(Table!BC24<>\"\",Table!BC24,\"\")","v":141},{"$f":"IF(Table!BD24<>\"\",Table!BD24,\"\")","v":231},{"$f":"IF(Table!BE24<>\"\",Table!BE24,\"\")","v":7.06},{"$f":"IF(Table!BF24<>\"\",Table!BF24,\"\")","v":0.2},{"$f":"IF(Table!BG24<>\"\",Table!BG24,\"\")","v":1.48},{"$f":"IF(Table!BH24<>\"\",Table!BH24,\"\")","v":""},{"$f":"IF(Table!BI24<>\"\",Table!BI24,\"\")","v":""},{"$f":"IF(Table!BJ24<>\"\",Table!BJ24,\"\")","v":""},{"$f":"IF(Table!BK24<>\"\",Table!BK24,\"\")","v":""},{"$f":"IF(Table!BL24<>\"\",Table!BL24,\"\")","v":""},{"$f":"IF(Table!BM24<>\"\",Table!BM24,\"\")","v":""},{"$f":"IF(Table!BN24<>\"\",Table!BN24,\"\")","v":1.52},{"$f":"IF(Table!BO24<>\"\",Table!BO24,\"\")","v":1.55},{"$f":"IF(Table!BP24<>\"\",Table!BP24,\"\")","v":1.42},{"$f":"IF(Table!BQ24<>\"\",Table!BQ24,\"\")","v":1.42}]
[{"$f":"IF(Table!A25<>\"\",Table!A25,\"\")","v":"2024-11-19"},{"$f":"IF(Table!A25<>\"\",Table!A25,\"\")","v":"2024-11-19"},{"$f":"IF(Table!AT25<>\"\",Table!AT25,\"\")","v":""},{"$f":"IF(Table!AU25<>\"\",Table!AU25,\"\")","v":""},{"$f":"IF(Table!AV25<>\"\",Table!AV25,\"\")","v":""},{"$f":"IF(Table!AW25<>\"\",Table!AW25,\"\")","v":""},{"$f":"IF(Table!AX25<>\"\",Table!AX25,\"\")","v":""},{"$f":"IF(Table!AY25<>\"\",Table!AY25,\"\")","v":""},{"$f":"IF(Table!AZ25<>\"\",Table!AZ25,\"\")","v":""},{"$f":"IF(Table!BA25<>\"\",Table!BA25,\"\")","v":""},{"$f":"IF(Table!BB25<>\"\",Table!BB25,\"\")","v":""},{"$f":"IF(Table!BC25<>\"\",Table!BC25,\"\")","v":""},{"$f":"IF(Table!BD25<>\"\",Table!BD25,\"\")","v":""},{"$f":"IF(Table!BE25<>\"\",Table!BE25,\"\")","v":""},{"$f":"IF(Table!BF25<>\"\",Table!BF25,\"\")","v":""},{"$f":"IF(Table!BG25<>\"\",Table!BG25,\"\")","v":""},{"$f":"IF(Table!BH25<>\"\",Table!BH25,\"\")","v":""},{"$f":"IF(Table!BI25<>\"\",Table!BI25,\"\")","v":""},{"$f":"IF(Table!BJ25<>\"\",Table!BJ25,\"\")","v":""},{"$f":"IF(Table!BK25<>\"\",Table!BK25,\"\")","v":""},{"$f":"IF(Table!BL25<>\"\",Table!BL25,\"\")","v":""},{"$f":"IF(Table!BM25<>\"\",Table!BM25,\"\")","v":""},{"$f":"IF(Table!BN25<>\"\",Table!BN25,\"\")","v":1.42},{"$f":"IF(Table!BO25<>\"\",Table!BO25,\"\")","v":1.44},{"$f":"IF(Table!BP25<>\"\",Table!BP25,\"\")","v":1.41},{"$f":"IF(Table!BQ25<>\"\",Table!BQ25,\"\")","v":1.38}]
[{"$f":"IF(Table!A26<>\"\",Table!A26,\"\")","v":"2024-11-20"},{"$f":"IF(Table!A26<>\"\",Table!A26,\"\")","v":"2024-11-20"},{"$f":"IF(Table!AT26<>\"\",Table!AT26,\"\")","v":1},{"$f":"IF(Table!AU26<>\"\",Table!AU26,\"\")","v":5},{"$f":"IF(Table!AV26<>\"\",Table!AV26,\"\")","v":27},{"$f":"IF(Table!AW26<>\"\",Table!AW26,\"\")","v":5},{"$f":"IF(Table!AX26<>\"\",Table!AX26,\"\")","v":""},{"$f":"IF(Table!AY26<>\"\",Table!AY26,\"\")","v":""},{"$f":"IF(Table!AZ26<>\"\",Table!AZ26,\"\")","v":""},{"$f":"IF(Table!BA26<>\"\",Table!BA26,\"\")","v":""},{"$f":"IF(Table!BB26<>\"\",Table!BB26,\"\")","v":""},{"$f":"IF(Table!BC26<>\"\",Table!BC26,\"\")","v":""},{"$f":"IF(Table!BD26<>\"\",Table!BD26,\"\")","v":""},{"$f":"IF(Table!BE26<>\"\",Table!BE26,\"\")","v":""},{"$f":"IF(Table!BF26<>\"\",Table!BF26,\"\")","v":""},{"$f":"IF(Table!BG26<>\"\",Table!BG26,\"\")","v":""},{"$f":"IF(Table!BH26<>\"\",Table!BH26,\"\")","v":""},{"$f":"IF(Table!BI26<>\"\",Table!BI26,\"\")","v":""},{"$f":"IF(Table!BJ26<>\"\",Table!BJ26,\"\")","v":""},{"$f":"IF(Table!BK26<>\"\",Table!BK26,\"\")","v":""},{"$f":"IF(Table!BL26<>\"\",Table!BL26,\"\")","v":""},{"$f":"IF(Table!BM26<>\"\",Table!BM26,\"\")","v":""},{"$f":"IF(Table!BN26<>\"\",Table!BN26,\"\")","v":1.61},{"$f":"IF(Table!BO26<>\"\",Table!BO26,\"\")","v":1.63},{"$f":"IF(Table!BP26<>\"\",Table!BP26,\"\")","v":1.31},{"$f":"IF(Table!BQ26<>\"\",Table!BQ26,\"\")","v":1.29}]
[{"$f":"IF(Table!A27<>\"\",Table!A27,\"\")","v":"2024-11-21"},{"$f":"IF(Table!A27<>\"\",Table!A27,\"\")","v":"2024-11-21"},{"$f":"IF(Table!AT27<>\"\",Table!AT27,\"\")","v":""},{"$f":"IF(Table!AU27<>\"\",Table!AU27,\"\")","v":""},{"$f":"IF(Table!AV27<>\"\",Table!AV27,\"\")","v":""},{"$f":"IF(Table!AW27<>\"\",Table!AW27,\"\")","v":""},{"$f":"IF(Table!AX27<>\"\",Table!AX27,\"\")","v":""},{"$f":"IF(Table!AY27<>\"\",Table!AY27,\"\")","v":""},{"$f":"IF(Table!AZ27<>\"\",Table!AZ27,\"\")","v":""},{"$f":"IF(Table!BA27<>\"\",Table!BA27,\"\")","v":""},{"$f":"IF(Table!BB27<>\"\",Table!BB27,\"\")","v":""},{"$f":"IF(Table!BC27<>\"\",Table!BC27,\"\")","v":""},{"$f":"IF(Table!BD27<>\"\",Table!BD27,\"\")","v":""},{"$f":"IF(Table!BE27<>\"\",Table!BE27,\"\")","v":""},{"$f":"IF(Table!BF27<>\"\",Table!BF27,\"\")","v":""},{"$f":"IF(Table!BG27<>\"\",Table!BG27,\"\")","v":""},{"$f":"IF(Table!BH27<>\"\",Table!BH27,\"\")","v":""},{"$f":"IF(Table!BI27<>\"\",Table!BI27,\"\")","v":""},{"$f":"IF(Table!BJ27<>\"\",Table!BJ27,\"\")","v":""},{"$f":"IF(Table!BK27<>\"\",Table!BK27,\"\")","v":""},{"$f":"IF(Table!BL27<>\"\",Table!BL27,\"\")","v":""},{"$f":"IF(Table!BM27<>\"\",Table!BM27,\"\")","v":""},{"$f":"IF(Table!BN27<>\"\",Table!BN27,\"\")","v":1.81},{"$f":"IF(Table!BO27<>\"\",Table!BO27,\"\")","v":1.82},{"$f":"IF(Table!BP27<>\"\",Table!BP27,\"\")","v":1.27},{"$f":"IF(Table!BQ27<>\"\",Table!BQ27,\"\")","v":1.27}]
[{"$f":"IF(Table!A28<>\"\",Table!A28,\"\")","v":"2024-11-22"},{"$f":"IF(Table!A28<>\"\",Table!A28,\"\")","v":"2024-11-22"},{"$f":"IF(Table!AT28<>\"\",Table!AT28,\"\")","v":""},{"$f":"IF(Table!AU28<>\"\",Table!AU28,\"\")","v":""},{"$f":"IF(Table!AV28<>\"\",Table!AV28,\"\")","v":""},{"$f":"IF(Table!AW28<>\"\",Table!AW28,\"\")","v":""},{"$f":"IF(Table!AX28<>\"\",Table!AX28,\"\")","v":""},{"$f":"IF(Table!AY28<>\"\",Table!AY28,\"\")","v":""},{"$f":"IF(Table!AZ28<>\"\",Table!AZ28,\"\")","v":""},{"$f":"IF(Table!BA28<>\"\",Table!BA28,\"\")","v":""},{"$f":"IF(Table!BB28<>\"\",Table!BB28,\"\")","v":""},{"$f":"IF(Table!BC28<>\"\",Table!BC28,\"\")","v":""},{"$f":"IF(Table!BD28<>\"\",Table!BD28,\"\")","v":""},{"$f":"IF(Table!BE28<>\"\",Table!BE28,\"\")","v":""},{"$f":"IF(Table!BF28<>\"\",Table!BF28,\"\")","v":""},{"$f":"IF(Table!BG28<>\"\",Table!BG28,\"\")","v":""},{"$f":"IF(Table!BH28<>\"\",Table!BH28,\"\")","v":""},{"$f":"IF(Table!BI28<>\"\",Table!BI28,\"\")","v":""},{"$f":"IF(Table!BJ28<>\"\",Table!BJ28,\"\")","v":""},{"$f":"IF(Table!BK28<>\"\",Table!BK28,\"\")","v":""},{"$f":"IF(Table!BL28<>\"\",Table!BL28,\"\")","v":""},{"$f":"IF(Table!BM28<>\"\",Table!BM28,\"\")","v":""},{"$f":"IF(Table!BN28<>\"\",Table!BN28,\"\")","v":""},{"$f":"IF(Table!BO28<>\"\",Table!BO28,\"\")","v":""},{"$f":"IF(Table!BP28<>\"\",Table!BP28,\"\")","v":""},{"$f":"IF(Table!BQ28<>\"\",Table!BQ28,\"\")","v":""}]
[{"$f":"IF(Table!A29<>\"\",Table!A29,\"\")","v":"2024-11-23"},{"$f":"IF(Table!A29<>\"\",Table!A29,\"\")","v":"2024-11-23"},null,{"$f":"IF(Table!AU29<>\"\",Table!AU29,\"\")","v":""},{"$f":"IF(Table!AV29<>\"\",Table!AV29,\"\")","v":""},{"$f":"IF(Table!AW29<>\"\",Table!AW29,\"\")","v":""},{"$f":"IF(Table!AX29<>\"\",Table!AX29,\"\")","v":""},{"$f":"IF(Table!AY29<>\"\",Table!AY29,\"\")","v":""},{"$f":"IF(Table!AZ29<>\"\",Table!AZ29,\"\")","v":""},{"$f":"IF(Table!BA29<>\"\",Table!BA29,\"\")","v":""},{"$f":"IF(Table!BB29<>\"\",Table!BB29,\"\")","v":""},{"$f":"IF(Table!BC29<>\"\",Table!BC29,\"\")","v":""},{"$f":"IF(Table!BD29<>\"\",Table!BD29,\"\")","v":""},{"$f":"IF(Table!BE29<>\"\",Table!BE29,\"\")","v":""},{"$f":"IF(Table!BF29<>\"\",Table!BF29,\"\")","v":""},{"$f":"IF(Table!BG29<>\"\",Table!BG29,\"\")","v":""},{"$f":"IF(Table!BH29<>\"\",Table!BH29,\"\")","v":""},{"$f":"IF(Table!BI29<>\"\",Table!BI29,\"\")","v":""},{"$f":"IF(Table!BJ29<>\"\",Table!BJ29,\"\")","v":""},{"$f":"IF(Table!BK29<>\"\",Table!BK29,\"\")","v":""},{"$f":"IF(Table!BL29<>\"\",Table!BL29,\"\")","v":""},{"$f":"IF(Table!BM29<>\"\",Table!BM29,\"\")","v":""},{"$f":"IF(Table!BN29<>\"\",Table!BN29,\"\")","v":""},{"$f":"IF(Table!BO29<>\"\",Table!BO29,\"\")","v":""},{"$f":"IF(Table!BP29<>\"\",Table!BP29,\"\")","v":""},{"$f":"IF(Table!BQ29<>\"\",Table!BQ29,\"\")","v":""}]
[{"$f":"IF(Table!A30<>\"\",Table!A30,\"\")","v":"2024-11-24"},{"$f":"IF(Table!A30<>\"\",Table!A30,\"\")","v":"2024-11-24"},{"$f":"IF(Table!AT30<>\"\",Table!AT30,\"\")","v":""},{"$f":"IF(Table!AU30<>\"\",Table!AU30,\"\")","v":""},{"$f":"IF(Table!AV30<>\"\",Table!AV30,\"\")","v":""},{"$f":"IF(Table!AW30<>\"\",Table!AW30,\"\")","v":""},{"$f":"IF(Table!AX30<>\"\",Table!AX30,\"\")","v":""},{"$f":"IF(Table!AY30<>\"\",Table!AY30,\"\")","v":""},{"$f":"IF(Table!AZ30<>\"\",Table!AZ30,\"\")","v":""},{"$f":"IF(Table!BA30<>\"\",Table!BA30,\"\")","v":""},{"$f":"IF(Table!BB30<>\"\",Table!BB30,\"\")","v":""},{"$f":"IF(Table!BC30<>\"\",Table!BC30,\"\")","v":""},{"$f":"IF(Table!BD30<>\"\",Table!BD30,\"\")","v":""},{"$f":"IF(Table!BE30<>\"\",Table!BE30,\"\")","v":""},{"$f":"IF(Table!BF30<>\"\",Table!BF30,\"\")","v":""},{"$f":"IF(Table!BG30<>\"\",Table!BG30,\"\")","v":""},{"$f":"IF(Table!BH30<>\"\",Table!BH30,\"\")","v":""},{"$f":"IF(Table!BI30<>\"\",Table!BI30,\"\")","v":""},{"$f":"IF(Table!BJ30<>\"\",Table!BJ30,\"\")","v":""},{"$f":"IF(Table!BK30<>\"\",Table!BK30,\"\")","v":""},{"$f":"IF(Table!BL30<>\"\",Table!BL30,\"\")","v":""},{"$f":"IF(Table!BM30<>\"\",Table!BM30,\"\")","v":""},{"$f":"IF(Table!BN30<>\"\",Table!BN30,\"\")","v":1.91},{"$f":"IF(Table!BO30<>\"\",Table!BO30,\"\")","v":1.93},{"$f":"IF(Table!BP30<>\"\",Table!BP30,\"\")","v":1.81},{"$f":"IF(Table!BQ30<>\"\",Table!BQ30,\"\")","v":1.78}]
[{"$f":"IF(Table!A31<>\"\",Table!A31,\"\")","v":"2024-11-25"},{"$f":"IF(Table!A31<>\"\",Table!A31,\"\")","v":"2024-11-25"},{"$f":"IF(Table!AT31<>\"\",Table!AT31,\"\")","v":1},{"$f":"IF(Table!AU31<>\"\",Table!AU31,\"\")","v":5},{"$f":"IF(Table!AV31<>\"\",Table!AV31,\"\")","v":22},{"$f":"IF(Table!AW31<>\"\",Table!AW31,\"\")","v":5},{"$f":"IF(Table!AX31<>\"\",Table!AX31,\"\")","v":10},{"$f":"IF(Table!AY31<>\"\",Table!AY31,\"\")","v":8.1},{"$f":"IF(Table!AZ31<>\"\",Table!AZ31,\"\")","v":6.19},{"$f":"IF(Table!BA31<>\"\",Table!BA31,\"\")","v":0.13},{"$f":"IF(Table!BB31<>\"\",Table!BB31,\"\")","v":1.77},{"$f":"IF(Table!BC31<>\"\",Table!BC31,\"\")","v":135},{"$f":"IF(Table!BD31<>\"\",Table!BD31,\"\")","v":231},{"$f":"IF(Table!BE31<>\"\",Table!BE31,\"\")","v":""},{"$f":"IF(Table!BF31<>\"\",Table!BF31,\"\")","v":""},{"$f":"IF(Table!BG31<>\"\",Table!BG31,\"\")","v":1.48},{"$f":"IF(Table!BH31<>\"\",Table!BH31,\"\")","v":""},{"$f":"IF(Table!BI31<>\"\",Table!BI31,\"\")","v":""},{"$f":"IF(Table!BJ31<>\"\",Table!BJ31,\"\")","v":""},{"$f":"IF(Table!BK31<>\"\",Table!BK31,\"\")","v":""},{"$f":"IF(Table!BL31<>\"\",Table!BL31,\"\")","v":""},{"$f":"IF(Table!BM31<>\"\",Table!BM31,\"\")","v":""},{"$f":"IF(Table!BN31<>\"\",Table!BN31,\"\")","v":1.54},{"$f":"IF(Table!BO31<>\"\",Table!BO31,\"\")","v":1.54},{"$f":"IF(Table!BP31<>\"\",Table!BP31,\"\")","v":1.84},{"$f":"IF(Table!BQ31<>\"\",Table!BQ31,\"\")","v":1.84}]
[{"$f":"IF(Table!A32<>\"\",Table!A32,\"\")","v":"2024-11-26"},{"$f":"IF(Table!A32<>\"\",Table!A32,\"\")","v":"2024-11-26"},{"$f":"IF(Table!AT32<>\"\",Table!AT32,\"\")","v":""},{"$f":"IF(Table!AU32<>\"\",Table!AU32,\"\")","v":""},{"$f":"IF(Table!AV32<>\"\",Table!AV32,\"\")","v":""},{"$f":"IF(Table!AW32<>\"\",Table!AW32,\"\")","v":""},{"$f":"IF(Table!AX32<>\"\",Table!AX32,\"\")","v":""},{"$f":"IF(Table!AY32<>\"\",Table!AY32,\"\")","v":""},{"$f":"IF(Table!AZ32<>\"\",Table!AZ32,\"\")","v":""},{"$f":"IF(Table!BA32<>\"\",Table!BA32,\"\")","v":""},{"$f":"IF(Table!BB32<>\"\",Table!BB32,\"\")","v":""},{"$f":"IF(Table!BC32<>\"\",Table!BC32,\"\")","v":""},{"$f":"IF(Table!BD32<>\"\",Table!BD32,\"\")","v":""},{"$f":"IF(Table!BE32<>\"\",Table!BE32,\"\")","v":""},{"$f":"IF(Table!BF32<>\"\",Table!BF32,\"\")","v":""},{"$f":"IF(Table!BG32<>\"\",Table!BG32,\"\")","v":""},{"$f":"IF(Table!BH32<>\"\",Table!BH32,\"\")","v":""},{"$f":"IF(Table!BI32<>\"\",Table!BI32,\"\")","v":""},{"$f":"IF(Table!BJ32<>\"\",Table!BJ32,\"\")","v":""},{"$f":"IF(Table!BK32<>\"\",Table!BK32,\"\")","v":""},{"$f":"IF(Table!BL32<>\"\",Table!BL32,\"\")","v":""},{"$f":"IF(Table!BM32<>\"\",Table!BM32,\"\")","v":""},{"$f":"IF(Table!BN32<>\"\",Table!BN32,\"\")","v":1.82},{"$f":"IF(Table!BO32<>\"\",Table!BO32,\"\")","v":1.84},{"$f":"IF(Table!BP32<>\"\",Table!BP32,\"\")","v":1.52},{"$f":"IF(Table!BQ32<>\"\",Table!BQ32,\"\")","v":1.51}]
[{"$f":"IF(Table!A33<>\"\",Table!A33,\"\")","v":"2024-11-27"},{"$f":"IF(Table!A33<>\"\",Table!A33,\"\")","v":"2024-11-27"},{"$f":"IF(Table!AT29<>\"\",Table!AT29,\"\")","v":""},{"$f":"IF(Table!AU33<>\"\",Table!AU33,\"\")","v":5},{"$f":"IF(Table!AV33<>\"\",Table!AV33,\"\")","v":28},{"$f":"IF(Table!AW33<>\"\",Table!AW33,\"\")","v":5},{"$f":"IF(Table!AX33<>\"\",Table!AX33,\"\")","v":""},{"$f":"IF(Table!AY33<>\"\",Table!AY33,\"\")","v":""},{"$f":"IF(Table!AZ33<>\"\",Table!AZ33,\"\")","v":""},{"$f":"IF(Table!BA33<>\"\",Table!BA33,\"\")","v":""},{"$f":"IF(Table!BB33<>\"\",Table!BB33,\"\")","v":""},{"$f":"IF(Table!BC33<>\"\",Table!BC33,\"\")","v":""},{"$f":"IF(Table!BD33<>\"\",Table!BD33,\"\")","v":""},{"$f":"IF(Table!BE33<>\"\",Table!BE33,\"\")","v":""},{"$f":"IF(Table!BF33<>\"\",Table!BF33,\"\")","v":""},{"$f":"IF(Table!BG33<>\"\",Table!BG33,\"\")","v":""},{"$f":"IF(Table!BH33<>\"\",Table!BH33,\"\")","v":""},{"$f":"IF(Table!BI33<>\"\",Table!BI33,\"\")","v":""},{"$f":"IF(Table!BJ33<>\"\",Table!BJ33,\"\")","v":""},{"$f":"IF(Table!BK33<>\"\",Table!BK33,\"\")","v":""},{"$f":"IF(Table!BL33<>\"\",Table!BL33,\"\")","v":""},{"$f":"IF(Table!BM33<>\"\",Table!BM33,\"\")","v":""},{"$f":"IF(Table!BN33<>\"\",Table!BN33,\"\")","v":1.72},{"$f":"IF(Table!BO33<>\"\",Table!BO33,\"\")","v":1.74},{"$f":"IF(Table!BP33<>\"\",Table!BP33,\"\")","v":1.46},{"$f":"IF(Table!BQ33<>\"\",Table!BQ33,\"\")","v":1.46}]
[{"$f":"IF(Table!A34<>\"\",Table!A34,\"\")","v":"2024-11-28"},{"$f":"IF(Table!A34<>\"\",Table!A34,\"\")","v":"2024-11-28"},{"$f":"IF(Table!AT34<>\"\",Table!AT34,\"\")","v":""},{"$f":"IF(Table!AU34<>\"\",Table!AU34,\"\")","v":""},{"$f":"IF(Table!AV34<>\"\",Table!AV34,\"\")","v":""},{"$f":"IF(Table!AW34<>\"\",Table!AW34,\"\")","v":""},{"$f":"IF(Table!AX34<>\"\",Table!AX34,\"\")","v":""},{"$f":"IF(Table!AY34<>\"\",Table!AY34,\"\")","v":""},{"$f":"IF(Table!AZ34<>\"\",Table!AZ34,\"\")","v":""},{"$f":"IF(Table!BA34<>\"\",Table!BA34,\"\")","v":""},{"$f":"IF(Table!BB34<>\"\",Table!BB34,\"\")","v":""},{"$f":"IF(Table!BC34<>\"\",Table!BC34,\"\")","v":""},{"$f":"IF(Table!BD34<>\"\",Table!BD34,\"\")","v":""},{"$f":"IF(Table!BE34<>\"\",Table!BE34,\"\")","v":""},{"$f":"IF(Table!BF34<>\"\",Table!BF34,\"\")","v":""},{"$f":"IF(Table!BG34<>\"\",Table!BG34,\"\")","v":""},{"$f":"IF(Table!BH34<>\"\",Table!BH34,\"\")","v":""},{"$f":"IF(Table!BI34<>\"\",Table!BI34,\"\")","v":""},{"$f":"IF(Table!BJ34<>\"\",Table!BJ34,\"\")","v":""},{"$f":"IF(Table!BK34<>\"\",Table!BK34,\"\")","v":""},{"$f":"IF(Table!BL34<>\"\",Table!BL34,\"\")","v":""},{"$f":"IF(Table!BM34<>\"\",Table!BM34,\"\")","v":""},{"$f":"IF(Table!BN34<>\"\",Table!BN34,\"\")","v":1.68},{"$f":"IF(Table!BO34<>\"\",Table!BO34,\"\")","v":1.71},{"$f":"IF(Table!BP34<>\"\",Table!BP34,\"\")","v":1.39},{"$f":"IF(Table!BQ34<>\"\",Table!BQ34,\"\")","v":1.38}]
[{"$f":"IF(Table!A35<>\"\",Table!A35,\"\")","v":"2024-11-29"},{"$f":"IF(Table!A35<>\"\",Table!A35,\"\")","v":"2024-11-29"},{"$f":"IF(Table!AT35<>\"\",Table!AT35,\"\")","v":""},{"$f":"IF(Table!AU35<>\"\",Table!AU35,\"\")","v":""},{"$f":"IF(Table!AV35<>\"\",Table!AV35,\"\")","v":""},{"$f":"IF(Table!AW35<>\"\",Table!AW35,\"\")","v":""},{"$f":"IF(Table!AX35<>\"\",Table!AX35,\"\")","v":""},{"$f":"IF(Table!AY35<>\"\",Table!AY35,\"\")","v":""},{"$f":"IF(Table!AZ35<>\"\",Table!AZ35,\"\")","v":""},{"$f":"IF(Table!BA35<>\"\",Table!BA35,\"\")","v":""},{"$f":"IF(Table!BB35<>\"\",Table!BB35,\"\")","v":""},{"$f":"IF(Table!BC35<>\"\",Table!BC35,\"\")","v":""},{"$f":"IF(Table!BD35<>\"\",Table!BD35,\"\")","v":""},{"$f":"IF(Table!BE35<>\"\",Table!BE35,\"\")","v":""},{"$f":"IF(Table!BF35<>\"\",Table!BF35,\"\")","v":""},{"$f":"IF(Table!BG35<>\"\",Table!BG35,\"\")","v":""},{"$f":"IF(Table!BH35<>\"\",Table!BH35,\"\")","v":""},{"$f":"IF(Table!BI35<>\"\",Table!BI35,\"\")","v":""},{"$f":"IF(Table!BJ35<>\"\",Table!BJ35,\"\")","v":""},{"$f":"IF(Table!BK35<>\"\",Table!BK35,\"\")","v":""},{"$f":"IF(Table!BL35<>\"\",Table!BL35,\"\")","v":""},{"$f":"IF(Table!BM35<>\"\",Table!BM35,\"\")","v":""},{"$f":"IF(Table!BN35<>\"\",Table!BN35,\"\")","v":""},{"$f":"IF(Table!BO35<>\"\",Table!BO35,\"\")","v":""},{"$f":"IF(Table!BP35<>\"\",Table!BP35,\"\")","v":""},{"$f":"IF(Table!BQ35<>\"\",Table!BQ35,\"\")","v":""}]
[{"$f":"IF(Table!A36<>\"\",Table!A36,\"\")","v":"2024-11-30"},{"$f":"IF(Table!A36<>\"\",Table!A36,\"\")","v":"2024-11-30"},{"$f":"IF(Table!AT36<>\"\",Table!AT36,\"\")","v":""},{"$f":"IF(Table!AU36<>\"\",Table!AU36,\"\")","v":""},{"$f":"IF(Table!AV36<>\"\",Table!AV36,\"\")","v":""},{"$f":"IF(Table!AW36<>\"\",Table!AW36,\"\")","v":""},{"$f":"IF(Table!AX36<>\"\",Table!AX36,\"\")","v":""},{"$f":"IF(Table!AY36<>\"\",Table!AY36,\"\")","v":""},{"$f":"IF(Table!AZ36<>\"\",Table!AZ36,\"\")","v":""},{"$f":"IF(Table!BA36<>\"\",Table!BA36,\"\")","v":""},{"$f":"IF(Table!BB36<>\"\",Table!BB36,\"\")","v":""},{"$f":"IF(Table!BC36<>\"\",Table!BC36,\"\")","v":""},{"$f":"IF(Table!BD36<>\"\",Table!BD36,\"\")","v":""},{"$f":"IF(Table!BE36<>\"\",Table!BE36,\"\")","v":""},{"$f":"IF(Table!BF36<>\"\",Table!BF36,\"\")","v":""},{"$f":"IF(Table!BG36<>\"\",Table!BG36,\"\")","v":""},{"$f":"IF(Table!BH36<>\"\",Table!BH36,\"\")","v":""},{"$f":"IF(Table!BI36<>\"\",Table!BI36,\"\")","v":""},{"$f":"IF(Table!BJ36<>\"\",Table!BJ36,\"\")","v":""},{"$f":"IF(Table!BK36<>\"\",Table!BK36,\"\")","v":""},{"$f":"IF(Table!BL36<>\"\",Table!BL36,\"\")","v":""},{"$f":"IF(Table!BM36<>\"\",Table!BM36,\"\")","v":""},{"$f":"IF(Table!BN36<>\"\",Table!BN36,\"\")","v":""},{"$f":"IF(Table!BO36<>\"\",Table!BO36,\"\")","v":""},{"$f":"IF(Table!BP36<>\"\",Table!BP36,\"\")","v":""},{"$f":"IF(Table!BQ36<>\"\",Table!BQ36,\"\")","v":""}]
[{"$f":"IF(Table!A37<>\"\",Table!A37,\"\")","v":"2024-12-01"},{"$f":"IF(Table!A37<>\"\",Table!A37,\"\")","v":"2024-12-01"},{"$f":"IF(Table!AT37<>\"\",Table!AT37,\"\")","v":""},{"$f":"IF(Table!AU37<>\"\",Table!AU37,\"\")","v":""},{"$f":"IF(Table!AV37<>\"\",Table!AV37,\"\")","v":""},{"$f":"IF(Table!AW37<>\"\",Table!AW37,\"\")","v":""},{"$f":"IF(Table!AX37<>\"\",Table!AX37,\"\")","v":""},{"$f":"IF(Table!AY37<>\"\",Table!AY37,\"\")","v":""},{"$f":"IF(Table!AZ37<>\"\",Table!AZ37,\"\")","v":""},{"$f":"IF(Table!BA37<>\"\",Table!BA37,\"\")","v":""},{"$f":"IF(Table!BB37<>\"\",Table!BB37,\"\")","v":""},{"$f":"IF(Table!BC37<>\"\",Table!BC37,\"\")","v":""},{"$f":"IF(Table!BD37<>\"\",Table!BD37,\"\")","v":""},{"$f":"IF(Table!BE37<>\"\",Table!BE37,\"\")","v":""},{"$f":"IF(Table!BF37<>\"\",Table!BF37,\"\")","v":""},{"$f":"IF(Table!BG37<>\"\",Table!BG37,\"\")","v":""},{"$f":"IF(Table!BH37<>\"\",Table!BH37,\"\")","v":""},{"$f":"IF(Table!BI37<>\"\",Table!BI37,\"\")","v":""},{"$f":"IF(Table!BJ37<>\"\",Table!BJ37,\"\")","v":""},{"$f":"IF(Table!BK37<>\"\",Table!BK37,\"\")","v":""},{"$f":"IF(Table!BL37<>\"\",Table!BL37,\"\")","v":""},{"$f":"IF(Table!BM37<>\"\",Table!BM37,\"\")","v":""},{"$f":"IF(Table!BN37<>\"\",Table!BN37,\"\")","v":""},{"$f":"IF(Table!BO37<>\"\",Table!BO37,\"\")","v":""},{"$f":"IF(Table!BP37<>\"\",Table!BP37,\"\")","v":""},{"$f":"IF(Table!BQ37<>\"\",Table!BQ37,\"\")","v":""}]
["סה\"כ לחודש"]
["ממוצע ",null,{"$f":"AVERAGE(C7:C37)","v":1},{"$f":"AVERAGE(D7:D37)","v":5},26.5,5,7.85,6.3000000000000007,4.1775000000000002,0.12,1.46,139.5,230,6.1150000000000002,0.2,1.4725000000000001,0.3,0,0,0,0,0,1.5964999999999996,1.6030000000000002,1.4864999999999999,1.4665000000000001]
["מקסימום ",null,{"$f":"MAX(C7:C37)","v":1},{"$f":"MAX(D7:D37)","v":5},36,5,10,8.1,6.19,0.13,1.85,143,231,7.06,0.2,1.48,0.3,0,0,0,0,0,1.91,1.93,1.84,1.84]
["מינימום ",null,{"$f":"MIN(C8:C38)","v":1},{"$f":"MIN(D8:D38)","v":5},13,5,5.8,3.95,1.85,0.1,0.82,135,229,5.17,0.2,1.46,0.3,0,0,0,0,0,1.23,1.24,1.27,1.27]

{"sheet":"יחידת טיפול ","index":5,"n_rows":41,"n_cols":20,"rows_kept":41,"cut":false,"hidden":false,"merged":[[1,0,1,3],[4,1,5,1],[4,15,5,15],[5,2,5,3],[3,2,3,7],[3,0,3,1],[4,0,5,0],[1,4,1,19],[2,10,2,19],[3,18,4,18],[3,19,4,19],[5,10,5,11],[5,8,5,9],[3,16,3,17],[5,16,5,17],[3,10,3,15],[40,0,40,1],[2,2,2,9],[2,0,2,1],[37,0,37,1],[4,7,5,7],[3,8,3,9],[38,0,38,1],[39,0,39,1]]}
[]
[{"$f":"סיכום!C11","v":"מט\"ש נובמבר 2024"},null,null,null,"נתוני תפעול   - גליון 5  - יחידות טיפול"]
["יחידת פעולה",null,"יחידת טיפול 1",null,null,null,null,null,null,null,"יחידת טיפול 2"]
["תדירות",null,"מעבדה",null,null,null,null,null,"מד חמצן מומס ",null,"מעבדה",null,null,null,null,null,"מד חמצן מומס ",null,"כמות מ\"מ בריאקטורים","גיל בוצה"]
["תאריך","יום בשבוע","מוצקים מרחפים","מוצקים נדיפים","שיקוע","SVI","יחס נדיף","F / M","נייד","קבוע","מוצקים מרחפים","מוצקים נדיפים","שיקוע","SVI","יחס נדיף","F / M","נייד","קבוע"]
[null,null,"מ\"ג/ליטר",null,"30 דק'","מ\"ל/גר'","%",null,"מ\"ג/ליטר",null,"מ\"ג/ליטר",null,"30 דק'","מ\"ל/גר'","%",null,"מ\"ג/ליטר",null,"טון","יום"]
[{"$f":"IF(Table!A7<>\"\",Table!A7,\"\")","v":"2024-11-01"},{"$f":"IF(Table!A7<>\"\",Table!A7,\"\")","v":"2024-11-01"},{"$f":"IF(Table!BT7<>\"\",Table!BT7,\"\")","v":""},{"$f":"IF(Table!BU7<>\"\",Table!BU7,\"\")","v":""},{"$f":"IF(Table!BV7<>\"\",Table!BV7,\"\")","v":""},{"$f":"IF(AND(E7<>\"\",C7<>\"\"),E7*1000/C7, \"\")","v":""},{"$f":"IF(AND(D7<>\"\",C7<>\"\"),D7/C7, \"\")","v":""},{"$f":"IF(AND(ספיקות!E7<>\"\",'איכות שפכים'!C7<>\"\",D7<>\"\",Table!CS7<>\"\"),(ספיקות!E7*'איכות שפכים'!C7/1000)/(D7/1000*Table!CS7), \"\")","v":""},{"$f":"IF(Table!BR7<>\"\",Table!BR7,\"\")","v":""},{"$f":"IF(Table!BS7<>\"\",Table!BS7,\"\")","v":""},{"$f":"IF(Table!BY7<>\"\",Table!BY7,\"\")","v":""},{"$f":"IF(Table!BZ7<>\"\",Table!BZ7,\"\")","v":""},{"$f":"IF(Table!CA7<>\"\",Table!CA7,\"\")","v":""},{"$f":"IF(AND(M7<>\"\",K7<>\"\"),M7*1000/K7, \"\")","v":""},{"$f":"IF(AND(L7<>\"\",K7<>\"\"),L7/K7, \"\")","v":""},{"$f":"IF(AND(ספיקות!E7<>\"\",'איכות שפכים'!C7<>\"\",L7<>\"\",Table!CS7<>\"\"),(ספיקות!E7*'איכות שפכים'!C7/1000)/(L7/1000*Table!CS7), \"\")","v":""},{"$f":"IF(Table!BW7<>\"\",Table!BW7,\"\")","v":""},{"$f":"IF(Table!BX7<>\"\",Table!BX7,\"\")","v":""},{"$f":"IF(K7<>\"\",(K7*Table!CS7)/1000000,\"\")","v":""}]
[{"$f":"IF(Table!A8<>\"\",Table!A8,\"\")","v":"2024-11-02"},{"$f":"IF(Table!A8<>\"\",Table!A8,\"\")","v":"2024-11-02"},{"$f":"IF(Table!BT8<>\"\",Table!BT8,\"\")","v":""},{"$f":"IF(Table!BU8<>\"\",Table!BU8,\"\")","v":""},{"$f":"IF(Table!BV8<>\"\",Table!BV8,\"\")","v":""},{"$f":"IF(AND(E8<>\"\",C8<>\"\"),E8*1000/C8, \"\")","v":""},{"$f":"IF(AND(D8<>\"\",C8<>\"\"),D8/C8, \"\")","v":""},{"$f":"IF(AND(ספיקות!E8<>\"\",'איכות שפכים'!C8<>\"\",D8<>\"\",Table!CS8<>\"\"),(ספיקות!E8*'איכות שפכים'!C8/1000)/(D8/1000*Table!CS8), \"\")","v":""},{"$f":"IF(Table!BR8<>\"\",Table!BR8,\"\")","v":""},{"$f":"IF(Table!BS8<>\"\",Table!BS8,\"\")","v":""},{"$f":"IF(Table!BY8<>\"\",Table!BY8,\"\")","v":""},{"$f":"IF(Table!BZ8<>\"\",Table!BZ8,\"\")","v":""},{"$f":"IF(Table!CA8<>\"\",Table!CA8,\"\")","v":""},{"$f":"IF(AND(M8<>\"\",K8<>\"\"),M8*1000/K8, \"\")","v":""},{"$f":"IF(AND(L8<>\"\",K8<>\"\"),L8/K8, \"\")","v":""},{"$f":"IF(AND(ספיקות!E8<>\"\",'איכות שפכים'!C8<>\"\",L8<>\"\",Table!CS8<>\"\"),(ספיקות!E8*'איכות שפכים'!C8/1000)/(L8/1000*Table!CS8), \"\")","v":""},{"$f":"IF(Table!BW8<>\"\",Table!BW8,\"\")","v":""},{"$f":"IF(Table!BX8<>\"\",Table!BX8,\"\")","v":""},{"$f":"IF(K8<>\"\",(K8*Table!CS8)/1000000,\"\")","v":""}]
[{"$f":"IF(Table!A9<>\"\",Table!A9,\"\")","v":"2024-11-03"},{"$f":"IF(Table!A9<>\"\",Table!A9,\"\")","v":"2024-11-03"},{"$f":"IF(Table!BT9<>\"\",Table!BT9,\"\")","v":""},{"$f":"IF(Table!BU9<>\"\",Table!BU9,\"\")","v":""},{"$f":"IF(Table!BV9<>\"\",Table!BV9,\"\")","v":""},"","",{"$f":"IF(AND(ספיקות!E9<>\"\",'איכות שפכים'!C9<>\"\",D9<>\"\",Table!CS9<>\"\"),(ספיקות!E9*'איכות שפכים'!C9/1000)/(D9/1000*Table!CS9), \"\")","v":""},{"$f":"IF(Table!BR9<>\"\",Table!BR9,\"\")","v":""},{"$f":"IF(Table!BS9<>\"\",Table!BS9,\"\")","v":""},{"$f":"IF(Table!BY9<>\"\",Table!BY9,\"\")","v":""},{"$f":"IF(Table!BZ9<>\"\",Table!BZ9,\"\")","v":""},{"$f":"IF(Table!CA9<>\"\",Table!CA9,\"\")","v":370},"","",{"$f":"IF(AND(ספיקות!E9<>\"\",'איכות שפכים'!C9<>\"\",L9<>\"\",Table!CS9<>\"\"),(ספיקות!E9*'איכות שפכים'!C9/1000)/(L9/1000*Table!CS9), \"\")","v":""},{"$f":"IF(Table!BW9<>\"\",Table!BW9,\"\")","v":1.3},{"$f":"IF(Table!BX9<>\"\",Table!BX9,\"\")","v":1.3},{"$f":"IF(K9<>\"\",(K9*Table!CS9)/1000000,\"\")","v":""},0]
[{"$f":"IF(Table!A10<>\"\",Table!A10,\"\")","v":"2024-11-04"},{"$f":"IF(Table!A10<>\"\",Table!A10,\"\")","v":"2024-11-04"},{"$f":"IF(Table!BT10<>\"\",Table!BT10,\"\")","v":""},{"$f":"IF(Table!BU10<>\"\",Table!BU10,\"\")","v":""},{"$f":"IF(Table!BV10<>\"\",Table!BV10,\"\")","v":""},"","",{"$f":"IF(AND(ספיקות!E10<>\"\",'איכות שפכים'!C10<>\"\",D10<>\"\",Table!CS10<>\"\"),(ספיקות!E10*'איכות שפכים'!C10/1000)/(D10/1000*Table!CS10), \"\")","v":""},{"$f":"IF(Table!BR10<>\"\",Table!BR10,\"\")","v":""},{"$f":"IF(Table!BS10<>\"\",Table!BS10,\"\")","v":""},{"$f":"IF(Table!BY10<>\"\",Table!BY10,\"\")","v":""},{"$f":"IF(Table!BZ10<>\"\",Table!BZ10,\"\")","v":""},{"$f":"IF(Table!CA10<>\"\",Table!CA10,\"\")","v":380},"","",{"$f":"IF(AND(ספיקות!E10<>\"\",'איכות שפכים'!C10<>\"\",L10<>\"\",Table!CS10<>\"\"),(ספיקות!E10*'איכות שפכים'!C10/1000)/(L10/1000*Table!CS10), \"\")","v":""},{"$f":"IF(Table!BW10<>\"\",Table!BW10,\"\")","v":1},{"$f":"IF(Table!BX10<>\"\",Table!BX10,\"\")","v":1},{"$f":"IF(K10<>\"\",(K10*Table!CS10)/1000000,\"\")","v":""}]
[{"$f":"IF(Table!A11<>\"\",Table!A11,\"\")","v":"2024-11-05"},{"$f":"IF(Table!A11<>\"\",Table!A11,\"\")","v":"2024-11-05"},{"$f":"IF(Table!BT11<>\"\",Table!BT11,\"\")","v":""},{"$f":"IF(Table!BU11<>\"\",Table!BU11,\"\")","v":""},{"$f":"IF(Table!BV11<>\"\",Table!BV11,\"\")","v":""},"","",{"$f":"IF(AND(ספיקות!E11<>\"\",'איכות שפכים'!C11<>\"\",D11<>\"\",Table!CS11<>\"\"),(ספיקות!E11*'איכות שפכים'!C11/1000)/(D11/1000*Table!CS11), \"\")","v":""},{"$f":"IF(Table!BR11<>\"\",Table!BR11,\"\")","v":""},{"$f":"IF(Table!BS11<>\"\",Table!BS11,\"\")","v":""},{"$f":"IF(Table!BY11<>\"\",Table!BY11,\"\")","v":""},{"$f":"IF(Table!BZ11<>\"\",Table!BZ11,\"\")","v":""},{"$f":"IF(Table!CA11<>\"\",Table!CA11,\"\")","v":350},"","",{"$f":"IF(AND(ספיקות!E11<>\"\",'איכות שפכים'!C11<>\"\",L11<>\"\",Table!CS11<>\"\"),(ספיקות!E11*'איכות שפכים'!C11/1000)/(L11/1000*Table!CS11), \"\")","v":""},{"$f":"IF(Table!BW11<>\"\",Table!BW11,\"\")","v":1.2},{"$f":"IF(Table!BX11<>\"\",Table!BX11,\"\")","v":1.3},{"$f":"IF(K11<>\"\",(K11*Table!CS11)/1000000,\"\")","v":""}]
[{"$f":"IF(Table!A12<>\"\",Table!A12,\"\")","v":"2024-11-06"},{"$f":"IF(Table!A12<>\"\",Table!A12,\"\")","v":"2024-11-06"},{"$f":"IF(Table!BT12<>\"\",Table!BT12,\"\")","v":""},{"$f":"IF(Table!BU12<>\"\",Table!BU12,\"\")","v":""},{"$f":"IF(Table!BV12<>\"\",Table!BV12,\"\")","v":""},"","",{"$f":"IF(AND(ספיקות!E12<>\"\",'איכות שפכים'!C12<>\"\",D12<>\"\",Table!CS12<>\"\"),(ספיקות!E12*'איכות שפכים'!C12/1000)/(D12/1000*Table!CS12), \"\")","v":""},{"$f":"IF(Table!BR12<>\"\",Table!BR12,\"\")","v":""},{"$f":"IF(Table!BS12<>\"\",Table!BS12,\"\")","v":""},{"$f":"IF(Table!BY12<>\"\",Table!BY12,\"\")","v":""},{"$f":"IF(Table!BZ12<>\"\",Table!BZ12,\"\")","v":""},{"$f":"IF(Table!CA12<>\"\",Table!CA12,\"\")","v":360},"","",{"$f":"IF(AND(ספיקות!E12<>\"\",'איכות שפכים'!C12<>\"\",L12<>\"\",Table!CS12<>\"\"),(ספיקות!E12*'איכות שפכים'!C12/1000)/(L12/1000*Table!CS12), \"\")","v":""},{"$f":"IF(Table!BW12<>\"\",Table!BW12,\"\")","v":1.4},{"$f":"IF(Table!BX12<>\"\",Table!BX12,\"\")","v":1.4},{"$f":"IF(K12<>\"\",(K12*Table!CS12)/1000000,\"\")","v":""}]
[{"$f":"IF(Table!A13<>\"\",Table!A13,\"\")","v":"2024-11-07"},{"$f":"IF(Table!A13<>\"\",Table!A13,\"\")","v":"2024-11-07"},{"$f":"IF(Table!BT13<>\"\",Table!BT13,\"\")","v":""},{"$f":"IF(Table!BU13<>\"\",Table!BU13,\"\")","v":""},{"$f":"IF(Table!BV13<>\"\",Table!BV13,\"\")","v":""},"","",{"$f":"IF(AND(ספיקות!E13<>\"\",'איכות שפכים'!C13<>\"\",D13<>\"\",Table!CS13<>\"\"),(ספיקות!E13*'איכות שפכים'!C13/1000)/(D13/1000*Table!CS13), \"\")","v":""},{"$f":"IF(Table!BR13<>\"\",Table!BR13,\"\")","v":""},{"$f":"IF(Table!BS13<>\"\",Table!BS13,\"\")","v":""},{"$f":"IF(Table!BY13<>\"\",Table!BY13,\"\")","v":""},{"$f":"IF(Table!BZ13<>\"\",Table!BZ13,\"\")","v":""},{"$f":"IF(Table!CA13<>\"\",Table!CA13,\"\")","v":370},"","",{"$f":"IF(AND(ספיקות!E13<>\"\",'איכות שפכים'!C13<>\"\",L13<>\"\",Table!CS13<>\"\"),(ספיקות!E13*'איכות שפכים'!C13/1000)/(L13/1000*Table!CS13), \"\")","v":""},{"$f":"IF(Table!BW13<>\"\",Table!BW13,\"\")","v":1.3},{"$f":"IF(Table!BX13<>\"\",Table!BX13,\"\")","v":1.3},{"$f":"IF(K13<>\"\",(K13*Table!CS13)/1000000,\"\")","v":""}]
[{"$f":"IF(Table!A14<>\"\",Table!A14,\"\")","v":"2024-11-08"},{"$f":"IF(Table!A14<>\"\",Table!A14,\"\")","v":"2024-11-08"},{"$f":"IF(Table!BT14<>\"\",Table!BT14,\"\")","v":""},{"$f":"IF(Table!BU14<>\"\",Table!BU14,\"\")","v":""},{"$f":"IF(Table!BV14<>\"\",Table!BV14,\"\")","v":""},"","",{"$f":"IF(AND(ספיקות!E14<>\"\",'איכות שפכים'!C14<>\"\",D14<>\"\",Table!CS14<>\"\"),(ספיקות!E14*'איכות שפכים'!C14/1000)/(D14/1000*Table!CS14), \"\")","v":""},{"$f":"IF(Table!BR14<>\"\",Table!BR14,\"\")","v":""},{"$f":"IF(Table!BS14<>\"\",Table!BS14,\"\")","v":""},{"$f":"IF(Table!BY14<>\"\",Table!BY14,\"\")","v":""},{"$f":"IF(Table!BZ14<>\"\",Table!BZ14,\"\")","v":""},{"$f":"IF(Table!CA14<>\"\",Table!CA14,\"\")","v":""},"","",{"$f":"IF(AND(ספיקות!E14<>\"\",'איכות שפכים'!C14<>\"\",L14<>\"\",Table!CS14<>\"\"),(ספיקות!E14*'איכות שפכים'!C14/1000)/(L14/1000*Table!CS14), \"\")","v":""},{"$f":"IF(Table!BW14<>\"\",Table!BW14,\"\")","v":""},{"$f":"IF(Table!BX14<>\"\",Table!BX14,\"\")","v":""},{"$f":"IF(K14<>\"\",(K14*Table!CS14)/1000000,\"\")","v":""}]
[{"$f":"IF(Table!A15<>\"\",Table!A15,\"\")","v":"2024-11-09"},{"$f":"IF(Table!A15<>\"\",Table!A15,\"\")","v":"2024-11-09"},{"$f":"IF(Table!BT15<>\"\",Table!BT15,\"\")","v":""},{"$f":"IF(Table!BU15<>\"\",Table!BU15,\"\")","v":""},{"$f":"IF(Table!BV15<>\"\",Table!BV15,\"\")","v":""},"","",{"$f":"IF(AND(ספיקות!E15<>\"\",'איכות שפכים'!C15<>\"\",D15<>\"\",Table!CS15<>\"\"),(ספיקות!E15*'איכות שפכים'!C15/1000)/(D15/1000*Table!CS15), \"\")","v":""},{"$f":"IF(Table!BR15<>\"\",Table!BR15,\"\")","v":""},{"$f":"IF(Table!BS15<>\"\",Table!BS15,\"\")","v":""},{"$f":"IF(Table!BY15<>\"\",Table!BY15,\"\")","v":""},{"$f":"IF(Table!BZ15<>\"\",Table!BZ15,\"\")","v":""},{"$f":"IF(Table!CA15<>\"\",Table!CA15,\"\")","v":""},"","",{"$f":"IF(AND(ספיקות!E15<>\"\",'איכות שפכים'!C15<>\"\",L15<>\"\",Table!CS15<>\"\"),(ספיקות!E15*'איכות שפכים'!C15/1000)/(L15/1000*Table!CS15), \"\")","v":""},{"$f":"IF(Table!BW15<>\"\",Table!BW15,\"\")","v":""},{"$f":"IF(Table!BX15<>\"\",Table!BX15,\"\")","v":""},{"$f":"IF(K15<>\"\",(K15*Table!CS15)/1000000,\"\")","v":""}]
[{"$f":"IF(Table!A16<>\"\",Table!A16,\"\")","v":"2024-11-10"},{"$f":"IF(Table!A16<>\"\",Table!A16,\"\")","v":"2024-11-10"},{"$f":"IF(Table!BT16<>\"\",Table!BT16,\"\")","v":""},{"$f":"IF(Table!BU16<>\"\",Table!BU16,\"\")","v":""},{"$f":"IF(Table!BV16<>\"\",Table!BV16,\"\")","v":""},"","",{"$f":"IF(AND(ספיקות!E16<>\"\",'איכות שפכים'!C16<>\"\",D16<>\"\",Table!CS16<>\"\"),(ספיקות!E16*'איכות שפכים'!C16/1000)/(D16/1000*Table!CS16), \"\")","v":""},{"$f":"IF(Table!BR16<>\"\",Table!BR16,\"\")","v":""},{"$f":"IF(Table!BS16<>\"\",Table!BS16,\"\")","v":""},{"$f":"IF(Table!BY16<>\"\",Table!BY16,\"\")","v":""},{"$f":"IF(Table!BZ16<>\"\",Table!BZ16,\"\")","v":""},{"$f":"IF(Table!CA16<>\"\",Table!CA16,\"\")","v":340},"","",{"$f":"IF(AND(ספיקות!E16<>\"\",'איכות שפכים'!C16<>\"\",L16<>\"\",Table!CS16<>\"\"),(ספיקות!E16*'איכות שפכים'!C16/1000)/(L16/1000*Table!CS16), \"\")","v":""},{"$f":"IF(Table!BW16<>\"\",Table!BW16,\"\")","v":0.8},{"$f":"IF(Table!BX16<>\"\",Table!BX16,\"\")","v":0.9},{"$f":"IF(K16<>\"\",(K16*Table!CS16)/1000000,\"\")","v":""}]
[{"$f":"IF(Table!A17<>\"\",Table!A17,\"\")","v":"2024-11-11"},{"$f":"IF(Table!A17<>\"\",Table!A17,\"\")","v":"2024-11-11"},{"$f":"IF(Table!BT17<>\"\",Table!BT17,\"\")","v":""},{"$f":"IF(Table!BU17<>\"\",Table!BU17,\"\")","v":""},{"$f":"IF(Table!BV17<>\"\",Table!BV17,\"\")","v":""},"","",{"$f":"IF(AND(ספיקות!E17<>\"\",'איכות שפכים'!C17<>\"\",D17<>\"\",Table!CS17<>\"\"),(ספיקות!E17*'איכות שפכים'!C17/1000)/(D17/1000*Table!CS17), \"\")","v":""},{"$f":"IF(Table!BR17<>\"\",Table!BR17,\"\")","v":""},{"$f":"IF(Table!BS17<>\"\",Table!BS17,\"\")","v":""},{"$f":"IF(Table!BY17<>\"\",Table!BY17,\"\")","v":""},{"$f":"IF(Table!BZ17<>\"\",Table!BZ17,\"\")","v":""},{"$f":"IF(Table!CA17<>\"\",Table!CA17,\"\")","v":370},"","",{"$f":"IF(AND(ספיקות!E17<>\"\",'איכות שפכים'!C17<>\"\",L17<>\"\",Table!CS17<>\"\"),(ספיקות!E17*'איכות שפכים'!C17/1000)/(L17/1000*Table!CS17), \"\")","v":""},{"$f":"IF(Table!BW17<>\"\",Table!BW17,\"\")","v":1.1000000000000001},{"$f":"IF(Table!BX17<>\"\",Table!BX17,\"\")","v":1},{"$f":"IF(K17<>\"\",(K17*Table!CS17)/1000000,\"\")","v":""}]
[{"$f":"IF(Table!A18<>\"\",Table!A18,\"\")","v":"2024-11-12"},{"$f":"IF(Table!A18<>\"\",Table!A18,\"\")","v":"2024-11-12"},{"$f":"IF(Table!BT18<>\"\",Table!BT18,\"\")","v":""},{"$f":"IF(Table!BU18<>\"\",Table!BU18,\"\")","v":""},{"$f":"IF(Table!BV18<>\"\",Table!BV18,\"\")","v":""},"","",{"$f":"IF(AND(ספיקות!E18<>\"\",'איכות שפכים'!C18<>\"\",D18<>\"\",Table!CS18<>\"\"),(ספיקות!E18*'איכות שפכים'!C18/1000)/(D18/1000*Table!CS18), \"\")","v":""},{"$f":"IF(Table!BR18<>\"\",Table!BR18,\"\")","v":""},{"$f":"IF(Table!BS18<>\"\",Table!BS18,\"\")","v":""},{"$f":"IF(Table!BY18<>\"\",Table!BY18,\"\")","v":""},{"$f":"IF(Table!BZ18<>\"\",Table!BZ18,\"\")","v":""},{"$f":"IF(Table!CA18<>\"\",Table!CA18,\"\")","v":360},"","",{"$f":"IF(AND(ספיקות!E18<>\"\",'איכות שפכים'!C18<>\"\",L18<>\"\",Table!CS18<>\"\"),(ספיקות!E18*'איכות שפכים'!C18/1000)/(L18/1000*Table!CS18), \"\")","v":""},{"$f":"IF(Table!BW18<>\"\",Table!BW18,\"\")","v":1.1000000000000001},{"$f":"IF(Table!BX18<>\"\",Table!BX18,\"\")","v":1.1000000000000001},{"$f":"IF(K18<>\"\",(K18*Table!CS18)/1000000,\"\")","v":""}]
[{"$f":"IF(Table!A19<>\"\",Table!A19,\"\")","v":"2024-11-13"},{"$f":"IF(Table!A19<>\"\",Table!A19,\"\")","v":"2024-11-13"},{"$f":"IF(Table!BT19<>\"\",Table!BT19,\"\")","v":""},{"$f":"IF(Table!BU19<>\"\",Table!BU19,\"\")","v":""},{"$f":"IF(Table!BV19<>\"\",Table!BV19,\"\")","v":""},"","",{"$f":"IF(AND(ספיקות!E19<>\"\",'איכות שפכים'!C19<>\"\",D19<>\"\",Table!CS19<>\"\"),(ספיקות!E19*'איכות שפכים'!C19/1000)/(D19/1000*Table!CS19), \"\")","v":""},{"$f":"IF(Table!BR19<>\"\",Table!BR19,\"\")","v":""},{"$f":"IF(Table!BS19<>\"\",Table!BS19,\"\")","v":""},{"$f":"IF(Table!BY19<>\"\",Table!BY19,\"\")","v":""},{"$f":"IF(Table!BZ19<>\"\",Table!BZ19,\"\")","v":""},{"$f":"IF(Table!CA19<>\"\",Table!CA19,\"\")","v":350},"","",{"$f":"IF(AND(ספיקות!E19<>\"\",'איכות שפכים'!C19<>\"\",L19<>\"\",Table!CS19<>\"\"),(ספיקות!E19*'איכות שפכים'!C19/1000)/(L19/1000*Table!CS19), \"\")","v":""},{"$f":"IF(Table!BW19<>\"\",Table!BW19,\"\")","v":0.7},{"$f":"IF(Table!BX19<>\"\",Table!BX19,\"\")","v":0.7},{"$f":"IF(K19<>\"\",(K19*Table!CS19)/1000000,\"\")","v":""}]
[{"$f":"IF(Table!A20<>\"\",Table!A20,\"\")","v":"2024-11-14"},{"$f":"IF(Table!A20<>\"\",Table!A20,\"\")","v":"2024-11-14"},{"$f":"IF(Table!BT20<>\"\",Table!BT20,\"\")","v":""},{"$f":"IF(Table!BU20<>\"\",Table!BU20,\"\")","v":""},{"$f":"IF(Table!BV20<>\"\",Table!BV20,\"\")","v":""},"","",{"$f":"IF(AND(ספיקות!E20<>\"\",'איכות שפכים'!C20<>\"\",D20<>\"\",Table!CS20<>\"\"),(ספיקות!E20*'איכות שפכים'!C20/1000)/(D20/1000*Table!CS20), \"\")","v":""},{"$f":"IF(Table!BR20<>\"\",Table!BR20,\"\")","v":""},{"$f":"IF(Table!BS20<>\"\",Table!BS20,\"\")","v":""},{"$f":"IF(Table!BY20<>\"\",Table!BY20,\"\")","v":""},{"$f":"IF(Table!BZ20<>\"\",Table!BZ20,\"\")","v":""},{"$f":"IF(Table!CA20<>\"\",Table!CA20,\"\")","v":360},"","",{"$f":"IF(AND(ספיקות!E20<>\"\",'איכות שפכים'!C20<>\"\",L20<>\"\",Table!CS20<>\"\"),(ספיקות!E20*'איכות שפכים'!C20/1000)/(L20/1000*Table!CS20), \"\")","v":""},{"$f":"IF(Table!BW20<>\"\",Table!BW20,\"\")","v":0.7},{"$f":"IF(Table!BX20<>\"\",Table!BX20,\"\")","v":0.7},{"$f":"IF(K20<>\"\",(K20*Table!CS20)/1000000,\"\")","v":""}]
[{"$f":"IF(Table!A21<>\"\",Table!A21,\"\")","v":"2024-11-15"},{"$f":"IF(Table!A21<>\"\",Table!A21,\"\")","v":"2024-11-15"},{"$f":"IF(Table!BT21<>\"\",Table!BT21,\"\")","v":""},{"$f":"IF(Table!BU21<>\"\",Table!BU21,\"\")","v":""},{"$f":"IF(Table!BV21<>\"\",Table!BV21,\"\")","v":""},"","",{"$f":"IF(AND(ספיקות!E21<>\"\",'איכות שפכים'!C21<>\"\",D21<>\"\",Table!CS21<>\"\"),(ספיקות!E21*'איכות שפכים'!C21/1000)/(D21/1000*Table!CS21), \"\")","v":""},{"$f":"IF(Table!BR21<>\"\",Table!BR21,\"\")","v":""},{"$f":"IF(Table!BS21<>\"\",Table!BS21,\"\")","v":""},{"$f":"IF(Table!BY21<>\"\",Table!BY21,\"\")","v":""},{"$f":"IF(Table!BZ21<>\"\",Table!BZ21,\"\")","v":""},{"$f":"IF(Table!CA21<>\"\",Table!CA21,\"\")","v":""},"","",{"$f":"IF(AND(ספיקות!E21<>\"\",'איכות שפכים'!C21<>\"\",L21<>\"\",Table!CS21<>\"\"),(ספיקות!E21*'איכות שפכים'!C21/1000)/(L21/1000*Table!CS21), \"\")","v":""},{"$f":"IF(Table!BW21<>\"\",Table!BW21,\"\")","v":""},{"$f":"IF(Table!BX21<>\"\",Table!BX21,\"\")","v":""},{"$f":"IF(K21<>\"\",(K21*Table!CS21)/1000000,\"\")","v":""}]
[{"$f":"IF(Table!A22<>\"\",Table!A22,\"\")","v":"2024-11-16"},{"$f":"IF(Table!A22<>\"\",Table!A22,\"\")","v":"2024-11-16"},{"$f":"IF(Table!BT22<>\"\",Table!BT22,\"\")","v":""},{"$f":"IF(Table!BU22<>\"\",Table!BU22,\"\")","v":""},{"$f":"IF(Table!BV22<>\"\",Table!BV22,\"\")","v":""},"","",{"$f":"IF(AND(ספיקות!E22<>\"\",'איכות שפכים'!C22<>\"\",D22<>\"\",Table!CS22<>\"\"),(ספיקות!E22*'איכות שפכים'!C22/1000)/(D22/1000*Table!CS22), \"\")","v":""},{"$f":"IF(Table!BR22<>\"\",Table!BR22,\"\")","v":""},{"$f":"IF(Table!BS22<>\"\",Table!BS22,\"\")","v":""},{"$f":"IF(Table!BY22<>\"\",Table!BY22,\"\")","v":""},{"$f":"IF(Table!BZ22<>\"\",Table!BZ22,\"\")","v":""},{"$f":"IF(Table!CA22<>\"\",Table!CA22,\"\")","v":""},"","",{"$f":"IF(AND(ספיקות!E22<>\"\",'איכות שפכים'!C22<>\"\",L22<>\"\",Table!CS22<>\"\"),(ספיקות!E22*'איכות שפכים'!C22/1000)/(L22/1000*Table!CS22), \"\")","v":""},{"$f":"IF(Table!BW22<>\"\",Table!BW22,\"\")","v":""},{"$f":"IF(Table!BX22<>\"\",Table!BX22,\"\")","v":""},{"$f":"IF(K22<>\"\",(K22*Table!CS22)/1000000,\"\")","v":""}]
[{"$f":"IF(Table!A23<>\"\",Table!A23,\"\")","v":"2024-11-17"},{"$f":"IF(Table!A23<>\"\",Table!A23,\"\")","v":"2024-11-17"},{"$f":"IF(Table!BT23<>\"\",Table!BT23,\"\")","v":""},{"$f":"IF(Table!BU23<>\"\",Table!BU23,\"\")","v":""},{"$f":"IF(Table!BV23<>\"\",Table!BV23,\"\")","v":""},"","",{"$f":"IF(AND(ספיקות!E23<>\"\",'איכות שפכים'!C23<>\"\",D23<>\"\",Table!CS23<>\"\"),(ספיקות!E23*'איכות שפכים'!C23/1000)/(D23/1000*Table!CS23), \"\")","v":""},{"$f":"IF(Table!BR23<>\"\",Table!BR23,\"\")","v":""},{"$f":"IF(Table!BS23<>\"\",Table!BS23,\"\")","v":""},{"$f":"IF(Table!BY23<>\"\",Table!BY23,\"\")","v":""},{"$f":"IF(Table!BZ23<>\"\",Table!BZ23,\"\")","v":""},{"$f":"IF(Table!CA23<>\"\",Table!CA23,\"\")","v":370},"","",{"$f":"IF(AND(ספיקות!E23<>\"\",'איכות שפכים'!C23<>\"\",L23<>\"\",Table!CS23<>\"\"),(ספיקות!E23*'איכות שפכים'!C23/1000)/(L23/1000*Table!CS23), \"\")","v":""},{"$f":"IF(Table!BW23<>\"\",Table!BW23,\"\")","v":0.6},{"$f":"IF(Table!BX23<>\"\",Table!BX23,\"\")","v":0.6},{"$f":"IF(K23<>\"\",(K23*Table!CS23)/1000000,\"\")","v":""}]
[{"$f":"IF(Table!A24<>\"\",Table!A24,\"\")","v":"2024-11-18"},{"$f":"IF(Table!A24<>\"\",Table!A24,\"\")","v":"2024-11-18"},{"$f":"IF(Table!BT24<>\"\",Table!BT24,\"\")","v":""},{"$f":"IF(Table!BU24<>\"\",Table!BU24,\"\")","v":""},{"$f":"IF(Table!BV24<>\"\",Table!BV24,\"\")","v":""},"","",{"$f":"IF(AND(ספיקות!E24<>\"\",'איכות שפכים'!C24<>\"\",D24<>\"\",Table!CS24<>\"\"),(ספיקות!E24*'איכות שפכים'!C24/1000)/(D24/1000*Table!CS24), \"\")","v":""},{"$f":"IF(Table!BR24<>\"\",Table!BR24,\"\")","v":""},{"$f":"IF(Table!BS24<>\"\",Table!BS24,\"\")","v":""},{"$f":"IF(Table!BY24<>\"\",Table!BY24,\"\")","v":""},{"$f":"IF(Table!BZ24<>\"\",Table!BZ24,\"\")","v":""},{"$f":"IF(Table!CA24<>\"\",Table!CA24,\"\")","v":360},"","",{"$f":"IF(AND(ספיקות!E24<>\"\",'איכות שפכים'!C24<>\"\",L24<>\"\",Table!CS24<>\"\"),(ספיקות!E24*'איכות שפכים'!C24/1000)/(L24/1000*Table!CS24), \"\")","v":""},{"$f":"IF(Table!BW24<>\"\",Table!BW24,\"\")","v":0.4},{"$f":"IF(Table!BX24<>\"\",Table!BX24,\"\")","v":0.4},{"$f":"IF(K24<>\"\",(K24*Table!CS24)/1000000,\"\")","v":""}]
[{"$f":"IF(Table!A25<>\"\",Table!A25,\"\")","v":"2024-11-19"},{"$f":"IF(Table!A25<>\"\",Table!A25,\"\")","v":"2024-11-19"},{"$f":"IF(Table!BT25<>\"\",Table!BT25,\"\")","v":""},{"$f":"IF(Table!BU25<>\"\",Table!BU25,\"\")","v":""},{"$f":"IF(Table!BV25<>\"\",Table!BV25,\"\")","v":""},"","",{"$f":"IF(AND(ספיקות!E25<>\"\",'איכות שפכים'!C25<>\"\",D25<>\"\",Table!CS25<>\"\"),(ספיקות!E25*'איכות שפכים'!C25/1000)/(D25/1000*Table!CS25), \"\")","v":""},{"$f":"IF(Table!BR25<>\"\",Table!BR25,\"\")","v":""},{"$f":"IF(Table!BS25<>\"\",Table!BS25,\"\")","v":""},{"$f":"IF(Table!BY25<>\"\",Table!BY25,\"\")","v":""},{"$f":"IF(Table!BZ25<>\"\",Table!BZ25,\"\")","v":""},{"$f":"IF(Table!CA25<>\"\",Table!CA25,\"\")","v":380},"","",{"$f":"IF(AND(ספיקות!E25<>\"\",'איכות שפכים'!C25<>\"\",L25<>\"\",Table!CS25<>\"\"),(ספיקות!E25*'איכות שפכים'!C25/1000)/(L25/1000*Table!CS25), \"\")","v":""},{"$f":"IF(Table!BW25<>\"\",Table!BW25,\"\")","v":0.7},{"$f":"IF(Table!BX25<>\"\",Table!BX25,\"\")","v":0.6},{"$f":"IF(K25<>\"\",(K25*Table!CS25)/1000000,\"\")","v":""}]
[{"$f":"IF(Table!A26<>\"\",Table!A26,\"\")","v":"2024-11-20"},{"$f":"IF(Table!A26<>\"\",Table!A26,\"\")","v":"2024-11-20"},{"$f":"IF(Table!BT26<>\"\",Table!BT26,\"\")","v":""},{"$f":"IF(Table!BU26<>\"\",Table!BU26,\"\")","v":""},{"$f":"IF(Table!BV26<>\"\",Table!BV26,\"\")","v":""},"","",{"$f":"IF(AND(ספיקות!E26<>\"\",'איכות שפכים'!C26<>\"\",D26<>\"\",Table!CS26<>\"\"),(ספיקות!E26*'איכות שפכים'!C26/1000)/(D26/1000*Table!CS26), \"\")","v":""},{"$f":"IF(Table!BR26<>\"\",Table!BR26,\"\")","v":""},{"$f":"IF(Table!BS26<>\"\",Table!BS26,\"\")","v":""},{"$f":"IF(Table!BY26<>\"\",Table!BY26,\"\")","v":""},{"$f":"IF(Table!BZ26<>\"\",Table!BZ26,\"\")","v":""},{"$f":"IF(Table!CA26<>\"\",Table!CA26,\"\")","v":390},"","",{"$f":"IF(AND(ספיקות!E26<>\"\",'איכות שפכים'!C26<>\"\",L26<>\"\",Table!CS26<>\"\"),(ספיקות!E26*'איכות שפכים'!C26/1000)/(L26/1000*Table!CS26), \"\")","v":""},{"$f":"IF(Table!BW26<>\"\",Table!BW26,\"\")","v":0.6},{"$f":"IF(Table!BX26<>\"\",Table!BX26,\"\")","v":0.6},{"$f":"IF(K26<>\"\",(K26*Table!CS26)/1000000,\"\")","v":""}]
[{"$f":"IF(Table!A27<>\"\",Table!A27,\"\")","v":"2024-11-21"},{"$f":"IF(Table!A27<>\"\",Table!A27,\"\")","v":"2024-11-21"},{"$f":"IF(Table!BT27<>\"\",Table!BT27,\"\")","v":""},{"$f":"IF(Table!BU27<>\"\",Table!BU27,\"\")","v":""},{"$f":"IF(Table!BV27<>\"\",Table!BV27,\"\")","v":""},"","",{"$f":"IF(AND(ספיקות!E27<>\"\",'איכות שפכים'!C27<>\"\",D27<>\"\",Table!CS27<>\"\"),(ספיקות!E27*'איכות שפכים'!C27/1000)/(D27/1000*Table!CS27), \"\")","v":""},{"$f":"IF(Table!BR27<>\"\",Table!BR27,\"\")","v":""},{"$f":"IF(Table!BS27<>\"\",Table!BS27,\"\")","v":""},{"$f":"IF(Table!BY27<>\"\",Table!BY27,\"\")","v":""},{"$f":"IF(Table!BZ27<>\"\",Table!BZ27,\"\")","v":""},{"$f":"IF(Table!CA27<>\"\",Table!CA27,\"\")","v":400},"","",{"$f":"IF(AND(ספיקות!E27<>\"\",'איכות שפכים'!C27<>\"\",L27<>\"\",Table!CS27<>\"\"),(ספיקות!E27*'איכות שפכים'!C27/1000)/(L27/1000*Table!CS27), \"\")","v":""},{"$f":"IF(Table!BW27<>\"\",Table!BW27,\"\")","v":0.5},{"$f":"IF(Table!BX27<>\"\",Table!BX27,\"\")","v":0.5},{"$f":"IF(K27<>\"\",(K27*Table!CS27)/1000000,\"\")","v":""}]
[{"$f":"IF(Table!A28<>\"\",Table!A28,\"\")","v":"2024-11-22"},{"$f":"IF(Table!A28<>\"\",Table!A28,\"\")","v":"2024-11-22"},{"$f":"IF(Table!BT28<>\"\",Table!BT28,\"\")","v":""},{"$f":"IF(Table!BU28<>\"\",Table!BU28,\"\")","v":""},{"$f":"IF(Table!BV28<>\"\",Table!BV28,\"\")","v":""},"","",{"$f":"IF(AND(ספיקות!E28<>\"\",'איכות שפכים'!C28<>\"\",D28<>\"\",Table!CS28<>\"\"),(ספיקות!E28*'איכות שפכים'!C28/1000)/(D28/1000*Table!CS28), \"\")","v":""},{"$f":"IF(Table!BR28<>\"\",Table!BR28,\"\")","v":""},{"$f":"IF(Table!BS28<>\"\",Table!BS28,\"\")","v":""},{"$f":"IF(Table!BY28<>\"\",Table!BY28,\"\")","v":""},{"$f":"IF(Table!BZ28<>\"\",Table!BZ28,\"\")","v":""},{"$f":"IF(Table!CA28<>\"\",Table!CA28,\"\")","v":""},"","",{"$f":"IF(AND(ספיקות!E28<>\"\",'איכות שפכים'!C28<>\"\",L28<>\"\",Table!CS28<>\"\"),(ספיקות!E28*'איכות שפכים'!C28/1000)/(L28/1000*Table!CS28), \"\")","v":""},{"$f":"IF(Table!BW28<>\"\",Table!BW28,\"\")","v":""},{"$f":"IF(Table!BX28<>\"\",Table!BX28,\"\")","v":""},{"$f":"IF(K28<>\"\",(K28*Table!CS28)/1000000,\"\")","v":""}]
[{"$f":"IF(Table!A29<>\"\",Table!A29,\"\")","v":"2024-11-23"},{"$f":"IF(Table!A29<>\"\",Table!A29,\"\")","v":"2024-11-23"},{"$f":"IF(Table!BT29<>\"\",Table!BT29,\"\")","v":""},{"$f":"IF(Table!BU29<>\"\",Table!BU29,\"\")","v":""},{"$f":"IF(Table!BV29<>\"\",Table!BV29,\"\")","v":""},"","",{"$f":"IF(AND(ספיקות!E29<>\"\",'איכות שפכים'!C29<>\"\",D29<>\"\",Table!CS29<>\"\"),(ספיקות!E29*'איכות שפכים'!C29/1000)/(D29/1000*Table!CS29), \"\")","v":""},{"$f":"IF(Table!BR29<>\"\",Table!BR29,\"\")","v":""},{"$f":"IF(Table!BS29<>\"\",Table!BS29,\"\")","v":""},{"$f":"IF(Table!BY29<>\"\",Table!BY29,\"\")","v":""},{"$f":"IF(Table!BZ29<>\"\",Table!BZ29,\"\")","v":""},{"$f":"IF(Table!CA29<>\"\",Table!CA29,\"\")","v":""},"","",{"$f":"IF(AND(ספיקות!E29<>\"\",'איכות שפכים'!C29<>\"\",L29<>\"\",Table!CS29<>\"\"),(ספיקות!E29*'איכות שפכים'!C29/1000)/(L29/1000*Table!CS29), \"\")","v":""},{"$f":"IF(Table!BW29<>\"\",Table!BW29,\"\")","v":""},{"$f":"IF(Table!BX29<>\"\",Table!BX29,\"\")","v":""},{"$f":"IF(K29<>\"\",(K29*Table!CS29)/1000000,\"\")","v":""}]
[{"$f":"IF(Table!A30<>\"\",Table!A30,\"\")","v":"2024-11-24"},{"$f":"IF(Table!A30<>\"\",Table!A30,\"\")","v":"2024-11-24"},{"$f":"IF(Table!BT30<>\"\",Table!BT30,\"\")","v":""},{"$f":"IF(Table!BU30<>\"\",Table!BU30,\"\")","v":""},{"$f":"IF(Table!BV30<>\"\",Table!BV30,\"\")","v":""},"","",{"$f":"IF(AND(ספיקות!E30<>\"\",'איכות שפכים'!C30<>\"\",D30<>\"\",Table!CS30<>\"\"),(ספיקות!E30*'איכות שפכים'!C30/1000)/(D30/1000*Table!CS30), \"\")","v":""},{"$f":"IF(Table!BR30<>\"\",Table!BR30,\"\")","v":""},{"$f":"IF(Table!BS30<>\"\",Table!BS30,\"\")","v":""},{"$f":"IF(Table!BY30<>\"\",Table!BY30,\"\")","v":""},{"$f":"IF(Table!BZ30<>\"\",Table!BZ30,\"\")","v":""},{"$f":"IF(Table!CA30<>\"\",Table!CA30,\"\")","v":390},"","",{"$f":"IF(AND(ספיקות!E30<>\"\",'איכות שפכים'!C30<>\"\",L30<>\"\",Table!CS30<>\"\"),(ספיקות!E30*'איכות שפכים'!C30/1000)/(L30/1000*Table!CS30), \"\")","v":""},{"$f":"IF(Table!BW30<>\"\",Table!BW30,\"\")","v":1},{"$f":"IF(Table!BX30<>\"\",Table!BX30,\"\")","v":0.9},{"$f":"IF(K30<>\"\",(K30*Table!CS30)/1000000,\"\")","v":""}]
[{"$f":"IF(Table!A31<>\"\",Table!A31,\"\")","v":"2024-11-25"},{"$f":"IF(Table!A31<>\"\",Table!A31,\"\")","v":"2024-11-25"},{"$f":"IF(Table!BT31<>\"\",Table!BT31,\"\")","v":""},{"$f":"IF(Table!BU31<>\"\",Table!BU31,\"\")","v":""},{"$f":"IF(Table!BV31<>\"\",Table!BV31,\"\")","v":""},"","",{"$f":"IF(AND(ספיקות!E31<>\"\",'איכות שפכים'!C31<>\"\",D31<>\"\",Table!CS31<>\"\"),(ספיקות!E31*'איכות שפכים'!C31/1000)/(D31/1000*Table!CS31), \"\")","v":""},{"$f":"IF(Table!BR31<>\"\",Table!BR31,\"\")","v":""},{"$f":"IF(Table!BS31<>\"\",Table!BS31,\"\")","v":""},{"$f":"IF(Table!BY31<>\"\",Table!BY31,\"\")","v":""},{"$f":"IF(Table!BZ31<>\"\",Table!BZ31,\"\")","v":""},{"$f":"IF(Table!CA31<>\"\",Table!CA31,\"\")","v":400},"","",{"$f":"IF(AND(ספיקות!E31<>\"\",'איכות שפכים'!C31<>\"\",L31<>\"\",Table!CS31<>\"\"),(ספיקות!E31*'איכות שפכים'!C31/1000)/(L31/1000*Table!CS31), \"\")","v":""},{"$f":"IF(Table!BW31<>\"\",Table!BW31,\"\")","v":0.9},{"$f":"IF(Table!BX31<>\"\",Table!BX31,\"\")","v":0.9},{"$f":"IF(K31<>\"\",(K31*Table!CS31)/1000000,\"\")","v":""}]
[{"$f":"IF(Table!A32<>\"\",Table!A32,\"\")","v":"2024-11-26"},{"$f":"IF(Table!A32<>\"\",Table!A32,\"\")","v":"2024-11-26"},{"$f":"IF(Table!BT32<>\"\",Table!BT32,\"\")","v":""},{"$f":"IF(Table!BU32<>\"\",Table!BU32,\"\")","v":""},{"$f":"IF(Table!BV32<>\"\",Table!BV32,\"\")","v":""},"","",{"$f":"IF(AND(ספיקות!E32<>\"\",'איכות שפכים'!C32<>\"\",D32<>\"\",Table!CS32<>\"\"),(ספיקות!E32*'איכות שפכים'!C32/1000)/(D32/1000*Table!CS32), \"\")","v":""},{"$f":"IF(Table!BR32<>\"\",Table!BR32,\"\")","v":""},{"$f":"IF(Table!BS32<>\"\",Table!BS32,\"\")","v":""},{"$f":"IF(Table!BY32<>\"\",Table!BY32,\"\")","v":""},{"$f":"IF(Table!BZ32<>\"\",Table!BZ32,\"\")","v":""},{"$f":"IF(Table!CA32<>\"\",Table!CA32,\"\")","v":390},"","",{"$f":"IF(AND(ספיקות!E32<>\"\",'איכות שפכים'!C32<>\"\",L32<>\"\",Table!CS32<>\"\"),(ספיקות!E32*'איכות שפכים'!C32/1000)/(L32/1000*Table!CS32), \"\")","v":""},{"$f":"IF(Table!BW32<>\"\",Table!BW32,\"\")","v":0.8},{"$f":"IF(Table!BX32<>\"\",Table!BX32,\"\")","v":0.8},{"$f":"IF(K32<>\"\",(K32*Table!CS32)/1000000,\"\")","v":""}]
[{"$f":"IF(Table!A33<>\"\",Table!A33,\"\")","v":"2024-11-27"},{"$f":"IF(Table!A33<>\"\",Table!A33,\"\")","v":"2024-11-27"},{"$f":"IF(Table!BT33<>\"\",Table!BT33,\"\")","v":""},{"$f":"IF(Table!BU33<>\"\",Table!BU33,\"\")","v":""},{"$f":"IF(Table!BV33<>\"\",Table!BV33,\"\")","v":""},"","",{"$f":"IF(AND(ספיקות!E33<>\"\",'איכות שפכים'!C33<>\"\",D33<>\"\",Table!CS33<>\"\"),(ספיקות!E33*'איכות שפכים'!C33/1000)/(D33/1000*Table!CS33), \"\")","v":""},{"$f":"IF(Table!BR33<>\"\",Table!BR33,\"\")","v":""},{"$f":"IF(Table!BS33<>\"\",Table!BS33,\"\")","v":""},{"$f":"IF(Table!BY33<>\"\",Table!BY33,\"\")","v":""},{"$f":"IF(Table!BZ33<>\"\",Table!BZ33,\"\")","v":""},{"$f":"IF(Table!CA33<>\"\",Table!CA33,\"\")","v":410},"","",{"$f":"IF(AND(ספיקות!E33<>\"\",'איכות שפכים'!C33<>\"\",L33<>\"\",Table!CS33<>\"\"),(ספיקות!E33*'איכות שפכים'!C33/1000)/(L33/1000*Table!CS33), \"\")","v":""},{"$f":"IF(Table!BW33<>\"\",Table!BW33,\"\")","v":0.7},{"$f":"IF(Table!BX33<>\"\",Table!BX33,\"\")","v":0.6},{"$f":"IF(K33<>\"\",(K33*Table!CS33)/1000000,\"\")","v":""}]
[{"$f":"IF(Table!A34<>\"\",Table!A34,\"\")","v":"2024-11-28"},{"$f":"IF(Table!A34<>\"\",Table!A34,\"\")","v":"2024-11-28"},{"$f":"IF(Table!BT34<>\"\",Table!BT34,\"\")","v":""},{"$f":"IF(Table!BU34<>\"\",Table!BU34,\"\")","v":""},{"$f":"IF(Table!BV34<>\"\",Table!BV34,\"\")","v":""},"","",{"$f":"IF(AND(ספיקות!E34<>\"\",'איכות שפכים'!C34<>\"\",D34<>\"\",Table!CS34<>\"\"),(ספיקות!E34*'איכות שפכים'!C34/1000)/(D34/1000*Table!CS34), \"\")","v":""},{"$f":"IF(Table!BR34<>\"\",Table!BR34,\"\")","v":""},{"$f":"IF(Table!BS34<>\"\",Table!BS34,\"\")","v":""},{"$f":"IF(Table!BY34<>\"\",Table!BY34,\"\")","v":""},{"$f":"IF(Table!BZ34<>\"\",Table!BZ34,\"\")","v":""},{"$f":"IF(Table!CA34<>\"\",Table!CA34,\"\")","v":390},"","",{"$f":"IF(AND(ספיקות!E34<>\"\",'איכות שפכים'!C34<>\"\",L34<>\"\",Table!CS34<>\"\"),(ספיקות!E34*'איכות שפכים'!C34/1000)/(L34/1000*Table!CS34), \"\")","v":""},{"$f":"IF(Table!BW34<>\"\",Table!BW34,\"\")","v":1},{"$f":"IF(Table!BX34<>\"\",Table!BX34,\"\")","v":0.9},{"$f":"IF(K34<>\"\",(K34*Table!CS34)/1000000,\"\")","v":""}]
[{"$f":"IF(Table!A35<>\"\",Table!A35,\"\")","v":"2024-11-29"},{"$f":"IF(Table!A35<>\"\",Table!A35,\"\")","v":"2024-11-29"},{"$f":"IF(Table!BT35<>\"\",Table!BT35,\"\")","v":""},{"$f":"IF(Table!BU35<>\"\",Table!BU35,\"\")","v":""},{"$f":"IF(Table!BV35<>\"\",Table!BV35,\"\")","v":""},"","",{"$f":"IF(AND(ספיקות!E35<>\"\",'איכות שפכים'!C35<>\"\",D35<>\"\",Table!CS35<>\"\"),(ספיקות!E35*'איכות שפכים'!C35/1000)/(D35/1000*Table!CS35), \"\")","v":""},{"$f":"IF(Table!BR35<>\"\",Table!BR35,\"\")","v":""},{"$f":"IF(Table!BS35<>\"\",Table!BS35,\"\")","v":""},{"$f":"IF(Table!BY35<>\"\",Table!BY35,\"\")","v":""},{"$f":"IF(Table!BZ35<>\"\",Table!BZ35,\"\")","v":""},{"$f":"IF(Table!CA35<>\"\",Table!CA35,\"\")","v":""},"","",{"$f":"IF(AND(ספיקות!E35<>\"\",'איכות שפכים'!C35<>\"\",L35<>\"\",Table!CS35<>\"\"),(ספיקות!E35*'איכות שפכים'!C35/1000)/(L35/1000*Table!CS35), \"\")","v":""},{"$f":"IF(Table!BW35<>\"\",Table!BW35,\"\")","v":""},{"$f":"IF(Table!BX35<>\"\",Table!BX35,\"\")","v":""},{"$f":"IF(K35<>\"\",(K35*Table!CS35)/1000000,\"\")","v":""}]
[{"$f":"IF(Table!A36<>\"\",Table!A36,\"\")","v":"2024-11-30"},{"$f":"IF(Table!A36<>\"\",Table!A36,\"\")","v":"2024-11-30"},{"$f":"IF(Table!BR36<>\"\",Table!BR36,\"\")","v":""},{"$f":"IF(Table!BS36<>\"\",Table!BS36,\"\")","v":""},{"$f":"IF(Table!BT36<>\"\",Table!BT36,\"\")","v":""},"","",{"$f":"IF(AND(ספיקות!E36<>\"\",'איכות שפכים'!C36<>\"\",D36<>\"\",Table!CQ36<>\"\"),(ספיקות!E36*'איכות שפכים'!C36/1000)/(D36/1000*Table!CQ36), \"\")","v":""},{"$f":"IF(Table!BP36<>\"\",Table!BP36,\"\")","v":""},{"$f":"IF(Table!BQ36<>\"\",Table!BQ36,\"\")","v":""},{"$f":"IF(Table!BY36<>\"\",Table!BY36,\"\")","v":""},{"$f":"IF(Table!BZ36<>\"\",Table!BZ36,\"\")","v":""},{"$f":"IF(Table!CA36<>\"\",Table!CA36,\"\")","v":""},{"$f":"IF(AND(M36<>\"\",K36<>\"\"),M36*1000/K36, \"\")","v":""},{"$f":"IF(AND(L36<>\"\",K36<>\"\"),L36/K36, \"\")","v":""},{"$f":"IF(AND(ספיקות!E36<>\"\",'איכות שפכים'!C36<>\"\",L36<>\"\",Table!CS36<>\"\"),(ספיקות!E36*'איכות שפכים'!C36/1000)/(L36/1000*Table!CS36), \"\")","v":""},{"$f":"IF(Table!BW36<>\"\",Table!BW36,\"\")","v":""},{"$f":"IF(Table!BX36<>\"\",Table!BX36,\"\")","v":""},{"$f":"IF(K36<>\"\",(K36*Table!CS36)/1000000,\"\")","v":""}]
[{"$f":"IF(Table!A37<>\"\",Table!A37,\"\")","v":"2024-12-01"},{"$f":"IF(Table!A37<>\"\",Table!A37,\"\")","v":"2024-12-01"},{"$f":"IF(Table!BR37<>\"\",Table!BR37,\"\")","v":""},{"$f":"IF(Table!BS37<>\"\",Table!BS37,\"\")","v":""},{"$f":"IF(Table!BT37<>\"\",Table!BT37,\"\")","v":""},"","",{"$f":"IF(AND(ספיקות!E37<>\"\",'איכות שפכים'!C37<>\"\",D37<>\"\",Table!CQ37<>\"\"),(ספיקות!E37*'איכות שפכים'!C37/1000)/(D37/1000*Table!CQ37), \"\")","v":""},{"$f":"IF(Table!BP37<>\"\",Table!BP37,\"\")","v":""},{"$f":"IF(Table!BQ37<>\"\",Table!BQ37,\"\")","v":""},{"$f":"IF(Table!BY37<>\"\",Table!BY37,\"\")","v":""},{"$f":"IF(Table!BZ37<>\"\",Table!BZ37,\"\")","v":""},{"$f":"IF(Table!CA37<>\"\",Table!CA37,\"\")","v":""},{"$f":"IF(AND(M37<>\"\",K37<>\"\"),M37*1000/K37, \"\")","v":""},{"$f":"IF(AND(L37<>\"\",K37<>\"\"),L37/K37, \"\")","v":""},{"$f":"IF(AND(ספיקות!E37<>\"\",'איכות שפכים'!C37<>\"\",L37<>\"\",Table!CS37<>\"\"),(ספיקות!E37*'איכות שפכים'!C37/1000)/(L37/1000*Table!CS37), \"\")","v":""},{"$f":"IF(Table!BW37<>\"\",Table!BW37,\"\")","v":""},{"$f":"IF(Table!BX37<>\"\",Table!BX37,\"\")","v":""},{"$f":"IF(K37<>\"\",(K37*Table!CS37)/1000000,\"\")","v":""}]
["סה\"כ לחודש"]
["ממוצע ",null,{"$f":"AVERAGE(C7:C37)","v":{"$error":"#DIV/0!"}},{"$f":"AVERAGE(D7:D37)","v":{"$error":"#DIV/0!"}},{"$error":"#DIV/0!"},{"$error":"#DIV/0!"},{"$error":"#DIV/0!"},{"$error":"#DIV/0!"},{"$error":"#DIV/0!"},{"$error":"#DIV/0!"},{"$error":"#DIV/0!"},{"$error":"#DIV/0!"},374.5,{"$error":"#DIV/0!"},{"$error":"#DIV/0!"},{"$error":"#DIV/0!"},0.8899999999999999,0.87499999999999978,{"$f":"AVERAGE(S7:S37)","v":{"$error":"#DIV/0!"}},{"$f":"S39/('טיפול וסילוק בוצה'!G39*'טיפול וסילוק בוצה'!C40/3000)","v":{"$error":"#DIV/0!"}}]
["מקסימום ",null,{"$f":"MAX(C7:C37)","v":0},{"$f":"MAX(D7:D37)","v":0},0,0,0,0,0,0,0,0,410,0,0,0,1.4,1.4]
["מינימום ",null,{"$f":"MIN(C7:C37)","v":0},{"$f":"MIN(D7:D37)","v":0},0,0,0,0,0,0,0,0,340,0,0,0,0.4,0.4]

{"sheet":"טיפול וסילוק בוצה","index":6,"n_rows":42,"n_cols":20,"rows_kept":42,"cut":false,"hidden":false,"merged":[[41,0,41,1],[3,17,4,17],[38,0,38,1],[39,0,39,1],[40,0,40,1],[3,8,3,16],[5,12,5,16],[3,6,5,6],[3,2,3,3],[3,7,4,7],[1,5,1,19],[3,0,3,1],[4,0,5,0],[4,1,5,1],[1,0,1,3],[3,18,4,18],[3,19,4,19],[2,0,2,1],[2,6,2,16],[2,2,2,5]]}
[]
[{"$f":"סיכום!C11","v":"מט\"ש נובמבר 2024"},null,null,null,null,"נתוני תפעול  - גליון 6  - טיפול וסילוק בוצה"]
["יחידת פעולה",null,"מעכל ",null,null,null," בוצה יבשה",null,null,null,null,null,null,null,null,null,null,"בוצה יבשה","גבבה","גרוסת"]
["תדירות",null,"פעם בשבוע",null,null,"פעמיים בחודש","ספיקה מצטברת בוצה לייבוש","ספיקה יומית בוצה לייבוש","מעבדה",null,null,null,null,null,null,null,null,"פינוי בוצה יבשה לאתר קומפוסט","פינוי גבבה","פינוי גרוסת"]
["תאריך","יום בשבוע","TS%","VS%","VS/TS","SOUR",null,null,"TS%","VS%","VS/TS","קוליפורמים פאקליים","זרחן כללי","חנקן אמוניאקלי","PH","חנקן כללי","סריקת מתכות"]
[null,null,"%","%","%","מג\"ל",null,"מ\"ק/יום","%","%","%","ב-100 גר'","מ\"ג/גר'",null,null,null,null,"טון/יום","טון/יום","טון/יום"]
[{"$f":"IF(Table!A7<>\"\",Table!A7,\"\")","v":"2024-11-01"},{"$f":"IF(Table!A7<>\"\",Table!A7,\"\")","v":"2024-11-01"},{"$f":"IF(Table!CB7<>\"\",Table!CB7,\"\")","v":""},{"$f":"IF(Table!CC7<>\"\",Table!CC7,\"\")","v":""},{"$f":"IF(D7<>\"\",IF(C7<>\"\",D7/C7,\"\"),\"\")","v":""},{"$f":"IF(Table!CD7<>\"\",Table!CD7,\"\")","v":""},{"$f":"IF(Table!CE7<>\"\",Table!CE7,\"\")","v":10330},{"$f":"IF(AND(G8<>\"\",G7<>\"\"),G8-G7, \"\")","v":0},{"$f":"IF(Table!CG7<>\"\",Table!CG7,\"\")","v":""},{"$f":"IF(Table!CH7<>\"\",Table!CH7,\"\")","v":""},"  ",{"$f":"IF(Table!CI7<>\"\",Table!CI7,\"\")","v":""},{"$f":"IF(Table!CJ7<>\"\",Table!CJ7,\"\")","v":""},{"$f":"IF(Table!CK7<>\"\",Table!CK7,\"\")","v":""},{"$f":"IF(Table!CL7<>\"\",Table!CL7,\"\")","v":""},{"$f":"IF(Table!CM7<>\"\",Table!CM7,\"\")","v":""},{"$f":"IF(Table!CN7<>\"\",Table!CN7,\"\")","v":""},{"$f":"IF(Table!CO7<>\"\",Table!CO7,\"\")","v":""},{"$f":"IF(Table!CP7<>\"\",Table!CP7,\"\")","v":""},{"$f":"IF(Table!CQ7<>\"\",Table!CQ7,\"\")","v":""}]
[{"$f":"IF(Table!A8<>\"\",Table!A8,\"\")","v":"2024-11-02"},{"$f":"IF(Table!A8<>\"\",Table!A8,\"\")","v":"2024-11-02"},{"$f":"IF(Table!CB8<>\"\",Table!CB8,\"\")","v":""},{"$f":"IF(Table!CC8<>\"\",Table!CC8,\"\")","v":""},{"$f":"IF(D8<>\"\",IF(C8<>\"\",D8/C8,\"\"),\"\")","v":""},{"$f":"IF(Table!CD8<>\"\",Table!CD8,\"\")","v":""},{"$f":"IF(Table!CE8<>\"\",Table!CE8,\"\")","v":10330},{"$f":"IF(AND(G9<>\"\",G8<>\"\"),G9-G8, \"\")","v":0},{"$f":"IF(Table!CG8<>\"\",Table!CG8,\"\")","v":""},{"$f":"IF(Table!CH8<>\"\",Table!CH8,\"\")","v":""},{"$f":"IF(J8<>\"\",IF(I8<>\"\",J8/I8,\"\"),\"\")","v":""},{"$f":"IF(Table!CI8<>\"\",Table!CI8,\"\")","v":""},{"$f":"IF(Table!CJ8<>\"\",Table!CJ8,\"\")","v":""},{"$f":"IF(Table!CK8<>\"\",Table!CK8,\"\")","v":""},{"$f":"IF(Table!CL8<>\"\",Table!CL8,\"\")","v":""},{"$f":"IF(Table!CM8<>\"\",Table!CM8,\"\")","v":""},{"$f":"IF(Table!CN8<>\"\",Table!CN8,\"\")","v":""},{"$f":"IF(Table!CO8<>\"\",Table!CO8,\"\")","v":""},{"$f":"IF(Table!CP8<>\"\",Table!CP8,\"\")","v":""},{"$f":"IF(Table!CQ8<>\"\",Table!CQ8,\"\")","v":""}]
[{"$f":"IF(Table!A9<>\"\",Table!A9,\"\")","v":"2024-11-03"},{"$f":"IF(Table!A9<>\"\",Table!A9,\"\")","v":"2024-11-03"},{"$f":"IF(Table!CB9<>\"\",Table!CB9,\"\")","v":""},{"$f":"IF(Table!CC9<>\"\",Table!CC9,\"\")","v":""},"",0,{"$f":"IF(Table!CE9<>\"\",Table!CE9,\"\")","v":10330},0,{"$f":"IF(Table!CG9<>\"\",Table!CG9,\"\")","v":""},{"$f":"IF(Table!CH9<>\"\",Table!CH9,\"\")","v":""},0,{"$f":"IF(Table!CI9<>\"\",Table!CI9,\"\")","v":""},{"$f":"IF(Table!CJ9<>\"\",Table!CJ9,\"\")","v":""},{"$f":"IF(Table!CK9<>\"\",Table!CK9,\"\")","v":""},{"$f":"IF(Table!CL9<>\"\",Table!CL9,\"\")","v":""},{"$f":"IF(Table!CM9<>\"\",Table!CM9,\"\")","v":""},{"$f":"IF(Table!CN9<>\"\",Table!CN9,\"\")","v":""},{"$f":"IF(Table!CO9<>\"\",Table!CO9,\"\")","v":""},{"$f":"IF(Table!CP9<>\"\",Table!CP9,\"\")","v":""},{"$f":"IF(Table!CQ9<>\"\",Table!CQ9,\"\")","v":""}]
[{"$f":"IF(Table!A10<>\"\",Table!A10,\"\")","v":"2024-11-04"},{"$f":"IF(Table!A10<>\"\",Table!A10,\"\")","v":"2024-11-04"},{"$f":"IF(Table!CB10<>\"\",Table!CB10,\"\")","v":""},{"$f":"IF(Table!CC10<>\"\",Table!CC10,\"\")","v":""},{"$f":"IF(D10<>\"\",IF(C10<>\"\",D10/C10,\"\"),\"\")","v":""},{"$f":"IF(Table!CD10<>\"\",Table!CD10,\"\")","v":""},{"$f":"IF(Table!CE10<>\"\",Table!CE10,\"\")","v":10330},41,{"$f":"IF(Table!CG10<>\"\",Table!CG10,\"\")","v":18},{"$f":"IF(Table!CH10<>\"\",Table!CH10,\"\")","v":12.6},0.7,{"$f":"IF(Table!CI10<>\"\",Table!CI10,\"\")","v":""},{"$f":"IF(Table!CJ10<>\"\",Table!CJ10,\"\")","v":13204},{"$f":"IF(Table!CK10<>\"\",Table!CK10,\"\")","v":1875},{"$f":"IF(Table!CL10<>\"\",Table!CL10,\"\")","v":""},0,0,0,{"$f":"IF(Table!CP10<>\"\",Table!CP10,\"\")","v":""},{"$f":"IF(Table!CQ10<>\"\",Table!CQ10,\"\")","v":""}]
[{"$f":"IF(Table!A11<>\"\",Table!A11,\"\")","v":"2024-11-05"},{"$f":"IF(Table!A11<>\"\",Table!A11,\"\")","v":"2024-11-05"},{"$f":"IF(Table!CB11<>\"\",Table!CB11,\"\")","v":""},{"$f":"IF(Table!CC11<>\"\",Table!CC11,\"\")","v":""},"",{"$f":"IF(Table!CD11<>\"\",Table!CD11,\"\")","v":""},{"$f":"IF(Table!CE11<>\"\",Table!CE11,\"\")","v":10371},47,{"$f":"IF(Table!CG11<>\"\",Table!CG11,\"\")","v":""},{"$f":"IF(Table!CH11<>\"\",Table!CH11,\"\")","v":""},"",{"$f":"IF(Table!CI11<>\"\",Table!CI11,\"\")","v":""},{"$f":"IF(Table!CJ11<>\"\",Table!CJ11,\"\")","v":""},{"$f":"IF(Table!CK11<>\"\",Table!CK11,\"\")","v":""},{"$f":"IF(Table!CL11<>\"\",Table!CL11,\"\")","v":""},{"$f":"IF(Table!CM11<>\"\",Table!CM11,\"\")","v":""},{"$f":"IF(Table!CN11<>\"\",Table!CN11,\"\")","v":""},{"$f":"IF(Table!CO11<>\"\",Table!CO11,\"\")","v":""},{"$f":"IF(Table!CP11<>\"\",Table!CP11,\"\")","v":""},{"$f":"IF(Table!CQ11<>\"\",Table!CQ11,\"\")","v":""}]
[{"$f":"IF(Table!A12<>\"\",Table!A12,\"\")","v":"2024-11-06"},{"$f":"IF(Table!A12<>\"\",Table!A12,\"\")","v":"2024-11-06"},{"$f":"IF(Table!CB12<>\"\",Table!CB12,\"\")","v":""},{"$f":"IF(Table!CC12<>\"\",Table!CC12,\"\")","v":""},"",{"$f":"IF(Table!CD12<>\"\",Table!CD12,\"\")","v":""},{"$f":"IF(Table!CE12<>\"\",Table!CE12,\"\")","v":10418},45,{"$f":"IF(Table!CG12<>\"\",Table!CG12,\"\")","v":""},{"$f":"IF(Table!CH12<>\"\",Table!CH12,\"\")","v":""},"",0,0,0,0,null,null,{"$f":"IF(Table!CO12<>\"\",Table!CO12,\"\")","v":""},{"$f":"IF(Table!CP12<>\"\",Table!CP12,\"\")","v":""},{"$f":"IF(Table!CQ12<>\"\",Table!CQ12,\"\")","v":""}]
[{"$f":"IF(Table!A13<>\"\",Table!A13,\"\")","v":"2024-11-07"},{"$f":"IF(Table!A13<>\"\",Table!A13,\"\")","v":"2024-11-07"},{"$f":"IF(Table!CB13<>\"\",Table!CB13,\"\")","v":""},{"$f":"IF(Table!CC13<>\"\",Table!CC13,\"\")","v":""},"",{"$f":"IF(Table!CD13<>\"\",Table!CD13,\"\")","v":""},{"$f":"IF(Table!CE13<>\"\",Table!CE13,\"\")","v":10463},48,{"$f":"IF(Table!CG13<>\"\",Table!CG13,\"\")","v":""},{"$f":"IF(Table!CH13<>\"\",Table!CH13,\"\")","v":""},"",{"$f":"IF(Table!CI13<>\"\",Table!CI13,\"\")","v":""},{"$f":"IF(Table!CJ13<>\"\",Table!CJ13,\"\")","v":""},{"$f":"IF(Table!CK13<>\"\",Table!CK13,\"\")","v":""},{"$f":"IF(Table!CL13<>\"\",Table!CL13,\"\")","v":""},{"$f":"IF(Table!CM13<>\"\",Table!CM13,\"\")","v":""},{"$f":"IF(Table!CN13<>\"\",Table!CN13,\"\")","v":""},{"$f":"IF(Table!CO13<>\"\",Table!CO13,\"\")","v":""},{"$f":"IF(Table!CP13<>\"\",Table!CP13,\"\")","v":""},{"$f":"IF(Table!CQ13<>\"\",Table!CQ13,\"\")","v":""}]
[{"$f":"IF(Table!A14<>\"\",Table!A14,\"\")","v":"2024-11-08"},{"$f":"IF(Table!A14<>\"\",Table!A14,\"\")","v":"2024-11-08"},{"$f":"IF(Table!CB14<>\"\",Table!CB14,\"\")","v":""},{"$f":"IF(Table!CC14<>\"\",Table!CC14,\"\")","v":""},"",{"$f":"IF(Table!CD14<>\"\",Table!CD14,\"\")","v":""},{"$f":"IF(Table!CE14<>\"\",Table!CE14,\"\")","v":10511},47,{"$f":"IF(Table!CG14<>\"\",Table!CG14,\"\")","v":""},{"$f":"IF(Table!CH14<>\"\",Table!CH14,\"\")","v":""},"",{"$f":"IF(Table!CI14<>\"\",Table!CI14,\"\")","v":""},{"$f":"IF(Table!CJ14<>\"\",Table!CJ14,\"\")","v":""},{"$f":"IF(Table!CK14<>\"\",Table!CK14,\"\")","v":""},{"$f":"IF(Table!CL14<>\"\",Table!CL14,\"\")","v":""},{"$f":"IF(Table!CM14<>\"\",Table!CM14,\"\")","v":""},{"$f":"IF(Table!CN14<>\"\",Table!CN14,\"\")","v":""},{"$f":"IF(Table!CO14<>\"\",Table!CO14,\"\")","v":""},{"$f":"IF(Table!CP14<>\"\",Table!CP14,\"\")","v":""},{"$f":"IF(Table!CQ14<>\"\",Table!CQ14,\"\")","v":""}]
[{"$f":"IF(Table!A15<>\"\",Table!A15,\"\")","v":"2024-11-09"},{"$f":"IF(Table!A15<>\"\",Table!A15,\"\")","v":"2024-11-09"},{"$f":"IF(Table!CB15<>\"\",Table!CB15,\"\")","v":""},{"$f":"IF(Table!CC15<>\"\",Table!CC15,\"\")","v":""},"",{"$f":"IF(Table!CD15<>\"\",Table!CD15,\"\")","v":""},{"$f":"IF(Table!CE15<>\"\",Table!CE15,\"\")","v":10558},0,{"$f":"IF(Table!CG15<>\"\",Table!CG15,\"\")","v":""},{"$f":"IF(Table!CH15<>\"\",Table!CH15,\"\")","v":""},"",{"$f":"IF(Table!CI15<>\"\",Table!CI15,\"\")","v":""},{"$f":"IF(Table!CJ15<>\"\",Table!CJ15,\"\")","v":""},{"$f":"IF(Table!CK15<>\"\",Table!CK15,\"\")","v":""},{"$f":"IF(Table!CL15<>\"\",Table!CL15,\"\")","v":""},{"$f":"IF(Table!CM15<>\"\",Table!CM15,\"\")","v":""},{"$f":"IF(Table!CN15<>\"\",Table!CN15,\"\")","v":""},{"$f":"IF(Table!CO15<>\"\",Table!CO15,\"\")","v":""},{"$f":"IF(Table!CP15<>\"\",Table!CP15,\"\")","v":""},{"$f":"IF(Table!CQ15<>\"\",Table!CQ15,\"\")","v":""}]
[{"$f":"IF(Table!A16<>\"\",Table!A16,\"\")","v":"2024-11-10"},{"$f":"IF(Table!A16<>\"\",Table!A16,\"\")","v":"2024-11-10"},{"$f":"IF(Table!CB16<>\"\",Table!CB16,\"\")","v":""},{"$f":"IF(Table!CC16<>\"\",Table!CC16,\"\")","v":""},"",{"$f":"IF(Table!CD16<>\"\",Table!CD16,\"\")","v":""},{"$f":"IF(Table!CE16<>\"\",Table!CE16,\"\")","v":10558},0,{"$f":"IF(Table!CG16<>\"\",Table!CG16,\"\")","v":""},{"$f":"IF(Table!CH16<>\"\",Table!CH16,\"\")","v":""},"",{"$f":"IF(Table!CI16<>\"\",Table!CI16,\"\")","v":""},{"$f":"IF(Table!CJ16<>\"\",Table!CJ16,\"\")","v":""},{"$f":"IF(Table!CK16<>\"\",Table!CK16,\"\")","v":""},{"$f":"IF(Table!CL16<>\"\",Table!CL16,\"\")","v":""},{"$f":"IF(Table!CM16<>\"\",Table!CM16,\"\")","v":""},{"$f":"IF(Table!CN16<>\"\",Table!CN16,\"\")","v":""},{"$f":"IF(Table!CO16<>\"\",Table!CO16,\"\")","v":""},{"$f":"IF(Table!CP16<>\"\",Table!CP16,\"\")","v":""},{"$f":"IF(Table!CQ16<>\"\",Table!CQ16,\"\")","v":""}]
[{"$f":"IF(Table!A17<>\"\",Table!A17,\"\")","v":"2024-11-11"},{"$f":"IF(Table!A17<>\"\",Table!A17,\"\")","v":"2024-11-11"},{"$f":"IF(Table!CB17<>\"\",Table!CB17,\"\")","v":""},{"$f":"IF(Table!CC17<>\"\",Table!CC17,\"\")","v":""},"",{"$f":"IF(Table!CD17<>\"\",Table!CD17,\"\")","v":""},{"$f":"IF(Table!CE17<>\"\",Table!CE17,\"\")","v":10558},0,{"$f":"IF(Table!CG17<>\"\",Table!CG17,\"\")","v":""},{"$f":"IF(Table!CH17<>\"\",Table!CH17,\"\")","v":""},"",{"$f":"IF(Table!CI17<>\"\",Table!CI17,\"\")","v":""},{"$f":"IF(Table!CJ17<>\"\",Table!CJ17,\"\")","v":""},{"$f":"IF(Table!CK17<>\"\",Table!CK17,\"\")","v":""},{"$f":"IF(Table!CL17<>\"\",Table!CL17,\"\")","v":""},{"$f":"IF(Table!CM17<>\"\",Table!CM17,\"\")","v":""},{"$f":"IF(Table!CN17<>\"\",Table!CN17,\"\")","v":""},{"$f":"IF(Table!CO17<>\"\",Table!CO17,\"\")","v":""},{"$f":"IF(Table!CP17<>\"\",Table!CP17,\"\")","v":""},{"$f":"IF(Table!CQ17<>\"\",Table!CQ17,\"\")","v":""}]
[{"$f":"IF(Table!A18<>\"\",Table!A18,\"\")","v":"2024-11-12"},{"$f":"IF(Table!A18<>\"\",Table!A18,\"\")","v":"2024-11-12"},{"$f":"IF(Table!CB18<>\"\",Table!CB18,\"\")","v":""},{"$f":"IF(Table!CC18<>\"\",Table!CC18,\"\")","v":""},"",{"$f":"IF(Table!CD18<>\"\",Table!CD18,\"\")","v":""},{"$f":"IF(Table!CE18<>\"\",Table!CE18,\"\")","v":10558},0,{"$f":"IF(Table!CG18<>\"\",Table!CG18,\"\")","v":""},{"$f":"IF(Table!CH18<>\"\",Table!CH18,\"\")","v":""},"",{"$f":"IF(Table!CI18<>\"\",Table!CI18,\"\")","v":""},{"$f":"IF(Table!CJ18<>\"\",Table!CJ18,\"\")","v":""},{"$f":"IF(Table!CK18<>\"\",Table!CK18,\"\")","v":""},{"$f":"IF(Table!CL18<>\"\",Table!CL18,\"\")","v":""},{"$f":"IF(Table!CM18<>\"\",Table!CM18,\"\")","v":""},{"$f":"IF(Table!CN18<>\"\",Table!CN18,\"\")","v":""},{"$f":"IF(Table!CO18<>\"\",Table!CO18,\"\")","v":24.8},{"$f":"IF(Table!CP18<>\"\",Table!CP18,\"\")","v":""},{"$f":"IF(Table!CQ18<>\"\",Table!CQ18,\"\")","v":""}]
[{"$f":"IF(Table!A19<>\"\",Table!A19,\"\")","v":"2024-11-13"},{"$f":"IF(Table!A19<>\"\",Table!A19,\"\")","v":"2024-11-13"},{"$f":"IF(Table!CB19<>\"\",Table!CB19,\"\")","v":""},{"$f":"IF(Table!CC19<>\"\",Table!CC19,\"\")","v":""},"",{"$f":"IF(Table!CD19<>\"\",Table!CD19,\"\")","v":""},{"$f":"IF(Table!CE19<>\"\",Table!CE19,\"\")","v":10558},0,{"$f":"IF(Table!CG19<>\"\",Table!CG19,\"\")","v":""},{"$f":"IF(Table!CH19<>\"\",Table!CH19,\"\")","v":""},null,null,null,null,null,null,null,{"$f":"IF(Table!CO19<>\"\",Table!CO19,\"\")","v":""},{"$f":"IF(Table!CP19<>\"\",Table!CP19,\"\")","v":""},{"$f":"IF(Table!CQ19<>\"\",Table!CQ19,\"\")","v":2.54}]
[{"$f":"IF(Table!A20<>\"\",Table!A20,\"\")","v":"2024-11-14"},{"$f":"IF(Table!A20<>\"\",Table!A20,\"\")","v":"2024-11-14"},{"$f":"IF(Table!CB20<>\"\",Table!CB20,\"\")","v":""},{"$f":"IF(Table!CC20<>\"\",Table!CC20,\"\")","v":""},"",{"$f":"IF(Table!CD20<>\"\",Table!CD20,\"\")","v":""},{"$f":"IF(Table!CE20<>\"\",Table!CE20,\"\")","v":10558},0,{"$f":"IF(Table!CG20<>\"\",Table!CG20,\"\")","v":""},{"$f":"IF(Table!CH20<>\"\",Table!CH20,\"\")","v":""},"",{"$f":"IF(Table!CI20<>\"\",Table!CI20,\"\")","v":""},{"$f":"IF(Table!CJ20<>\"\",Table!CJ20,\"\")","v":""},{"$f":"IF(Table!CK20<>\"\",Table!CK20,\"\")","v":""},{"$f":"IF(Table!CL20<>\"\",Table!CL20,\"\")","v":""},{"$f":"IF(Table!CM20<>\"\",Table!CM20,\"\")","v":""},{"$f":"IF(Table!CN20<>\"\",Table!CN20,\"\")","v":""},{"$f":"IF(Table!CO20<>\"\",Table!CO20,\"\")","v":""},{"$f":"IF(Table!CP20<>\"\",Table!CP20,\"\")","v":""},{"$f":"IF(Table!CQ20<>\"\",Table!CQ20,\"\")","v":""}]
[{"$f":"IF(Table!A21<>\"\",Table!A21,\"\")","v":"2024-11-15"},{"$f":"IF(Table!A21<>\"\",Table!A21,\"\")","v":"2024-11-15"},{"$f":"IF(Table!CB21<>\"\",Table!CB21,\"\")","v":""},{"$f":"IF(Table!CC21<>\"\",Table!CC21,\"\")","v":""},"",{"$f":"IF(Table!CD21<>\"\",Table!CD21,\"\")","v":""},{"$f":"IF(Table!CE21<>\"\",Table!CE21,\"\")","v":10558},0,{"$f":"IF(Table!CG21<>\"\",Table!CG21,\"\")","v":""},{"$f":"IF(Table!CH21<>\"\",Table!CH21,\"\")","v":""},"",{"$f":"IF(Table!CI21<>\"\",Table!CI21,\"\")","v":""},{"$f":"IF(Table!CJ21<>\"\",Table!CJ21,\"\")","v":""},{"$f":"IF(Table!CK21<>\"\",Table!CK21,\"\")","v":""},{"$f":"IF(Table!CL21<>\"\",Table!CL21,\"\")","v":""},{"$f":"IF(Table!CM21<>\"\",Table!CM21,\"\")","v":""},{"$f":"IF(Table!CN21<>\"\",Table!CN21,\"\")","v":""},{"$f":"IF(Table!CO21<>\"\",Table!CO21,\"\")","v":""},{"$f":"IF(Table!CP21<>\"\",Table!CP21,\"\")","v":""},{"$f":"IF(Table!CQ21<>\"\",Table!CQ21,\"\")","v":""}]
[{"$f":"IF(Table!A22<>\"\",Table!A22,\"\")","v":"2024-11-16"},{"$f":"IF(Table!A22<>\"\",Table!A22,\"\")","v":"2024-11-16"},{"$f":"IF(Table!CB22<>\"\",Table!CB22,\"\")","v":""},{"$f":"IF(Table!CC22<>\"\",Table!CC22,\"\")","v":""},"",{"$f":"IF(Table!CD22<>\"\",Table!CD22,\"\")","v":""},{"$f":"IF(Table!CE22<>\"\",Table!CE22,\"\")","v":10558},0,{"$f":"IF(Table!CG22<>\"\",Table!CG22,\"\")","v":""},{"$f":"IF(Table!CH22<>\"\",Table!CH22,\"\")","v":""},"",{"$f":"IF(Table!CI22<>\"\",Table!CI22,\"\")","v":""},{"$f":"IF(Table!CJ22<>\"\",Table!CJ22,\"\")","v":""},{"$f":"IF(Table!CK22<>\"\",Table!CK22,\"\")","v":""},{"$f":"IF(Table!CL22<>\"\",Table!CL22,\"\")","v":""},{"$f":"IF(Table!CM22<>\"\",Table!CM22,\"\")","v":""},{"$f":"IF(Table!CN22<>\"\",Table!CN22,\"\")","v":""},{"$f":"IF(Table!CO22<>\"\",Table!CO22,\"\")","v":""},{"$f":"IF(Table!CP22<>\"\",Table!CP22,\"\")","v":""},{"$f":"IF(Table!CQ22<>\"\",Table!CQ22,\"\")","v":""}]
[{"$f":"IF(Table!A23<>\"\",Table!A23,\"\")","v":"2024-11-17"},{"$f":"IF(Table!A23<>\"\",Table!A23,\"\")","v":"2024-11-17"},{"$f":"IF(Table!CB23<>\"\",Table!CB23,\"\")","v":""},{"$f":"IF(Table!CC23<>\"\",Table!CC23,\"\")","v":""},"",{"$f":"IF(Table!CD23<>\"\",Table!CD23,\"\")","v":""},{"$f":"IF(Table!CE23<>\"\",Table!CE23,\"\")","v":10558},0,{"$f":"IF(Table!CG23<>\"\",Table!CG23,\"\")","v":""},{"$f":"IF(Table!CH23<>\"\",Table!CH23,\"\")","v":""},"",{"$f":"IF(Table!CI23<>\"\",Table!CI23,\"\")","v":""},{"$f":"IF(Table!CJ23<>\"\",Table!CJ23,\"\")","v":""},{"$f":"IF(Table!CK23<>\"\",Table!CK23,\"\")","v":""},{"$f":"IF(Table!CL23<>\"\",Table!CL23,\"\")","v":""},{"$f":"IF(Table!CM23<>\"\",Table!CM23,\"\")","v":""},{"$f":"IF(Table!CN23<>\"\",Table!CN23,\"\")","v":""},{"$f":"IF(Table!CO23<>\"\",Table!CO23,\"\")","v":""},{"$f":"IF(Table!CP23<>\"\",Table!CP23,\"\")","v":""},{"$f":"IF(Table!CQ23<>\"\",Table!CQ23,\"\")","v":""}]
[{"$f":"IF(Table!A24<>\"\",Table!A24,\"\")","v":"2024-11-18"},{"$f":"IF(Table!A24<>\"\",Table!A24,\"\")","v":"2024-11-18"},{"$f":"IF(Table!CB24<>\"\",Table!CB24,\"\")","v":""},{"$f":"IF(Table!CC24<>\"\",Table!CC24,\"\")","v":""},"",{"$f":"IF(Table!CD24<>\"\",Table!CD24,\"\")","v":""},{"$f":"IF(Table!CE24<>\"\",Table!CE24,\"\")","v":10558},0,{"$f":"IF(Table!CG24<>\"\",Table!CG24,\"\")","v":""},{"$f":"IF(Table!CH24<>\"\",Table!CH24,\"\")","v":""},"",{"$f":"IF(Table!CI24<>\"\",Table!CI24,\"\")","v":""},{"$f":"IF(Table!CJ24<>\"\",Table!CJ24,\"\")","v":""},{"$f":"IF(Table!CK24<>\"\",Table!CK24,\"\")","v":""},{"$f":"IF(Table!CL24<>\"\",Table!CL24,\"\")","v":""},{"$f":"IF(Table!CM24<>\"\",Table!CM24,\"\")","v":""},{"$f":"IF(Table!CN24<>\"\",Table!CN24,\"\")","v":""},{"$f":"IF(Table!CO24<>\"\",Table!CO24,\"\")","v":""},{"$f":"IF(Table!CP24<>\"\",Table!CP24,\"\")","v":""},{"$f":"IF(Table!CQ24<>\"\",Table!CQ24,\"\")","v":""}]
[{"$f":"IF(Table!A25<>\"\",Table!A25,\"\")","v":"2024-11-19"},{"$f":"IF(Table!A25<>\"\",Table!A25,\"\")","v":"2024-11-19"},{"$f":"IF(Table!CB25<>\"\",Table!CB25,\"\")","v":""},{"$f":"IF(Table!CC25<>\"\",Table!CC25,\"\")","v":""},"",{"$f":"IF(Table!CD25<>\"\",Table!CD25,\"\")","v":""},{"$f":"IF(Table!CE25<>\"\",Table!CE25,\"\")","v":10558},0,{"$f":"IF(Table!CG25<>\"\",Table!CG25,\"\")","v":""},{"$f":"IF(Table!CH25<>\"\",Table!CH25,\"\")","v":""},"",{"$f":"IF(Table!CI25<>\"\",Table!CI25,\"\")","v":""},{"$f":"IF(Table!CJ25<>\"\",Table!CJ25,\"\")","v":""},{"$f":"IF(Table!CK25<>\"\",Table!CK25,\"\")","v":""},{"$f":"IF(Table!CL25<>\"\",Table!CL25,\"\")","v":""},{"$f":"IF(Table!CM25<>\"\",Table!CM25,\"\")","v":""},{"$f":"IF(Table!CN25<>\"\",Table!CN25,\"\")","v":""},{"$f":"IF(Table!CO25<>\"\",Table!CO25,\"\")","v":""},{"$f":"IF(Table!CP25<>\"\",Table!CP25,\"\")","v":""},{"$f":"IF(Table!CQ25<>\"\",Table!CQ25,\"\")","v":""}]
[{"$f":"IF(Table!A26<>\"\",Table!A26,\"\")","v":"2024-11-20"},{"$f":"IF(Table!A26<>\"\",Table!A26,\"\")","v":"2024-11-20"},{"$f":"IF(Table!CB26<>\"\",Table!CB26,\"\")","v":""},{"$f":"IF(Table!CC26<>\"\",Table!CC26,\"\")","v":""},"",{"$f":"IF(Table!CD26<>\"\",Table!CD26,\"\")","v":""},{"$f":"IF(Table!CE26<>\"\",Table!CE26,\"\")","v":10558},0,{"$f":"IF(Table!CG26<>\"\",Table!CG26,\"\")","v":""},{"$f":"IF(Table!CH26<>\"\",Table!CH26,\"\")","v":""},"",{"$f":"IF(Table!CI26<>\"\",Table!CI26,\"\")","v":""},{"$f":"IF(Table!CJ26<>\"\",Table!CJ26,\"\")","v":""},{"$f":"IF(Table!CK26<>\"\",Table!CK26,\"\")","v":""},{"$f":"IF(Table!CL26<>\"\",Table!CL26,\"\")","v":""},{"$f":"IF(Table!CM26<>\"\",Table!CM26,\"\")","v":""},{"$f":"IF(Table!CN26<>\"\",Table!CN26,\"\")","v":""},{"$f":"IF(Table!CO26<>\"\",Table!CO26,\"\")","v":""},{"$f":"IF(Table!CP26<>\"\",Table!CP26,\"\")","v":""},{"$f":"IF(Table!CQ26<>\"\",Table!CQ26,\"\")","v":""}]
[{"$f":"IF(Table!A27<>\"\",Table!A27,\"\")","v":"2024-11-21"},{"$f":"IF(Table!A27<>\"\",Table!A27,\"\")","v":"2024-11-21"},{"$f":"IF(Table!CB27<>\"\",Table!CB27,\"\")","v":""},{"$f":"IF(Table!CC27<>\"\",Table!CC27,\"\")","v":""},"",{"$f":"IF(Table!CD27<>\"\",Table!CD27,\"\")","v":""},{"$f":"IF(Table!CE27<>\"\",Table!CE27,\"\")","v":10558},0,{"$f":"IF(Table!CG27<>\"\",Table!CG27,\"\")","v":""},{"$f":"IF(Table!CH27<>\"\",Table!CH27,\"\")","v":""},"",{"$f":"IF(Table!CI27<>\"\",Table!CI27,\"\")","v":""},{"$f":"IF(Table!CJ27<>\"\",Table!CJ27,\"\")","v":""},{"$f":"IF(Table!CK27<>\"\",Table!CK27,\"\")","v":""},{"$f":"IF(Table!CL27<>\"\",Table!CL27,\"\")","v":""},{"$f":"IF(Table!CM27<>\"\",Table!CM27,\"\")","v":""},{"$f":"IF(Table!CN27<>\"\",Table!CN27,\"\")","v":""},{"$f":"IF(Table!CO27<>\"\",Table!CO27,\"\")","v":""},{"$f":"IF(Table!CP27<>\"\",Table!CP27,\"\")","v":""},{"$f":"IF(Table!CQ27<>\"\",Table!CQ27,\"\")","v":""}]
[{"$f":"IF(Table!A28<>\"\",Table!A28,\"\")","v":"2024-11-22"},{"$f":"IF(Table!A28<>\"\",Table!A28,\"\")","v":"2024-11-22"},{"$f":"IF(Table!CB28<>\"\",Table!CB28,\"\")","v":""},{"$f":"IF(Table!CC28<>\"\",Table!CC28,\"\")","v":""},"",{"$f":"IF(Table!CD28<>\"\",Table!CD28,\"\")","v":""},{"$f":"IF(Table!CE28<>\"\",Table!CE28,\"\")","v":10558},0,{"$f":"IF(Table!CG28<>\"\",Table!CG28,\"\")","v":""},{"$f":"IF(Table!CH28<>\"\",Table!CH28,\"\")","v":""},"",{"$f":"IF(Table!CI28<>\"\",Table!CI28,\"\")","v":""},{"$f":"IF(Table!CJ28<>\"\",Table!CJ28,\"\")","v":""},{"$f":"IF(Table!CK28<>\"\",Table!CK28,\"\")","v":""},{"$f":"IF(Table!CL28<>\"\",Table!CL28,\"\")","v":""},{"$f":"IF(Table!CM28<>\"\",Table!CM28,\"\")","v":""},{"$f":"IF(Table!CN28<>\"\",Table!CN28,\"\")","v":""},{"$f":"IF(Table!CO28<>\"\",Table!CO28,\"\")","v":""},{"$f":"IF(Table!CP28<>\"\",Table!CP28,\"\")","v":""},{"$f":"IF(Table!CQ28<>\"\",Table!CQ28,\"\")","v":""}]
[{"$f":"IF(Table!A29<>\"\",Table!A29,\"\")","v":"2024-11-23"},{"$f":"IF(Table!A29<>\"\",Table!A29,\"\")","v":"2024-11-23"},{"$f":"IF(Table!CB29<>\"\",Table!CB29,\"\")","v":""},{"$f":"IF(Table!CC29<>\"\",Table!CC29,\"\")","v":""},"",{"$f":"IF(Table!CD29<>\"\",Table!CD29,\"\")","v":""},{"$f":"IF(Table!CE29<>\"\",Table!CE29,\"\")","v":10558},0,{"$f":"IF(Table!CG29<>\"\",Table!CG29,\"\")","v":""},{"$f":"IF(Table!CH29<>\"\",Table!CH29,\"\")","v":""},"",{"$f":"IF(Table!CI29<>\"\",Table!CI29,\"\")","v":""},{"$f":"IF(Table!CJ29<>\"\",Table!CJ29,\"\")","v":""},{"$f":"IF(Table!CK29<>\"\",Table!CK29,\"\")","v":""},{"$f":"IF(Table!CL29<>\"\",Table!CL29,\"\")","v":""},{"$f":"IF(Table!CM29<>\"\",Table!CM29,\"\")","v":""},{"$f":"IF(Table!CN29<>\"\",Table!CN29,\"\")","v":""},{"$f":"IF(Table!CO29<>\"\",Table!CO29,\"\")","v":""},{"$f":"IF(Table!CP29<>\"\",Table!CP29,\"\")","v":""},{"$f":"IF(Table!CQ29<>\"\",Table!CQ29,\"\")","v":""}]
[{"$f":"IF(Table!A30<>\"\",Table!A30,\"\")","v":"2024-11-24"},{"$f":"IF(Table!A30<>\"\",Table!A30,\"\")","v":"2024-11-24"},{"$f":"IF(Table!CB30<>\"\",Table!CB30,\"\")","v":""},{"$f":"IF(Table!CC30<>\"\",Table!CC30,\"\")","v":""},"",{"$f":"IF(Table!CD30<>\"\",Table!CD30,\"\")","v":""},{"$f":"IF(Table!CE30<>\"\",Table!CE30,\"\")","v":10558},0,{"$f":"IF(Table!CG30<>\"\",Table!CG30,\"\")","v":""},{"$f":"IF(Table!CH30<>\"\",Table!CH30,\"\")","v":""},"",{"$f":"IF(Table!CI30<>\"\",Table!CI30,\"\")","v":""},{"$f":"IF(Table!CJ30<>\"\",Table!CJ30,\"\")","v":""},{"$f":"IF(Table!CK30<>\"\",Table!CK30,\"\")","v":""},{"$f":"IF(Table!CL30<>\"\",Table!CL30,\"\")","v":""},{"$f":"IF(Table!CM30<>\"\",Table!CM30,\"\")","v":""},{"$f":"IF(Table!CN30<>\"\",Table!CN30,\"\")","v":""},{"$f":"IF(Table!CO30<>\"\",Table!CO30,\"\")","v":""},{"$f":"IF(Table!CP30<>\"\",Table!CP30,\"\")","v":""},{"$f":"IF(Table!CQ30<>\"\",Table!CQ30,\"\")","v":""}]
[{"$f":"IF(Table!A31<>\"\",Table!A31,\"\")","v":"2024-11-25"},{"$f":"IF(Table!A31<>\"\",Table!A31,\"\")","v":"2024-11-25"},{"$f":"IF(Table!CB31<>\"\",Table!CB31,\"\")","v":""},{"$f":"IF(Table!CC31<>\"\",Table!CC31,\"\")","v":""},"",{"$f":"IF(Table!CD31<>\"\",Table!CD31,\"\")","v":""},{"$f":"IF(Table!CE31<>\"\",Table!CE31,\"\")","v":10558},0,{"$f":"IF(Table!CG31<>\"\",Table!CG31,\"\")","v":""},{"$f":"IF(Table!CH31<>\"\",Table!CH31,\"\")","v":""},"",{"$f":"IF(Table!CI31<>\"\",Table!CI31,\"\")","v":""},{"$f":"IF(Table!CJ31<>\"\",Table!CJ31,\"\")","v":""},{"$f":"IF(Table!CK31<>\"\",Table!CK31,\"\")","v":""},{"$f":"IF(Table!CL31<>\"\",Table!CL31,\"\")","v":""},{"$f":"IF(Table!CM31<>\"\",Table!CM31,\"\")","v":""},{"$f":"IF(Table!CN31<>\"\",Table!CN31,\"\")","v":""},{"$f":"IF(Table!CO31<>\"\",Table!CO31,\"\")","v":""},{"$f":"IF(Table!CP31<>\"\",Table!CP31,\"\")","v":""},{"$f":"IF(Table!CQ31<>\"\",Table!CQ31,\"\")","v":""}]
[{"$f":"IF(Table!A32<>\"\",Table!A32,\"\")","v":"2024-11-26"},{"$f":"IF(Table!A32<>\"\",Table!A32,\"\")","v":"2024-11-26"},{"$f":"IF(Table!CB32<>\"\",Table!CB32,\"\")","v":""},{"$f":"IF(Table!CC32<>\"\",Table!CC32,\"\")","v":""},"",{"$f":"IF(Table!CD32<>\"\",Table!CD32,\"\")","v":""},{"$f":"IF(Table!CE32<>\"\",Table!CE32,\"\")","v":10558},0,{"$f":"IF(Table!CG32<>\"\",Table!CG32,\"\")","v":""},{"$f":"IF(Table!CH32<>\"\",Table!CH32,\"\")","v":""},"",{"$f":"IF(Table!CI32<>\"\",Table!CI32,\"\")","v":""},{"$f":"IF(Table!CJ32<>\"\",Table!CJ32,\"\")","v":""},{"$f":"IF(Table!CK32<>\"\",Table!CK32,\"\")","v":""},{"$f":"IF(Table!CL32<>\"\",Table!CL32,\"\")","v":""},{"$f":"IF(Table!CM32<>\"\",Table!CM32,\"\")","v":""},{"$f":"IF(Table!CN32<>\"\",Table!CN32,\"\")","v":""},{"$f":"IF(Table!CO32<>\"\",Table!CO32,\"\")","v":""},{"$f":"IF(Table!CP32<>\"\",Table!CP32,\"\")","v":""},{"$f":"IF(Table!CQ32<>\"\",Table!CQ32,\"\")","v":""}]
[{"$f":"IF(Table!A33<>\"\",Table!A33,\"\")","v":"2024-11-27"},{"$f":"IF(Table!A33<>\"\",Table!A33,\"\")","v":"2024-11-27"},{"$f":"IF(Table!CB33<>\"\",Table!CB33,\"\")","v":""},{"$f":"IF(Table!CC33<>\"\",Table!CC33,\"\")","v":""},"",{"$f":"IF(Table!CD33<>\"\",Table!CD33,\"\")","v":""},{"$f":"IF(Table!CE33<>\"\",Table!CE33,\"\")","v":10558},0,{"$f":"IF(Table!CG33<>\"\",Table!CG33,\"\")","v":""},{"$f":"IF(Table!CH33<>\"\",Table!CH33,\"\")","v":""},"",{"$f":"IF(Table!CI33<>\"\",Table!CI33,\"\")","v":""},{"$f":"IF(Table!CJ33<>\"\",Table!CJ33,\"\")","v":""},{"$f":"IF(Table!CK33<>\"\",Table!CK33,\"\")","v":""},{"$f":"IF(Table!CL33<>\"\",Table!CL33,\"\")","v":""},{"$f":"IF(Table!CM33<>\"\",Table!CM33,\"\")","v":""},{"$f":"IF(Table!CN33<>\"\",Table!CN33,\"\")","v":""},{"$f":"IF(Table!CO33<>\"\",Table!CO33,\"\")","v":""},{"$f":"IF(Table!CP33<>\"\",Table!CP33,\"\")","v":""},{"$f":"IF(Table!CQ33<>\"\",Table!CQ33,\"\")","v":""}]
[{"$f":"IF(Table!A34<>\"\",Table!A34,\"\")","v":"2024-11-28"},{"$f":"IF(Table!A34<>\"\",Table!A34,\"\")","v":"2024-11-28"},{"$f":"IF(Table!CB34<>\"\",Table!CB34,\"\")","v":""},{"$f":"IF(Table!CC34<>\"\",Table!CC34,\"\")","v":""},"",{"$f":"IF(Table!CD34<>\"\",Table!CD34,\"\")","v":""},{"$f":"IF(Table!CE34<>\"\",Table!CE34,\"\")","v":10558},0,{"$f":"IF(Table!CG34<>\"\",Table!CG34,\"\")","v":""},{"$f":"IF(Table!CH34<>\"\",Table!CH34,\"\")","v":""},"",{"$f":"IF(Table!CI34<>\"\",Table!CI34,\"\")","v":""},{"$f":"IF(Table!CJ34<>\"\",Table!CJ34,\"\")","v":""},{"$f":"IF(Table!CK34<>\"\",Table!CK34,\"\")","v":""},{"$f":"IF(Table!CL34<>\"\",Table!CL34,\"\")","v":""},{"$f":"IF(Table!CM34<>\"\",Table!CM34,\"\")","v":""},{"$f":"IF(Table!CN34<>\"\",Table!CN34,\"\")","v":""},{"$f":"IF(Table!CO34<>\"\",Table!CO34,\"\")","v":""},{"$f":"IF(Table!CP34<>\"\",Table!CP34,\"\")","v":""},{"$f":"IF(Table!CQ34<>\"\",Table!CQ34,\"\")","v":""}]
[{"$f":"IF(Table!A35<>\"\",Table!A35,\"\")","v":"2024-11-29"},{"$f":"IF(Table!A35<>\"\",Table!A35,\"\")","v":"2024-11-29"},{"$f":"IF(Table!CB35<>\"\",Table!CB35,\"\")","v":""},{"$f":"IF(Table!CC35<>\"\",Table!CC35,\"\")","v":""},"",{"$f":"IF(Table!CD35<>\"\",Table!CD35,\"\")","v":""},{"$f":"IF(Table!CE35<>\"\",Table!CE35,\"\")","v":10558},0,{"$f":"IF(Table!CG35<>\"\",Table!CG35,\"\")","v":""},{"$f":"IF(Table!CH35<>\"\",Table!CH35,\"\")","v":""},"",{"$f":"IF(Table!CI35<>\"\",Table!CI35,\"\")","v":""},{"$f":"IF(Table!CJ35<>\"\",Table!CJ35,\"\")","v":""},{"$f":"IF(Table!CK35<>\"\",Table!CK35,\"\")","v":""},{"$f":"IF(Table!CL35<>\"\",Table!CL35,\"\")","v":""},{"$f":"IF(Table!CM35<>\"\",Table!CM35,\"\")","v":""},{"$f":"IF(Table!CN35<>\"\",Table!CN35,\"\")","v":""},{"$f":"IF(Table!CO35<>\"\",Table!CO35,\"\")","v":""},{"$f":"IF(Table!CP35<>\"\",Table!CP35,\"\")","v":""},{"$f":"IF(Table!CQ35<>\"\",Table!CQ35,\"\")","v":""}]
[{"$f":"IF(Table!A36<>\"\",Table!A36,\"\")","v":"2024-11-30"},{"$f":"IF(Table!A36<>\"\",Table!A36,\"\")","v":"2024-11-30"},{"$f":"IF(Table!CB36<>\"\",Table!CB36,\"\")","v":""},{"$f":"IF(Table!CC36<>\"\",Table!CC36,\"\")","v":""},"",{"$f":"IF(Table!CD36<>\"\",Table!CD36,\"\")","v":""},{"$f":"IF(Table!CE36<>\"\",Table!CE36,\"\")","v":10558},{"$f":"IF(AND(G37<>\"\",G36<>\"\"),G37-G36, \"\")","v":0},{"$f":"IF(Table!CG36<>\"\",Table!CG36,\"\")","v":""},{"$f":"IF(Table!CH36<>\"\",Table!CH36,\"\")","v":""},"",{"$f":"IF(Table!CI36<>\"\",Table!CI36,\"\")","v":""},{"$f":"IF(Table!CJ36<>\"\",Table!CJ36,\"\")","v":""},{"$f":"IF(Table!CK36<>\"\",Table!CK36,\"\")","v":""},{"$f":"IF(Table!CL36<>\"\",Table!CL36,\"\")","v":""},{"$f":"IF(Table!CM36<>\"\",Table!CM36,\"\")","v":""},{"$f":"IF(Table!CN36<>\"\",Table!CN36,\"\")","v":""},{"$f":"IF(Table!CO36<>\"\",Table!CO36,\"\")","v":""},{"$f":"IF(Table!CP36<>\"\",Table!CP36,\"\")","v":""},{"$f":"IF(Table!CQ36<>\"\",Table!CQ36,\"\")","v":""}]
[{"$f":"IF(Table!A37<>\"\",Table!A37,\"\")","v":"2024-12-01"},{"$f":"IF(Table!A37<>\"\",Table!A37,\"\")","v":"2024-12-01"},{"$f":"IF(Table!CB37<>\"\",Table!CB37,\"\")","v":""},{"$f":"IF(Table!CC37<>\"\",Table!CC37,\"\")","v":""},null,{"$f":"IF(Table!CD37<>\"\",Table!CD37,\"\")","v":""},{"$f":"IF(Table!CE37<>\"\",Table!CE37,\"\")","v":10558},{"$f":"IF(AND(G38<>\"\",G37<>\"\"),G38-G37, \"\")","v":""},{"$f":"IF(Table!CG37<>\"\",Table!CG37,\"\")","v":""},{"$f":"IF(Table!CH37<>\"\",Table!CH37,\"\")","v":""},null,{"$f":"IF(Table!CI37<>\"\",Table!CI37,\"\")","v":""},{"$f":"IF(Table!CJ37<>\"\",Table!CJ37,\"\")","v":""},{"$f":"IF(Table!CK37<>\"\",Table!CK37,\"\")","v":""},{"$f":"IF(Table!CL37<>\"\",Table!CL37,\"\")","v":""},{"$f":"IF(Table!CM37<>\"\",Table!CM37,\"\")","v":""},{"$f":"IF(Table!CN37<>\"\",Table!CN37,\"\")","v":""},{"$f":"IF(Table!CO37<>\"\",Table!CO37,\"\")","v":""},{"$f":"IF(Table!CP37<>\"\",Table!CP37,\"\")","v":""},{"$f":"IF(Table!CQ37<>\"\",Table!CQ37,\"\")","v":""}]
[{"$f":"ספיקות!A38","v":"2024-12-02"},{"$f":"ספיקות!B38","v":"2024-12-02"},{"$f":"IF(Table!CB38<>\"\",Table!CB38,\"\")","v":""},{"$f":"IF(Table!CC38<>\"\",Table!CC38,\"\")","v":""},null,{"$f":"IF(Table!CD38<>\"\",Table!CD38,\"\")","v":""},{"$f":"IF(Table!CE38<>\"\",Table!CE38,\"\")","v":""},null,{"$f":"IF(Table!CG38<>\"\",Table!CG38,\"\")","v":""},{"$f":"IF(Table!CH38<>\"\",Table!CH38,\"\")","v":""},null,{"$f":"IF(Table!CI38<>\"\",Table!CI38,\"\")","v":""},{"$f":"IF(Table!CJ38<>\"\",Table!CJ38,\"\")","v":""},{"$f":"IF(Table!CK38<>\"\",Table!CK38,\"\")","v":""},{"$f":"IF(Table!CL38<>\"\",Table!CL38,\"\")","v":""},{"$f":"IF(Table!CM38<>\"\",Table!CM38,\"\")","v":""},{"$f":"IF(Table!CN38<>\"\",Table!CN38,\"\")","v":""},{"$f":"IF(Table!CO38<>\"\",Table!CO38,\"\")","v":""},{"$f":"IF(Table!CP38<>\"\",Table!CP38,\"\")","v":""},{"$f":"IF(Table!CQ38<>\"\",Table!CQ38,\"\")","v":""}]
["סה\"כ לחודש",null,null,null,null,null,{"$f":"IF(G38<>\"\",G38-G7,IF(G37<>\"\",G37-G7,IF(G36<>\"\",G36-G7,G35-G7)))","v":228},{"$f":"SUM(H7:H38)","v":228},null,null,null,{"$f":"SUM(L7:L38)","v":0},13204,1875,0,0,null,24.8,0,2.54]
["ממוצע ",null,{"$f":"AVERAGE(C7:C38)","v":{"$error":"#DIV/0!"}},{"$error":"#DIV/0!"},null,0,null,7.6,18,12.6,null,0,6602,937.5,0,0,null,12.4,{"$error":"#DIV/0!"},2.54]
["מקסימום ",null,{"$f":"MAX(C7:C38)","v":0},0,null,0,null,48,18,12.6,null,0,13204,1875,0,0,null,24.8,0,2.54]
["מינימום ",null,{"$f":"MIN(C7:C38)","v":0},0,null,0,null,0,18,12.6,null,0,0,0,0,0,null,0,0,2.54]

{"sheet":"עומסי שפכים וצריכת אנרגיה","index":7,"n_rows":42,"n_cols":17,"rows_kept":42,"cut":false,"hidden":false,"merged":[[2,8,2,12],[2,3,2,7],[3,11,4,11],[3,12,4,12],[3,10,4,10],[3,3,4,3],[40,0,40,1],[3,2,4,2],[2,0,2,1],[3,0,5,0],[3,1,5,1],[41,0,41,1],[38,0,38,1],[39,0,39,1],[1,0,1,3],[1,4,1,16],[3,8,4,8],[3,9,4,9],[3,4,4,4],[3,5,4,5],[3,6,4,6],[3,7,4,7],[2,13,2,16],[3,16,4,16],[3,13,3,14],[4,13,5,13],[3,15,5,15]]}
[]
[{"$f":"סיכום!C11","v":"מט\"ש נובמבר 2024"},null,null,null,"נתוני תפעול   -  גליון  7 -  עומסי שפכים וצריכת אנרגיה"]
["יחידת פעולה",null,"שפכים","ח י ש ו ב    ע ו מ ס י ם",null,null,null,null,"אחוזי הרחקה שפכים- קולחין שניוני",null,null,null,null,"צריכת  אנרגיה"]
["תאריך","יום בשבוע","ספיקה יומית","צח\"ב","צח\"כ","מוצקים מרחפים","חנקן אמוניאקלי","זרחן כללי","הרחקת צח\"ב כללי","הרחקת צח\"כ כללי","הרחקת מוצקים מרחפים","הרחקת חנקן אמוניאקלי","הרחקת זרחן כללי","קריאת מונה",null,"סה\"כ צריכה סגולית יומית","לק\"ג צחב מורחק"]
[null,null,null,null,null,null,null,null,null,null,null,null,null,null,"צריכה יומית"]
[null,null,"מ\"ק/יום","ק\"ג/יום","ק\"ג/יום","ק\"ג/יום","ק\"ג/יום","ק\"ג/יום","%","%","%","%","%",null,"קוו\"טש /יום",null,"קוו\"ש/ק\"ג צח\"ב"]
[{"$f":"IF(Table!A7<>\"\",Table!A7,\"\")","v":"2024-11-01"},{"$f":"IF(Table!A7<>\"\",Table!A7,\"\")","v":"2024-11-01"},{"$f":"ספיקות!J7","v":1526},{"$f":"IF(AND(C7<>\"\",'איכות שפכים'!C7<>\"\"),C7*'איכות שפכים'!C7/1000, \"\")","v":""},{"$f":"IF(AND(C7<>\"\",'איכות שפכים'!D7<>\"\"),C7*'איכות שפכים'!D7/1000, \"\")","v":""},{"$f":"IF(AND(C7<>\"\",'איכות שפכים'!E7<>\"\"),C7*'איכות שפכים'!E7/1000, \"\")","v":""},{"$f":"IF(AND(C7<>\"\",'איכות שפכים'!F7<>\"\"),C7*'איכות שפכים'!F7/1000, \"\")","v":""},{"$f":"IF(AND(C7<>\"\",'איכות שפכים'!I7<>\"\"),C7*'איכות שפכים'!I7/1000, \"\")","v":""},{"$f":"IF(AND('קולחין שניוני'!C7<>\"\",'איכות שפכים'!C7<>\"\"),100%-('קולחין שניוני'!C7/'איכות שפכים'!C7), \"\")","v":""},{"$f":"IF(AND('קולחין שניוני'!D7<>\"\",'איכות שפכים'!D7<>\"\"),100%-('קולחין שניוני'!D7/'איכות שפכים'!D7), \"\")","v":""},{"$f":"IF(AND('קולחין שניוני'!E7<>\"\",'איכות שפכים'!E7<>\"\"),100%-('קולחין שניוני'!E7/'איכות שפכים'!E7), \"\")","v":""},{"$f":"IF(AND('קולחין שניוני'!F7<>\"\",'איכות שפכים'!F7<>\"\"),100%-('קולחין שניוני'!F7/'איכות שפכים'!F7), \"\")","v":""},{"$f":"IF(AND('קולחין שניוני'!H7<>\"\",'איכות שפכים'!I7<>\"\"),100%-('קולחין שניוני'!H7/'איכות שפכים'!I7), \"\")","v":""},null,{"$f":"IF(Table!CR7<>\"\",Table!CR7,\"\")","v":1416},{"$f":"IF(AND(O7<>\"\",C7<>\"\"),O7/C7, \"\")","v":0.92791612057667106},{"$f":"IF(AND(O7<>\"\",D7<>\"\"),O7/D7, \"\")","v":""}]
[{"$f":"IF(Table!A8<>\"\",Table!A8,\"\")","v":"2024-11-02"},{"$f":"IF(Table!A8<>\"\",Table!A8,\"\")","v":"2024-11-02"},{"$f":"ספיקות!J8","v":1440},{"$f":"IF(AND(C8<>\"\",'איכות שפכים'!C8<>\"\"),C8*'איכות שפכים'!C8/1000, \"\")","v":""},{"$f":"IF(AND(C8<>\"\",'איכות שפכים'!D8<>\"\"),C8*'איכות שפכים'!D8/1000, \"\")","v":""},{"$f":"IF(AND(C8<>\"\",'איכות שפכים'!E8<>\"\"),C8*'איכות שפכים'!E8/1000, \"\")","v":""},{"$f":"IF(AND(C8<>\"\",'איכות שפכים'!F8<>\"\"),C8*'איכות שפכים'!F8/1000, \"\")","v":""},{"$f":"IF(AND(C8<>\"\",'איכות שפכים'!I8<>\"\"),C8*'איכות שפכים'!I8/1000, \"\")","v":""},{"$f":"IF(AND('קולחין שניוני'!C8<>\"\",'איכות שפכים'!C8<>\"\"),100%-('קולחין שניוני'!C8/'איכות שפכים'!C8), \"\")","v":""},{"$f":"IF(AND('קולחין שניוני'!D8<>\"\",'איכות שפכים'!D8<>\"\"),100%-('קולחין שניוני'!D8/'איכות שפכים'!D8), \"\")","v":""},{"$f":"IF(AND('קולחין שניוני'!E8<>\"\",'איכות שפכים'!E8<>\"\"),100%-('קולחין שניוני'!E8/'איכות שפכים'!E8), \"\")","v":""},{"$f":"IF(AND('קולחין שניוני'!F8<>\"\",'איכות שפכים'!F8<>\"\"),100%-('קולחין שניוני'!F8/'איכות שפכים'!F8), \"\")","v":""},{"$f":"IF(AND('קולחין שניוני'!H8<>\"\",'איכות שפכים'!I8<>\"\"),100%-('קולחין שניוני'!H8/'איכות שפכים'!I8), \"\")","v":""},null,{"$f":"IF(Table!CR8<>\"\",Table!CR8,\"\")","v":786},{"$f":"IF(AND(O8<>\"\",C8<>\"\"),O8/C8, \"\")","v":0.54583333333333328},{"$f":"IF(AND(O8<>\"\",D8<>\"\"),O8/D8, \"\")","v":""}]
[{"$f":"IF(Table!A9<>\"\",Table!A9,\"\")","v":"2024-11-03"},{"$f":"IF(Table!A9<>\"\",Table!A9,\"\")","v":"2024-11-03"},{"$f":"ספיקות!J9","v":1555},{"$f":"IF(AND(C9<>\"\",'איכות שפכים'!C9<>\"\"),C9*'איכות שפכים'!C9/1000, \"\")","v":""},{"$f":"IF(AND(C9<>\"\",'איכות שפכים'!D9<>\"\"),C9*'איכות שפכים'!D9/1000, \"\")","v":""},{"$f":"IF(AND(C9<>\"\",'איכות שפכים'!E9<>\"\"),C9*'איכות שפכים'!E9/1000, \"\")","v":""},{"$f":"IF(AND(C9<>\"\",'איכות שפכים'!F9<>\"\"),C9*'איכות שפכים'!F9/1000, \"\")","v":""},{"$f":"IF(AND(C9<>\"\",'איכות שפכים'!I9<>\"\"),C9*'איכות שפכים'!I9/1000, \"\")","v":""},{"$f":"IF(AND('קולחין שניוני'!C9<>\"\",'איכות שפכים'!C9<>\"\"),100%-('קולחין שניוני'!C9/'איכות שפכים'!C9), \"\")","v":""},{"$f":"IF(AND('קולחין שניוני'!D9<>\"\",'איכות שפכים'!D9<>\"\"),100%-('קולחין שניוני'!D9/'איכות שפכים'!D9), \"\")","v":""},{"$f":"IF(AND('קולחין שניוני'!E9<>\"\",'איכות שפכים'!E9<>\"\"),100%-('קולחין שניוני'!E9/'איכות שפכים'!E9), \"\")","v":""},{"$f":"IF(AND('קולחין שניוני'!F9<>\"\",'איכות שפכים'!F9<>\"\"),100%-('קולחין שניוני'!F9/'איכות שפכים'!F9), \"\")","v":""},{"$f":"IF(AND('קולחין שניוני'!H9<>\"\",'איכות שפכים'!I9<>\"\"),100%-('קולחין שניוני'!H9/'איכות שפכים'!I9), \"\")","v":""},null,{"$f":"IF(Table!CR9<>\"\",Table!CR9,\"\")","v":1962},1.2617363344051447,""]
[{"$f":"IF(Table!A10<>\"\",Table!A10,\"\")","v":"2024-11-04"},{"$f":"IF(Table!A10<>\"\",Table!A10,\"\")","v":"2024-11-04"},{"$f":"ספיקות!J10","v":1457},{"$f":"IF(AND(C10<>\"\",'איכות שפכים'!C10<>\"\"),C10*'איכות שפכים'!C10/1000, \"\")","v":431.27199999999999},{"$f":"IF(AND(C10<>\"\",'איכות שפכים'!D10<>\"\"),C10*'איכות שפכים'!D10/1000, \"\")","v":1046.126},{"$f":"IF(AND(C10<>\"\",'איכות שפכים'!E10<>\"\"),C10*'איכות שפכים'!E10/1000, \"\")","v":428.358},{"$f":"IF(AND(C10<>\"\",'איכות שפכים'!F10<>\"\"),C10*'איכות שפכים'!F10/1000, \"\")","v":50.776450000000004},{"$f":"IF(AND(C10<>\"\",'איכות שפכים'!I10<>\"\"),C10*'איכות שפכים'!I10/1000, \"\")","v":9.3248000000000015},{"$f":"IF(AND('קולחין שניוני'!C10<>\"\",'איכות שפכים'!C10<>\"\"),100%-('קולחין שניוני'!C10/'איכות שפכים'!C10), \"\")","v":0.98310810810810811},{"$f":"IF(AND('קולחין שניוני'!D10<>\"\",'איכות שפכים'!D10<>\"\"),100%-('קולחין שניוני'!D10/'איכות שפכים'!D10), \"\")","v":0.9651810584958217},{"$f":"IF(AND('קולחין שניוני'!E10<>\"\",'איכות שפכים'!E10<>\"\"),100%-('קולחין שניוני'!E10/'איכות שפכים'!E10), \"\")","v":0.98299319727891155},{"$f":"IF(AND('קולחין שניוני'!F10<>\"\",'איכות שפכים'!F10<>\"\"),100%-('קולחין שניוני'!F10/'איכות שפכים'!F10), \"\")","v":""},{"$f":"IF(AND('קולחין שניוני'!H10<>\"\",'איכות שפכים'!I10<>\"\"),100%-('קולחין שניוני'!H10/'איכות שפכים'!I10), \"\")","v":0.1875},null,{"$f":"IF(Table!CR10<>\"\",Table!CR10,\"\")","v":1986},1.3630748112560054,4.6049824704594782]
[{"$f":"IF(Table!A11<>\"\",Table!A11,\"\")","v":"2024-11-05"},{"$f":"IF(Table!A11<>\"\",Table!A11,\"\")","v":"2024-11-05"},{"$f":"ספיקות!J11","v":1480},{"$f":"IF(AND(C11<>\"\",'איכות שפכים'!C11<>\"\"),C11*'איכות שפכים'!C11/1000, \"\")","v":""},{"$f":"IF(AND(C11<>\"\",'איכות שפכים'!D11<>\"\"),C11*'איכות שפכים'!D11/1000, \"\")","v":""},{"$f":"IF(AND(C11<>\"\",'איכות שפכים'!E11<>\"\"),C11*'איכות שפכים'!E11/1000, \"\")","v":""},{"$f":"IF(AND(C11<>\"\",'איכות שפכים'!F11<>\"\"),C11*'איכות שפכים'!F11/1000, \"\")","v":""},{"$f":"IF(AND(C11<>\"\",'איכות שפכים'!I11<>\"\"),C11*'איכות שפכים'!I11/1000, \"\")","v":""},{"$f":"IF(AND('קולחין שניוני'!C11<>\"\",'איכות שפכים'!C11<>\"\"),100%-('קולחין שניוני'!C11/'איכות שפכים'!C11), \"\")","v":""},{"$f":"IF(AND('קולחין שניוני'!D11<>\"\",'איכות שפכים'!D11<>\"\"),100%-('קולחין שניוני'!D11/'איכות שפכים'!D11), \"\")","v":""},{"$f":"IF(AND('קולחין שניוני'!E11<>\"\",'איכות שפכים'!E11<>\"\"),100%-('קולחין שניוני'!E11/'איכות שפכים'!E11), \"\")","v":""},{"$f":"IF(AND('קולחין שניוני'!F11<>\"\",'איכות שפכים'!F11<>\"\"),100%-('קולחין שניוני'!F11/'איכות שפכים'!F11), \"\")","v":""},{"$f":"IF(AND('קולחין שניוני'!H11<>\"\",'איכות שפכים'!I11<>\"\"),100%-('קולחין שניוני'!H11/'איכות שפכים'!I11), \"\")","v":""},null,{"$f":"IF(Table!CR11<>\"\",Table!CR11,\"\")","v":2094},1.414864864864865,""]
[{"$f":"IF(Table!A12<>\"\",Table!A12,\"\")","v":"2024-11-06"},{"$f":"IF(Table!A12<>\"\",Table!A12,\"\")","v":"2024-11-06"},{"$f":"ספיקות!J12","v":1470},{"$f":"IF(AND(C12<>\"\",'איכות שפכים'!C12<>\"\"),C12*'איכות שפכים'!C12/1000, \"\")","v":""},{"$f":"IF(AND(C12<>\"\",'איכות שפכים'!D12<>\"\"),C12*'איכות שפכים'!D12/1000, \"\")","v":""},{"$f":"IF(AND(C12<>\"\",'איכות שפכים'!E12<>\"\"),C12*'איכות שפכים'!E12/1000, \"\")","v":""},{"$f":"IF(AND(C12<>\"\",'איכות שפכים'!F12<>\"\"),C12*'איכות שפכים'!F12/1000, \"\")","v":""},{"$f":"IF(AND(C12<>\"\",'איכות שפכים'!I12<>\"\"),C12*'איכות שפכים'!I12/1000, \"\")","v":""},{"$f":"IF(AND('קולחין שניוני'!C12<>\"\",'איכות שפכים'!C12<>\"\"),100%-('קולחין שניוני'!C12/'איכות שפכים'!C12), \"\")","v":""},{"$f":"IF(AND('קולחין שניוני'!D12<>\"\",'איכות שפכים'!D12<>\"\"),100%-('קולחין שניוני'!D12/'איכות שפכים'!D12), \"\")","v":""},{"$f":"IF(AND('קולחין שניוני'!E12<>\"\",'איכות שפכים'!E12<>\"\"),100%-('קולחין שניוני'!E12/'איכות שפכים'!E12), \"\")","v":""},{"$f":"IF(AND('קולחין שניוני'!F12<>\"\",'איכות שפכים'!F12<>\"\"),100%-('קולחין שניוני'!F12/'איכות שפכים'!F12), \"\")","v":""},{"$f":"IF(AND('קולחין שניוני'!H12<>\"\",'איכות שפכים'!I12<>\"\"),100%-('קולחין שניוני'!H12/'איכות שפכים'!I12), \"\")","v":""},null,{"$f":"IF(Table!CR12<>\"\",Table!CR12,\"\")","v":1980},1.346938775510204,""]
[{"$f":"IF(Table!A13<>\"\",Table!A13,\"\")","v":"2024-11-07"},{"$f":"IF(Table!A13<>\"\",Table!A13,\"\")","v":"2024-11-07"},{"$f":"ספיקות!J13","v":1504},{"$f":"IF(AND(C13<>\"\",'איכות שפכים'!C13<>\"\"),C13*'איכות שפכים'!C13/1000, \"\")","v":""},{"$f":"IF(AND(C13<>\"\",'איכות שפכים'!D13<>\"\"),C13*'איכות שפכים'!D13/1000, \"\")","v":""},{"$f":"IF(AND(C13<>\"\",'איכות שפכים'!E13<>\"\"),C13*'איכות שפכים'!E13/1000, \"\")","v":""},{"$f":"IF(AND(C13<>\"\",'איכות שפכים'!F13<>\"\"),C13*'איכות שפכים'!F13/1000, \"\")","v":""},{"$f":"IF(AND(C13<>\"\",'איכות שפכים'!I13<>\"\"),C13*'איכות שפכים'!I13/1000, \"\")","v":""},{"$f":"IF(AND('קולחין שניוני'!C13<>\"\",'איכות שפכים'!C13<>\"\"),100%-('קולחין שניוני'!C13/'איכות שפכים'!C13), \"\")","v":""},{"$f":"IF(AND('קולחין שניוני'!D13<>\"\",'איכות שפכים'!D13<>\"\"),100%-('קולחין שניוני'!D13/'איכות שפכים'!D13), \"\")","v":""},{"$f":"IF(AND('קולחין שניוני'!E13<>\"\",'איכות שפכים'!E13<>\"\"),100%-('קולחין שניוני'!E13/'איכות שפכים'!E13), \"\")","v":""},{"$f":"IF(AND('קולחין שניוני'!F13<>\"\",'איכות שפכים'!F13<>\"\"),100%-('קולחין שניוני'!F13/'איכות שפכים'!F13), \"\")","v":""},{"$f":"IF(AND('קולחין שניוני'!H13<>\"\",'איכות שפכים'!I13<>\"\"),100%-('קולחין שניוני'!H13/'איכות שפכים'!I13), \"\")","v":""},null,{"$f":"IF(Table!CR13<>\"\",Table!CR13,\"\")","v":2142},1.4242021276595744,""]
[{"$f":"IF(Table!A14<>\"\",Table!A14,\"\")","v":"2024-11-08"},{"$f":"IF(Table!A14<>\"\",Table!A14,\"\")","v":"2024-11-08"},{"$f":"ספיקות!J14","v":1527},{"$f":"IF(AND(C14<>\"\",'איכות שפכים'!C14<>\"\"),C14*'איכות שפכים'!C14/1000, \"\")","v":""},{"$f":"IF(AND(C14<>\"\",'איכות שפכים'!D14<>\"\"),C14*'איכות שפכים'!D14/1000, \"\")","v":""},{"$f":"IF(AND(C14<>\"\",'איכות שפכים'!E14<>\"\"),C14*'איכות שפכים'!E14/1000, \"\")","v":""},{"$f":"IF(AND(C14<>\"\",'איכות שפכים'!F14<>\"\"),C14*'איכות שפכים'!F14/1000, \"\")","v":""},{"$f":"IF(AND(C14<>\"\",'איכות שפכים'!I14<>\"\"),C14*'איכות שפכים'!I14/1000, \"\")","v":""},{"$f":"IF(AND('קולחין שניוני'!C14<>\"\",'איכות שפכים'!C14<>\"\"),100%-('קולחין שניוני'!C14/'איכות שפכים'!C14), \"\")","v":""},{"$f":"IF(AND('קולחין שניוני'!D14<>\"\",'איכות שפכים'!D14<>\"\"),100%-('קולחין שניוני'!D14/'איכות שפכים'!D14), \"\")","v":""},{"$f":"IF(AND('קולחין שניוני'!E14<>\"\",'איכות שפכים'!E14<>\"\"),100%-('קולחין שניוני'!E14/'איכות שפכים'!E14), \"\")","v":""},{"$f":"IF(AND('קולחין שניוני'!F14<>\"\",'איכות שפכים'!F14<>\"\"),100%-('קולחין שניוני'!F14/'איכות שפכים'!F14), \"\")","v":""},{"$f":"IF(AND('קולחין שניוני'!H14<>\"\",'איכות שפכים'!I14<>\"\"),100%-('קולחין שניוני'!H14/'איכות שפכים'!I14), \"\")","v":""},null,{"$f":"IF(Table!CR14<>\"\",Table!CR14,\"\")","v":1494},0.9783889980353635,""]
[{"$f":"IF(Table!A15<>\"\",Table!A15,\"\")","v":"2024-11-09"},{"$f":"IF(Table!A15<>\"\",Table!A15,\"\")","v":"2024-11-09"},{"$f":"ספיקות!J15","v":1516},{"$f":"IF(AND(C15<>\"\",'איכות שפכים'!C15<>\"\"),C15*'איכות שפכים'!C15/1000, \"\")","v":""},{"$f":"IF(AND(C15<>\"\",'איכות שפכים'!D15<>\"\"),C15*'איכות שפכים'!D15/1000, \"\")","v":""},{"$f":"IF(AND(C15<>\"\",'איכות שפכים'!E15<>\"\"),C15*'איכות שפכים'!E15/1000, \"\")","v":""},{"$f":"IF(AND(C15<>\"\",'איכות שפכים'!F15<>\"\"),C15*'איכות שפכים'!F15/1000, \"\")","v":""},{"$f":"IF(AND(C15<>\"\",'איכות שפכים'!I15<>\"\"),C15*'איכות שפכים'!I15/1000, \"\")","v":""},{"$f":"IF(AND('קולחין שניוני'!C15<>\"\",'איכות שפכים'!C15<>\"\"),100%-('קולחין שניוני'!C15/'איכות שפכים'!C15), \"\")","v":""},{"$f":"IF(AND('קולחין שניוני'!D15<>\"\",'איכות שפכים'!D15<>\"\"),100%-('קולחין שניוני'!D15/'איכות שפכים'!D15), \"\")","v":""},{"$f":"IF(AND('קולחין שניוני'!E15<>\"\",'איכות שפכים'!E15<>\"\"),100%-('קולחין שניוני'!E15/'איכות שפכים'!E15), \"\")","v":""},{"$f":"IF(AND('קולחין שניוני'!F15<>\"\",'איכות שפכים'!F15<>\"\"),100%-('קולחין שניוני'!F15/'איכות שפכים'!F15), \"\")","v":""},{"$f":"IF(AND('קולחין שניוני'!H15<>\"\",'איכות שפכים'!I15<>\"\"),100%-('קולחין שניוני'!H15/'איכות שפכים'!I15), \"\")","v":""},null,{"$f":"IF(Table!CR15<>\"\",Table!CR15,\"\")","v":972},0.64116094986807393,""]
[{"$f":"IF(Table!A16<>\"\",Table!A16,\"\")","v":"2024-11-10"},{"$f":"IF(Table!A16<>\"\",Table!A16,\"\")","v":"2024-11-10"},{"$f":"ספיקות!J16","v":1548},{"$f":"IF(AND(C16<>\"\",'איכות שפכים'!C16<>\"\"),C16*'איכות שפכים'!C16/1000, \"\")","v":""},{"$f":"IF(AND(C16<>\"\",'איכות שפכים'!D16<>\"\"),C16*'איכות שפכים'!D16/1000, \"\")","v":""},{"$f":"IF(AND(C16<>\"\",'איכות שפכים'!E16<>\"\"),C16*'איכות שפכים'!E16/1000, \"\")","v":""},{"$f":"IF(AND(C16<>\"\",'איכות שפכים'!F16<>\"\"),C16*'איכות שפכים'!F16/1000, \"\")","v":""},{"$f":"IF(AND(C16<>\"\",'איכות שפכים'!I16<>\"\"),C16*'איכות שפכים'!I16/1000, \"\")","v":""},{"$f":"IF(AND('קולחין שניוני'!C16<>\"\",'איכות שפכים'!C16<>\"\"),100%-('קולחין שניוני'!C16/'איכות שפכים'!C16), \"\")","v":""},{"$f":"IF(AND('קולחין שניוני'!D16<>\"\",'איכות שפכים'!D16<>\"\"),100%-('קולחין שניוני'!D16/'איכות שפכים'!D16), \"\")","v":""},{"$f":"IF(AND('קולחין שניוני'!E16<>\"\",'איכות שפכים'!E16<>\"\"),100%-('קולחין שניוני'!E16/'איכות שפכים'!E16), \"\")","v":""},{"$f":"IF(AND('קולחין שניוני'!F16<>\"\",'איכות שפכים'!F16<>\"\"),100%-('קולחין שניוני'!F16/'איכות שפכים'!F16), \"\")","v":""},{"$f":"IF(AND('קולחין שניוני'!H16<>\"\",'איכות שפכים'!I16<>\"\"),100%-('קולחין שניוני'!H16/'איכות שפכים'!I16), \"\")","v":""},null,{"$f":"IF(Table!CR16<>\"\",Table!CR16,\"\")","v":2016},1.3023255813953489,""]
[{"$f":"IF(Table!A17<>\"\",Table!A17,\"\")","v":"2024-11-11"},{"$f":"IF(Table!A17<>\"\",Table!A17,\"\")","v":"2024-11-11"},{"$f":"ספיקות!J17","v":1469},{"$f":"IF(AND(C17<>\"\",'איכות שפכים'!C17<>\"\"),C17*'איכות שפכים'!C17/1000, \"\")","v":""},{"$f":"IF(AND(C17<>\"\",'איכות שפכים'!D17<>\"\"),C17*'איכות שפכים'!D17/1000, \"\")","v":""},{"$f":"IF(AND(C17<>\"\",'איכות שפכים'!E17<>\"\"),C17*'איכות שפכים'!E17/1000, \"\")","v":""},{"$f":"IF(AND(C17<>\"\",'איכות שפכים'!F17<>\"\"),C17*'איכות שפכים'!F17/1000, \"\")","v":""},{"$f":"IF(AND(C17<>\"\",'איכות שפכים'!I17<>\"\"),C17*'איכות שפכים'!I17/1000, \"\")","v":""},{"$f":"IF(AND('קולחין שניוני'!C17<>\"\",'איכות שפכים'!C17<>\"\"),100%-('קולחין שניוני'!C17/'איכות שפכים'!C17), \"\")","v":""},{"$f":"IF(AND('קולחין שניוני'!D17<>\"\",'איכות שפכים'!D17<>\"\"),100%-('קולחין שניוני'!D17/'איכות שפכים'!D17), \"\")","v":""},{"$f":"IF(AND('קולחין שניוני'!E17<>\"\",'איכות שפכים'!E17<>\"\"),100%-('קולחין שניוני'!E17/'איכות שפכים'!E17), \"\")","v":""},{"$f":"IF(AND('קולחין שניוני'!F17<>\"\",'איכות שפכים'!F17<>\"\"),100%-('קולחין שניוני'!F17/'איכות שפכים'!F17), \"\")","v":""},{"$f":"IF(AND('קולחין שניוני'!H17<>\"\",'איכות שפכים'!I17<>\"\"),100%-('קולחין שניוני'!H17/'איכות שפכים'!I17), \"\")","v":""},null,{"$f":"IF(Table!CR17<>\"\",Table!CR17,\"\")","v":1812},1.2334921715452689,""]
[{"$f":"IF(Table!A18<>\"\",Table!A18,\"\")","v":"2024-11-12"},{"$f":"IF(Table!A18<>\"\",Table!A18,\"\")","v":"2024-11-12"},{"$f":"ספיקות!J18","v":1395},{"$f":"IF(AND(C18<>\"\",'איכות שפכים'!C18<>\"\"),C18*'איכות שפכים'!C18/1000, \"\")","v":""},{"$f":"IF(AND(C18<>\"\",'איכות שפכים'!D18<>\"\"),C18*'איכות שפכים'!D18/1000, \"\")","v":""},{"$f":"IF(AND(C18<>\"\",'איכות שפכים'!E18<>\"\"),C18*'איכות שפכים'!E18/1000, \"\")","v":""},{"$f":"IF(AND(C18<>\"\",'איכות שפכים'!F18<>\"\"),C18*'איכות שפכים'!F18/1000, \"\")","v":""},{"$f":"IF(AND(C18<>\"\",'איכות שפכים'!I18<>\"\"),C18*'איכות שפכים'!I18/1000, \"\")","v":""},{"$f":"IF(AND('קולחין שניוני'!C18<>\"\",'איכות שפכים'!C18<>\"\"),100%-('קולחין שניוני'!C18/'איכות שפכים'!C18), \"\")","v":""},{"$f":"IF(AND('קולחין שניוני'!D18<>\"\",'איכות שפכים'!D18<>\"\"),100%-('קולחין שניוני'!D18/'איכות שפכים'!D18), \"\")","v":""},{"$f":"IF(AND('קולחין שניוני'!E18<>\"\",'איכות שפכים'!E18<>\"\"),100%-('קולחין שניוני'!E18/'איכות שפכים'!E18), \"\")","v":""},{"$f":"IF(AND('קולחין שניוני'!F18<>\"\",'איכות שפכים'!F18<>\"\"),100%-('קולחין שניוני'!F18/'איכות שפכים'!F18), \"\")","v":""},{"$f":"IF(AND('קולחין שניוני'!H18<>\"\",'איכות שפכים'!I18<>\"\"),100%-('קולחין שניוני'!H18/'איכות שפכים'!I18), \"\")","v":""},null,{"$f":"IF(Table!CR18<>\"\",Table!CR18,\"\")","v":1848},1.3247311827956989,""]
[{"$f":"IF(Table!A19<>\"\",Table!A19,\"\")","v":"2024-11-13"},{"$f":"IF(Table!A19<>\"\",Table!A19,\"\")","v":"2024-11-13"},{"$f":"ספיקות!J19","v":1337},{"$f":"IF(AND(C19<>\"\",'איכות שפכים'!C19<>\"\"),C19*'איכות שפכים'!C19/1000, \"\")","v":""},{"$f":"IF(AND(C19<>\"\",'איכות שפכים'!D19<>\"\"),C19*'איכות שפכים'!D19/1000, \"\")","v":""},{"$f":"IF(AND(C19<>\"\",'איכות שפכים'!E19<>\"\"),C19*'איכות שפכים'!E19/1000, \"\")","v":""},{"$f":"IF(AND(C19<>\"\",'איכות שפכים'!F19<>\"\"),C19*'איכות שפכים'!F19/1000, \"\")","v":""},{"$f":"IF(AND(C19<>\"\",'איכות שפכים'!I19<>\"\"),C19*'איכות שפכים'!I19/1000, \"\")","v":""},{"$f":"IF(AND('קולחין שניוני'!C19<>\"\",'איכות שפכים'!C19<>\"\"),100%-('קולחין שניוני'!C19/'איכות שפכים'!C19), \"\")","v":""},{"$f":"IF(AND('קולחין שניוני'!D19<>\"\",'איכות שפכים'!D19<>\"\"),100%-('קולחין שניוני'!D19/'איכות שפכים'!D19), \"\")","v":""},{"$f":"IF(AND('קולחין שניוני'!E19<>\"\",'איכות שפכים'!E19<>\"\"),100%-('קולחין שניוני'!E19/'איכות שפכים'!E19), \"\")","v":""},{"$f":"IF(AND('קולחין שניוני'!F19<>\"\",'איכות שפכים'!F19<>\"\"),100%-('קולחין שניוני'!F19/'איכות שפכים'!F19), \"\")","v":""},{"$f":"IF(AND('קולחין שניוני'!H19<>\"\",'איכות שפכים'!I19<>\"\"),100%-('קולחין שניוני'!H19/'איכות שפכים'!I19), \"\")","v":""},null,{"$f":"IF(Table!CR19<>\"\",Table!CR19,\"\")","v":1614},1.2071802543006731,""]
[{"$f":"IF(Table!A20<>\"\",Table!A20,\"\")","v":"2024-11-14"},{"$f":"IF(Table!A20<>\"\",Table!A20,\"\")","v":"2024-11-14"},{"$f":"ספיקות!J20","v":1278},{"$f":"IF(AND(C20<>\"\",'איכות שפכים'!C20<>\"\"),C20*'איכות שפכים'!C20/1000, \"\")","v":""},{"$f":"IF(AND(C20<>\"\",'איכות שפכים'!D20<>\"\"),C20*'איכות שפכים'!D20/1000, \"\")","v":""},{"$f":"IF(AND(C20<>\"\",'איכות שפכים'!E20<>\"\"),C20*'איכות שפכים'!E20/1000, \"\")","v":""},{"$f":"IF(AND(C20<>\"\",'איכות שפכים'!F20<>\"\"),C20*'איכות שפכים'!F20/1000, \"\")","v":""},{"$f":"IF(AND(C20<>\"\",'איכות שפכים'!I20<>\"\"),C20*'איכות שפכים'!I20/1000, \"\")","v":""},{"$f":"IF(AND('קולחין שניוני'!C20<>\"\",'איכות שפכים'!C20<>\"\"),100%-('קולחין שניוני'!C20/'איכות שפכים'!C20), \"\")","v":""},{"$f":"IF(AND('קולחין שניוני'!D20<>\"\",'איכות שפכים'!D20<>\"\"),100%-('קולחין שניוני'!D20/'איכות שפכים'!D20), \"\")","v":""},{"$f":"IF(AND('קולחין שניוני'!E20<>\"\",'איכות שפכים'!E20<>\"\"),100%-('קולחין שניוני'!E20/'איכות שפכים'!E20), \"\")","v":""},{"$f":"IF(AND('קולחין שניוני'!F20<>\"\",'איכות שפכים'!F20<>\"\"),100%-('קולחין שניוני'!F20/'איכות שפכים'!F20), \"\")","v":""},{"$f":"IF(AND('קולחין שניוני'!H20<>\"\",'איכות שפכים'!I20<>\"\"),100%-('קולחין שניוני'!H20/'איכות שפכים'!I20), \"\")","v":""},null,{"$f":"IF(Table!CR20<>\"\",Table!CR20,\"\")","v":1806},1.4131455399061033,""]
[{"$f":"IF(Table!A21<>\"\",Table!A21,\"\")","v":"2024-11-15"},{"$f":"IF(Table!A21<>\"\",Table!A21,\"\")","v":"2024-11-15"},{"$f":"ספיקות!J21","v":1388},{"$f":"IF(AND(C21<>\"\",'איכות שפכים'!C21<>\"\"),C21*'איכות שפכים'!C21/1000, \"\")","v":""},{"$f":"IF(AND(C21<>\"\",'איכות שפכים'!D21<>\"\"),C21*'איכות שפכים'!D21/1000, \"\")","v":""},{"$f":"IF(AND(C21<>\"\",'איכות שפכים'!E21<>\"\"),C21*'איכות שפכים'!E21/1000, \"\")","v":""},{"$f":"IF(AND(C21<>\"\",'איכות שפכים'!F21<>\"\"),C21*'איכות שפכים'!F21/1000, \"\")","v":""},{"$f":"IF(AND(C21<>\"\",'איכות שפכים'!I21<>\"\"),C21*'איכות שפכים'!I21/1000, \"\")","v":""},{"$f":"IF(AND('קולחין שניוני'!C21<>\"\",'איכות שפכים'!C21<>\"\"),100%-('קולחין שניוני'!C21/'איכות שפכים'!C21), \"\")","v":""},{"$f":"IF(AND('קולחין שניוני'!D21<>\"\",'איכות שפכים'!D21<>\"\"),100%-('קולחין שניוני'!D21/'איכות שפכים'!D21), \"\")","v":""},{"$f":"IF(AND('קולחין שניוני'!E21<>\"\",'איכות שפכים'!E21<>\"\"),100%-('קולחין שניוני'!E21/'איכות שפכים'!E21), \"\")","v":""},{"$f":"IF(AND('קולחין שניוני'!F21<>\"\",'איכות שפכים'!F21<>\"\"),100%-('קולחין שניוני'!F21/'איכות שפכים'!F21), \"\")","v":""},{"$f":"IF(AND('קולחין שניוני'!H21<>\"\",'איכות שפכים'!I21<>\"\"),100%-('קולחין שניוני'!H21/'איכות שפכים'!I21), \"\")","v":""},null,{"$f":"IF(Table!CR21<>\"\",Table!CR21,\"\")","v":1236},0.89048991354466855,""]
[{"$f":"IF(Table!A22<>\"\",Table!A22,\"\")","v":"2024-11-16"},{"$f":"IF(Table!A22<>\"\",Table!A22,\"\")","v":"2024-11-16"},{"$f":"ספיקות!J22","v":1299},{"$f":"IF(AND(C22<>\"\",'איכות שפכים'!C22<>\"\"),C22*'איכות שפכים'!C22/1000, \"\")","v":""},{"$f":"IF(AND(C22<>\"\",'איכות שפכים'!D22<>\"\"),C22*'איכות שפכים'!D22/1000, \"\")","v":""},{"$f":"IF(AND(C22<>\"\",'איכות שפכים'!E22<>\"\"),C22*'איכות שפכים'!E22/1000, \"\")","v":""},{"$f":"IF(AND(C22<>\"\",'איכות שפכים'!F22<>\"\"),C22*'איכות שפכים'!F22/1000, \"\")","v":""},{"$f":"IF(AND(C22<>\"\",'איכות שפכים'!I22<>\"\"),C22*'איכות שפכים'!I22/1000, \"\")","v":""},{"$f":"IF(AND('קולחין שניוני'!C22<>\"\",'איכות שפכים'!C22<>\"\"),100%-('קולחין שניוני'!C22/'איכות שפכים'!C22), \"\")","v":""},{"$f":"IF(AND('קולחין שניוני'!D22<>\"\",'איכות שפכים'!D22<>\"\"),100%-('קולחין שניוני'!D22/'איכות שפכים'!D22), \"\")","v":""},{"$f":"IF(AND('קולחין שניוני'!E22<>\"\",'איכות שפכים'!E22<>\"\"),100%-('קולחין שניוני'!E22/'איכות שפכים'!E22), \"\")","v":""},{"$f":"IF(AND('קולחין שניוני'!F22<>\"\",'איכות שפכים'!F22<>\"\"),100%-('קולחין שניוני'!F22/'איכות שפכים'!F22), \"\")","v":""},{"$f":"IF(AND('קולחין שניוני'!H22<>\"\",'איכות שפכים'!I22<>\"\"),100%-('קולחין שניוני'!H22/'איכות שפכים'!I22), \"\")","v":""},null,{"$f":"IF(Table!CR22<>\"\",Table!CR22,\"\")","v":714},0.54965357967667439,""]
[{"$f":"IF(Table!A23<>\"\",Table!A23,\"\")","v":"2024-11-17"},{"$f":"IF(Table!A23<>\"\",Table!A23,\"\")","v":"2024-11-17"},{"$f":"ספיקות!J23","v":1428},{"$f":"IF(AND(C23<>\"\",'איכות שפכים'!C23<>\"\"),C23*'איכות שפכים'!C23/1000, \"\")","v":""},{"$f":"IF(AND(C23<>\"\",'איכות שפכים'!D23<>\"\"),C23*'איכות שפכים'!D23/1000, \"\")","v":""},{"$f":"IF(AND(C23<>\"\",'איכות שפכים'!E23<>\"\"),C23*'איכות שפכים'!E23/1000, \"\")","v":""},{"$f":"IF(AND(C23<>\"\",'איכות שפכים'!F23<>\"\"),C23*'איכות שפכים'!F23/1000, \"\")","v":""},{"$f":"IF(AND(C23<>\"\",'איכות שפכים'!I23<>\"\"),C23*'איכות שפכים'!I23/1000, \"\")","v":""},{"$f":"IF(AND('קולחין שניוני'!C23<>\"\",'איכות שפכים'!C23<>\"\"),100%-('קולחין שניוני'!C23/'איכות שפכים'!C23), \"\")","v":""},{"$f":"IF(AND('קולחין שניוני'!D23<>\"\",'איכות שפכים'!D23<>\"\"),100%-('קולחין שניוני'!D23/'איכות שפכים'!D23), \"\")","v":""},{"$f":"IF(AND('קולחין שניוני'!E23<>\"\",'איכות שפכים'!E23<>\"\"),100%-('קולחין שניוני'!E23/'איכות שפכים'!E23), \"\")","v":""},{"$f":"IF(AND('קולחין שניוני'!F23<>\"\",'איכות שפכים'!F23<>\"\"),100%-('קולחין שניוני'!F23/'איכות שפכים'!F23), \"\")","v":""},{"$f":"IF(AND('קולחין שניוני'!H23<>\"\",'איכות שפכים'!I23<>\"\"),100%-('קולחין שניוני'!H23/'איכות שפכים'!I23), \"\")","v":""},null,{"$f":"IF(Table!CR23<>\"\",Table!CR23,\"\")","v":1872},1.3109243697478992,""]
[{"$f":"IF(Table!A24<>\"\",Table!A24,\"\")","v":"2024-11-18"},{"$f":"IF(Table!A24<>\"\",Table!A24,\"\")","v":"2024-11-18"},{"$f":"ספיקות!J24","v":1615},{"$f":"IF(AND(C24<>\"\",'איכות שפכים'!C24<>\"\"),C24*'איכות שפכים'!C24/1000, \"\")","v":801.04},{"$f":"IF(AND(C24<>\"\",'איכות שפכים'!D24<>\"\"),C24*'איכות שפכים'!D24/1000, \"\")","v":1837.87},{"$f":"IF(AND(C24<>\"\",'איכות שפכים'!E24<>\"\"),C24*'איכות שפכים'!E24/1000, \"\")","v":741.28499999999997},{"$f":"IF(AND(C24<>\"\",'איכות שפכים'!F24<>\"\"),C24*'איכות שפכים'!F24/1000, \"\")","v":75.743499999999997},{"$f":"IF(AND(C24<>\"\",'איכות שפכים'!I24<>\"\"),C24*'איכות שפכים'!I24/1000, \"\")","v":""},{"$f":"IF(AND('קולחין שניוני'!C24<>\"\",'איכות שפכים'!C24<>\"\"),100%-('קולחין שניוני'!C24/'איכות שפכים'!C24), \"\")","v":""},{"$f":"IF(AND('קולחין שניוני'!D24<>\"\",'איכות שפכים'!D24<>\"\"),100%-('קולחין שניוני'!D24/'איכות שפכים'!D24), \"\")","v":""},{"$f":"IF(AND('קולחין שניוני'!E24<>\"\",'איכות שפכים'!E24<>\"\"),100%-('קולחין שניוני'!E24/'איכות שפכים'!E24), \"\")","v":""},{"$f":"IF(AND('קולחין שניוני'!F24<>\"\",'איכות שפכים'!F24<>\"\"),100%-('קולחין שניוני'!F24/'איכות שפכים'!F24), \"\")","v":""},{"$f":"IF(AND('קולחין שניוני'!H24<>\"\",'איכות שפכים'!I24<>\"\"),100%-('קולחין שניוני'!H24/'איכות שפכים'!I24), \"\")","v":""},null,{"$f":"IF(Table!CR24<>\"\",Table!CR24,\"\")","v":1608},0.99566563467492264,2.0073903924897634]
[{"$f":"IF(Table!A25<>\"\",Table!A25,\"\")","v":"2024-11-19"},{"$f":"IF(Table!A25<>\"\",Table!A25,\"\")","v":"2024-11-19"},{"$f":"ספיקות!J25","v":1427},{"$f":"IF(AND(C25<>\"\",'איכות שפכים'!C25<>\"\"),C25*'איכות שפכים'!C25/1000, \"\")","v":""},{"$f":"IF(AND(C25<>\"\",'איכות שפכים'!D25<>\"\"),C25*'איכות שפכים'!D25/1000, \"\")","v":""},{"$f":"IF(AND(C25<>\"\",'איכות שפכים'!E25<>\"\"),C25*'איכות שפכים'!E25/1000, \"\")","v":""},{"$f":"IF(AND(C25<>\"\",'איכות שפכים'!F25<>\"\"),C25*'איכות שפכים'!F25/1000, \"\")","v":""},{"$f":"IF(AND(C25<>\"\",'איכות שפכים'!I25<>\"\"),C25*'איכות שפכים'!I25/1000, \"\")","v":""},{"$f":"IF(AND('קולחין שניוני'!C25<>\"\",'איכות שפכים'!C25<>\"\"),100%-('קולחין שניוני'!C25/'איכות שפכים'!C25), \"\")","v":""},{"$f":"IF(AND('קולחין שניוני'!D25<>\"\",'איכות שפכים'!D25<>\"\"),100%-('קולחין שניוני'!D25/'איכות שפכים'!D25), \"\")","v":""},{"$f":"IF(AND('קולחין שניוני'!E25<>\"\",'איכות שפכים'!E25<>\"\"),100%-('קולחין שניוני'!E25/'איכות שפכים'!E25), \"\")","v":""},{"$f":"IF(AND('קולחין שניוני'!F25<>\"\",'איכות שפכים'!F25<>\"\"),100%-('קולחין שניוני'!F25/'איכות שפכים'!F25), \"\")","v":""},{"$f":"IF(AND('קולחין שניוני'!H25<>\"\",'איכות שפכים'!I25<>\"\"),100%-('קולחין שניוני'!H25/'איכות שפכים'!I25), \"\")","v":""},null,{"$f":"IF(Table!CR25<>\"\",Table!CR25,\"\")","v":1422},0.9964961457603364,""]
[{"$f":"IF(Table!A26<>\"\",Table!A26,\"\")","v":"2024-11-20"},{"$f":"IF(Table!A26<>\"\",Table!A26,\"\")","v":"2024-11-20"},{"$f":"ספיקות!J26","v":1313},{"$f":"IF(AND(C26<>\"\",'איכות שפכים'!C26<>\"\"),C26*'איכות שפכים'!C26/1000, \"\")","v":""},{"$f":"IF(AND(C26<>\"\",'איכות שפכים'!D26<>\"\"),C26*'איכות שפכים'!D26/1000, \"\")","v":""},{"$f":"IF(AND(C26<>\"\",'איכות שפכים'!E26<>\"\"),C26*'איכות שפכים'!E26/1000, \"\")","v":""},{"$f":"IF(AND(C26<>\"\",'איכות שפכים'!F26<>\"\"),C26*'איכות שפכים'!F26/1000, \"\")","v":""},{"$f":"IF(AND(C26<>\"\",'איכות שפכים'!I26<>\"\"),C26*'איכות שפכים'!I26/1000, \"\")","v":""},{"$f":"IF(AND('קולחין שניוני'!C26<>\"\",'איכות שפכים'!C26<>\"\"),100%-('קולחין שניוני'!C26/'איכות שפכים'!C26), \"\")","v":""},{"$f":"IF(AND('קולחין שניוני'!D26<>\"\",'איכות שפכים'!D26<>\"\"),100%-('קולחין שניוני'!D26/'איכות שפכים'!D26), \"\")","v":""},{"$f":"IF(AND('קולחין שניוני'!E26<>\"\",'איכות שפכים'!E26<>\"\"),100%-('קולחין שניוני'!E26/'איכות שפכים'!E26), \"\")","v":""},{"$f":"IF(AND('קולחין שניוני'!F26<>\"\",'איכות שפכים'!F26<>\"\"),100%-('קולחין שניוני'!F26/'איכות שפכים'!F26), \"\")","v":""},{"$f":"IF(AND('קולחין שניוני'!H26<>\"\",'איכות שפכים'!I26<>\"\"),100%-('קולחין שניוני'!H26/'איכות שפכים'!I26), \"\")","v":""},null,{"$f":"IF(Table!CR26<>\"\",Table!CR26,\"\")","v":1680},1.2795125666412794,""]
[{"$f":"IF(Table!A27<>\"\",Table!A27,\"\")","v":"2024-11-21"},{"$f":"IF(Table!A27<>\"\",Table!A27,\"\")","v":"2024-11-21"},{"$f":"ספיקות!J27","v":1202},{"$f":"IF(AND(C27<>\"\",'איכות שפכים'!C27<>\"\"),C27*'איכות שפכים'!C27/1000, \"\")","v":""},{"$f":"IF(AND(C27<>\"\",'איכות שפכים'!D27<>\"\"),C27*'איכות שפכים'!D27/1000, \"\")","v":""},{"$f":"IF(AND(C27<>\"\",'איכות שפכים'!E27<>\"\"),C27*'איכות שפכים'!E27/1000, \"\")","v":""},{"$f":"IF(AND(C27<>\"\",'איכות שפכים'!F27<>\"\"),C27*'איכות שפכים'!F27/1000, \"\")","v":""},{"$f":"IF(AND(C27<>\"\",'איכות שפכים'!I27<>\"\"),C27*'איכות שפכים'!I27/1000, \"\")","v":""},{"$f":"IF(AND('קולחין שניוני'!C27<>\"\",'איכות שפכים'!C27<>\"\"),100%-('קולחין שניוני'!C27/'איכות שפכים'!C27), \"\")","v":""},{"$f":"IF(AND('קולחין שניוני'!D27<>\"\",'איכות שפכים'!D27<>\"\"),100%-('קולחין שניוני'!D27/'איכות שפכים'!D27), \"\")","v":""},{"$f":"IF(AND('קולחין שניוני'!E27<>\"\",'איכות שפכים'!E27<>\"\"),100%-('קולחין שניוני'!E27/'איכות שפכים'!E27), \"\")","v":""},{"$f":"IF(AND('קולחין שניוני'!F27<>\"\",'איכות שפכים'!F27<>\"\"),100%-('קולחין שניוני'!F27/'איכות שפכים'!F27), \"\")","v":""},{"$f":"IF(AND('קולחין שניוני'!H27<>\"\",'איכות שפכים'!I27<>\"\"),100%-('קולחין שניוני'!H27/'איכות שפכים'!I27), \"\")","v":""},null,{"$f":"IF(Table!CR27<>\"\",Table!CR27,\"\")","v":1182},0.98336106489184694,""]
[{"$f":"IF(Table!A28<>\"\",Table!A28,\"\")","v":"2024-11-22"},{"$f":"IF(Table!A28<>\"\",Table!A28,\"\")","v":"2024-11-22"},{"$f":"ספיקות!J28","v":1357},{"$f":"IF(AND(C28<>\"\",'איכות שפכים'!C28<>\"\"),C28*'איכות שפכים'!C28/1000, \"\")","v":""},{"$f":"IF(AND(C28<>\"\",'איכות שפכים'!D28<>\"\"),C28*'איכות שפכים'!D28/1000, \"\")","v":""},{"$f":"IF(AND(C28<>\"\",'איכות שפכים'!E28<>\"\"),C28*'איכות שפכים'!E28/1000, \"\")","v":""},{"$f":"IF(AND(C28<>\"\",'איכות שפכים'!F28<>\"\"),C28*'איכות שפכים'!F28/1000, \"\")","v":""},{"$f":"IF(AND(C28<>\"\",'איכות שפכים'!I28<>\"\"),C28*'איכות שפכים'!I28/1000, \"\")","v":""},{"$f":"IF(AND('קולחין שניוני'!C28<>\"\",'איכות שפכים'!C28<>\"\"),100%-('קולחין שניוני'!C28/'איכות שפכים'!C28), \"\")","v":""},{"$f":"IF(AND('קולחין שניוני'!D28<>\"\",'איכות שפכים'!D28<>\"\"),100%-('קולחין שניוני'!D28/'איכות שפכים'!D28), \"\")","v":""},{"$f":"IF(AND('קולחין שניוני'!E28<>\"\",'איכות שפכים'!E28<>\"\"),100%-('קולחין שניוני'!E28/'איכות שפכים'!E28), \"\")","v":""},{"$f":"IF(AND('קולחין שניוני'!F28<>\"\",'איכות שפכים'!F28<>\"\"),100%-('קולחין שניוני'!F28/'איכות שפכים'!F28), \"\")","v":""},{"$f":"IF(AND('קולחין שניוני'!H28<>\"\",'איכות שפכים'!I28<>\"\"),100%-('קולחין שניוני'!H28/'איכות שפכים'!I28), \"\")","v":""},null,{"$f":"IF(Table!CR28<>\"\",Table!CR28,\"\")","v":678},0.49963154016212236,""]
[{"$f":"IF(Table!A29<>\"\",Table!A29,\"\")","v":"2024-11-23"},{"$f":"IF(Table!A29<>\"\",Table!A29,\"\")","v":"2024-11-23"},{"$f":"ספיקות!J29","v":1290},{"$f":"IF(AND(C29<>\"\",'איכות שפכים'!C29<>\"\"),C29*'איכות שפכים'!C29/1000, \"\")","v":""},{"$f":"IF(AND(C29<>\"\",'איכות שפכים'!D29<>\"\"),C29*'איכות שפכים'!D29/1000, \"\")","v":""},{"$f":"IF(AND(C29<>\"\",'איכות שפכים'!E29<>\"\"),C29*'איכות שפכים'!E29/1000, \"\")","v":""},{"$f":"IF(AND(C29<>\"\",'איכות שפכים'!F29<>\"\"),C29*'איכות שפכים'!F29/1000, \"\")","v":""},{"$f":"IF(AND(C29<>\"\",'איכות שפכים'!I29<>\"\"),C29*'איכות שפכים'!I29/1000, \"\")","v":""},{"$f":"IF(AND('קולחין שניוני'!C29<>\"\",'איכות שפכים'!C29<>\"\"),100%-('קולחין שניוני'!C29/'איכות שפכים'!C29), \"\")","v":""},{"$f":"IF(AND('קולחין שניוני'!D29<>\"\",'איכות שפכים'!D29<>\"\"),100%-('קולחין שניוני'!D29/'איכות שפכים'!D29), \"\")","v":""},{"$f":"IF(AND('קולחין שניוני'!E29<>\"\",'איכות שפכים'!E29<>\"\"),100%-('קולחין שניוני'!E29/'איכות שפכים'!E29), \"\")","v":""},{"$f":"IF(AND('קולחין שניוני'!F29<>\"\",'איכות שפכים'!F29<>\"\"),100%-('קולחין שניוני'!F29/'איכות שפכים'!F29), \"\")","v":""},{"$f":"IF(AND('קולחין שניוני'!H29<>\"\",'איכות שפכים'!I29<>\"\"),100%-('קולחין שניוני'!H29/'איכות שפכים'!I29), \"\")","v":""},null,{"$f":"IF(Table!CR29<>\"\",Table!CR29,\"\")","v":1560},1.2093023255813953,""]
[{"$f":"IF(Table!A30<>\"\",Table!A30,\"\")","v":"2024-11-24"},{"$f":"IF(Table!A30<>\"\",Table!A30,\"\")","v":"2024-11-24"},{"$f":"ספיקות!J30","v":1194},{"$f":"IF(AND(C30<>\"\",'איכות שפכים'!C30<>\"\"),C30*'איכות שפכים'!C30/1000, \"\")","v":""},{"$f":"IF(AND(C30<>\"\",'איכות שפכים'!D30<>\"\"),C30*'איכות שפכים'!D30/1000, \"\")","v":""},{"$f":"IF(AND(C30<>\"\",'איכות שפכים'!E30<>\"\"),C30*'איכות שפכים'!E30/1000, \"\")","v":""},{"$f":"IF(AND(C30<>\"\",'איכות שפכים'!F30<>\"\"),C30*'איכות שפכים'!F30/1000, \"\")","v":""},{"$f":"IF(AND(C30<>\"\",'איכות שפכים'!I30<>\"\"),C30*'איכות שפכים'!I30/1000, \"\")","v":""},{"$f":"IF(AND('קולחין שניוני'!C30<>\"\",'איכות שפכים'!C30<>\"\"),100%-('קולחין שניוני'!C30/'איכות שפכים'!C30), \"\")","v":""},{"$f":"IF(AND('קולחין שניוני'!D30<>\"\",'איכות שפכים'!D30<>\"\"),100%-('קולחין שניוני'!D30/'איכות שפכים'!D30), \"\")","v":""},{"$f":"IF(AND('קולחין שניוני'!E30<>\"\",'איכות שפכים'!E30<>\"\"),100%-('קולחין שניוני'!E30/'איכות שפכים'!E30), \"\")","v":""},{"$f":"IF(AND('קולחין שניוני'!F30<>\"\",'איכות שפכים'!F30<>\"\"),100%-('קולחין שניוני'!F30/'איכות שפכים'!F30), \"\")","v":""},{"$f":"IF(AND('קולחין שניוני'!H30<>\"\",'איכות שפכים'!I30<>\"\"),100%-('קולחין שניוני'!H30/'איכות שפכים'!I30), \"\")","v":""},null,{"$f":"IF(Table!CR30<>\"\",Table!CR30,\"\")","v":1272},1.0653266331658291,""]
[{"$f":"IF(Table!A31<>\"\",Table!A31,\"\")","v":"2024-11-25"},{"$f":"IF(Table!A31<>\"\",Table!A31,\"\")","v":"2024-11-25"},{"$f":"ספיקות!J31","v":1130},{"$f":"IF(AND(C31<>\"\",'איכות שפכים'!C31<>\"\"),C31*'איכות שפכים'!C31/1000, \"\")","v":""},{"$f":"IF(AND(C31<>\"\",'איכות שפכים'!D31<>\"\"),C31*'איכות שפכים'!D31/1000, \"\")","v":""},{"$f":"IF(AND(C31<>\"\",'איכות שפכים'!E31<>\"\"),C31*'איכות שפכים'!E31/1000, \"\")","v":""},{"$f":"IF(AND(C31<>\"\",'איכות שפכים'!F31<>\"\"),C31*'איכות שפכים'!F31/1000, \"\")","v":""},{"$f":"IF(AND(C31<>\"\",'איכות שפכים'!I31<>\"\"),C31*'איכות שפכים'!I31/1000, \"\")","v":""},{"$f":"IF(AND('קולחין שניוני'!C31<>\"\",'איכות שפכים'!C31<>\"\"),100%-('קולחין שניוני'!C31/'איכות שפכים'!C31), \"\")","v":""},{"$f":"IF(AND('קולחין שניוני'!D31<>\"\",'איכות שפכים'!D31<>\"\"),100%-('קולחין שניוני'!D31/'איכות שפכים'!D31), \"\")","v":""},{"$f":"IF(AND('קולחין שניוני'!E31<>\"\",'איכות שפכים'!E31<>\"\"),100%-('קולחין שניוני'!E31/'איכות שפכים'!E31), \"\")","v":""},{"$f":"IF(AND('קולחין שניוני'!F31<>\"\",'איכות שפכים'!F31<>\"\"),100%-('קולחין שניוני'!F31/'איכות שפכים'!F31), \"\")","v":""},{"$f":"IF(AND('קולחין שניוני'!H31<>\"\",'איכות שפכים'!I31<>\"\"),100%-('קולחין שניוני'!H31/'איכות שפכים'!I31), \"\")","v":""},null,{"$f":"IF(Table!CR31<>\"\",Table!CR31,\"\")","v":1578},1.3964601769911504,""]
[{"$f":"IF(Table!A32<>\"\",Table!A32,\"\")","v":"2024-11-26"},{"$f":"IF(Table!A32<>\"\",Table!A32,\"\")","v":"2024-11-26"},{"$f":"ספיקות!J32","v":1266},{"$f":"IF(AND(C32<>\"\",'איכות שפכים'!C32<>\"\"),C32*'איכות שפכים'!C32/1000, \"\")","v":""},{"$f":"IF(AND(C32<>\"\",'איכות שפכים'!D32<>\"\"),C32*'איכות שפכים'!D32/1000, \"\")","v":""},{"$f":"IF(AND(C32<>\"\",'איכות שפכים'!E32<>\"\"),C32*'איכות שפכים'!E32/1000, \"\")","v":""},{"$f":"IF(AND(C32<>\"\",'איכות שפכים'!F32<>\"\"),C32*'איכות שפכים'!F32/1000, \"\")","v":""},{"$f":"IF(AND(C32<>\"\",'איכות שפכים'!I32<>\"\"),C32*'איכות שפכים'!I32/1000, \"\")","v":""},{"$f":"IF(AND('קולחין שניוני'!C32<>\"\",'איכות שפכים'!C32<>\"\"),100%-('קולחין שניוני'!C32/'איכות שפכים'!C32), \"\")","v":""},{"$f":"IF(AND('קולחין שניוני'!D32<>\"\",'איכות שפכים'!D32<>\"\"),100%-('קולחין שניוני'!D32/'איכות שפכים'!D32), \"\")","v":""},{"$f":"IF(AND('קולחין שניוני'!E32<>\"\",'איכות שפכים'!E32<>\"\"),100%-('קולחין שניוני'!E32/'איכות שפכים'!E32), \"\")","v":""},{"$f":"IF(AND('קולחין שניוני'!F32<>\"\",'איכות שפכים'!F32<>\"\"),100%-('קולחין שניוני'!F32/'איכות שפכים'!F32), \"\")","v":""},{"$f":"IF(AND('קולחין שניוני'!H32<>\"\",'איכות שפכים'!I32<>\"\"),100%-('קולחין שניוני'!H32/'איכות שפכים'!I32), \"\")","v":""},null,{"$f":"IF(Table!CR32<>\"\",Table!CR32,\"\")","v":1440},1.1374407582938388,""]
[{"$f":"IF(Table!A33<>\"\",Table!A33,\"\")","v":"2024-11-27"},{"$f":"IF(Table!A33<>\"\",Table!A33,\"\")","v":"2024-11-27"},{"$f":"ספיקות!J33","v":1164},{"$f":"IF(AND(C33<>\"\",'איכות שפכים'!C33<>\"\"),C33*'איכות שפכים'!C33/1000, \"\")","v":""},{"$f":"IF(AND(C33<>\"\",'איכות שפכים'!D33<>\"\"),C33*'איכות שפכים'!D33/1000, \"\")","v":""},{"$f":"IF(AND(C33<>\"\",'איכות שפכים'!E33<>\"\"),C33*'איכות שפכים'!E33/1000, \"\")","v":""},{"$f":"IF(AND(C33<>\"\",'איכות שפכים'!F33<>\"\"),C33*'איכות שפכים'!F33/1000, \"\")","v":""},{"$f":"IF(AND(C33<>\"\",'איכות שפכים'!I33<>\"\"),C33*'איכות שפכים'!I33/1000, \"\")","v":""},{"$f":"IF(AND('קולחין שניוני'!C33<>\"\",'איכות שפכים'!C33<>\"\"),100%-('קולחין שניוני'!C33/'איכות שפכים'!C33), \"\")","v":""},{"$f":"IF(AND('קולחין שניוני'!D33<>\"\",'איכות שפכים'!D33<>\"\"),100%-('קולחין שניוני'!D33/'איכות שפכים'!D33), \"\")","v":""},{"$f":"IF(AND('קולחין שניוני'!E33<>\"\",'איכות שפכים'!E33<>\"\"),100%-('קולחין שניוני'!E33/'איכות שפכים'!E33), \"\")","v":""},{"$f":"IF(AND('קולחין שניוני'!F33<>\"\",'איכות שפכים'!F33<>\"\"),100%-('קולחין שניוני'!F33/'איכות שפכים'!F33), \"\")","v":""},{"$f":"IF(AND('קולחין שניוני'!H33<>\"\",'איכות שפכים'!I33<>\"\"),100%-('קולחין שניוני'!H33/'איכות שפכים'!I33), \"\")","v":""},null,{"$f":"IF(Table!CR33<>\"\",Table!CR33,\"\")","v":1488},1.2783505154639174,""]
[{"$f":"IF(Table!A34<>\"\",Table!A34,\"\")","v":"2024-11-28"},{"$f":"IF(Table!A34<>\"\",Table!A34,\"\")","v":"2024-11-28"},{"$f":"ספיקות!J34","v":1189},{"$f":"IF(AND(C34<>\"\",'איכות שפכים'!C34<>\"\"),C34*'איכות שפכים'!C34/1000, \"\")","v":""},{"$f":"IF(AND(C34<>\"\",'איכות שפכים'!D34<>\"\"),C34*'איכות שפכים'!D34/1000, \"\")","v":""},{"$f":"IF(AND(C34<>\"\",'איכות שפכים'!E34<>\"\"),C34*'איכות שפכים'!E34/1000, \"\")","v":""},{"$f":"IF(AND(C34<>\"\",'איכות שפכים'!F34<>\"\"),C34*'איכות שפכים'!F34/1000, \"\")","v":""},{"$f":"IF(AND(C34<>\"\",'איכות שפכים'!I34<>\"\"),C34*'איכות שפכים'!I34/1000, \"\")","v":""},{"$f":"IF(AND('קולחין שניוני'!C34<>\"\",'איכות שפכים'!C34<>\"\"),100%-('קולחין שניוני'!C34/'איכות שפכים'!C34), \"\")","v":""},{"$f":"IF(AND('קולחין שניוני'!D34<>\"\",'איכות שפכים'!D34<>\"\"),100%-('קולחין שניוני'!D34/'איכות שפכים'!D34), \"\")","v":""},{"$f":"IF(AND('קולחין שניוני'!E34<>\"\",'איכות שפכים'!E34<>\"\"),100%-('קולחין שניוני'!E34/'איכות שפכים'!E34), \"\")","v":""},{"$f":"IF(AND('קולחין שניוני'!F34<>\"\",'איכות שפכים'!F34<>\"\"),100%-('קולחין שניוני'!F34/'איכות שפכים'!F34), \"\")","v":""},{"$f":"IF(AND('קולחין שניוני'!H34<>\"\",'איכות שפכים'!I34<>\"\"),100%-('קולחין שניוני'!H34/'איכות שפכים'!I34), \"\")","v":""},null,{"$f":"IF(Table!CR34<>\"\",Table!CR34,\"\")","v":1182},0.99411269974768712,""]
[{"$f":"IF(Table!A35<>\"\",Table!A35,\"\")","v":"2024-11-29"},{"$f":"IF(Table!A35<>\"\",Table!A35,\"\")","v":"2024-11-29"},{"$f":"ספיקות!J35","v":1373},{"$f":"IF(AND(C35<>\"\",'איכות שפכים'!C35<>\"\"),C35*'איכות שפכים'!C35/1000, \"\")","v":""},{"$f":"IF(AND(C35<>\"\",'איכות שפכים'!D35<>\"\"),C35*'איכות שפכים'!D35/1000, \"\")","v":""},{"$f":"IF(AND(C35<>\"\",'איכות שפכים'!E35<>\"\"),C35*'איכות שפכים'!E35/1000, \"\")","v":""},{"$f":"IF(AND(C35<>\"\",'איכות שפכים'!F35<>\"\"),C35*'איכות שפכים'!F35/1000, \"\")","v":""},{"$f":"IF(AND(C35<>\"\",'איכות שפכים'!I35<>\"\"),C35*'איכות שפכים'!I35/1000, \"\")","v":""},{"$f":"IF(AND('קולחין שניוני'!C35<>\"\",'איכות שפכים'!C35<>\"\"),100%-('קולחין שניוני'!C35/'איכות שפכים'!C35), \"\")","v":""},{"$f":"IF(AND('קולחין שניוני'!D35<>\"\",'איכות שפכים'!D35<>\"\"),100%-('קולחין שניוני'!D35/'איכות שפכים'!D35), \"\")","v":""},{"$f":"IF(AND('קולחין שניוני'!E35<>\"\",'איכות שפכים'!E35<>\"\"),100%-('קולחין שניוני'!E35/'איכות שפכים'!E35), \"\")","v":""},{"$f":"IF(AND('קולחין שניוני'!F35<>\"\",'איכות שפכים'!F35<>\"\"),100%-('קולחין שניוני'!F35/'איכות שפכים'!F35), \"\")","v":""},{"$f":"IF(AND('קולחין שניוני'!H35<>\"\",'איכות שפכים'!I35<>\"\"),100%-('קולחין שניוני'!H35/'איכות שפכים'!I35), \"\")","v":""},null,{"$f":"IF(Table!CR35<>\"\",Table!CR35,\"\")","v":696},0.50691915513474139,""]
[{"$f":"IF(Table!A36<>\"\",Table!A36,\"\")","v":"2024-11-30"},{"$f":"IF(Table!A36<>\"\",Table!A36,\"\")","v":"2024-11-30"},{"$f":"ספיקות!J36","v":1299},{"$f":"IF(AND(C36<>\"\",'איכות שפכים'!C36<>\"\"),C36*'איכות שפכים'!C36/1000, \"\")","v":""},{"$f":"IF(AND(C36<>\"\",'איכות שפכים'!D36<>\"\"),C36*'איכות שפכים'!D36/1000, \"\")","v":""},{"$f":"IF(AND(C36<>\"\",'איכות שפכים'!E36<>\"\"),C36*'איכות שפכים'!E36/1000, \"\")","v":""},{"$f":"IF(AND(C36<>\"\",'איכות שפכים'!F36<>\"\"),C36*'איכות שפכים'!F36/1000, \"\")","v":""},{"$f":"IF(AND(C36<>\"\",'איכות שפכים'!I36<>\"\"),C36*'איכות שפכים'!I36/1000, \"\")","v":""},{"$f":"IF(AND('קולחין שניוני'!C36<>\"\",'איכות שפכים'!C36<>\"\"),100%-('קולחין שניוני'!C36/'איכות שפכים'!C36), \"\")","v":""},{"$f":"IF(AND('קולחין שניוני'!D36<>\"\",'איכות שפכים'!D36<>\"\"),100%-('קולחין שניוני'!D36/'איכות שפכים'!D36), \"\")","v":""},{"$f":"IF(AND('קולחין שניוני'!E36<>\"\",'איכות שפכים'!E36<>\"\"),100%-('קולחין שניוני'!E36/'איכות שפכים'!E36), \"\")","v":""},{"$f":"IF(AND('קולחין שניוני'!F36<>\"\",'איכות שפכים'!F36<>\"\"),100%-('קולחין שניוני'!F36/'איכות שפכים'!F36), \"\")","v":""},{"$f":"IF(AND('קולחין שניוני'!H36<>\"\",'איכות שפכים'!I36<>\"\"),100%-('קולחין שניוני'!H36/'איכות שפכים'!I36), \"\")","v":""},null,{"$f":"IF(Table!CR36<>\"\",Table!CR36,\"\")","v":1644},{"$f":"IF(AND(O36<>\"\",C36<>\"\"),O36/C36, \"\")","v":1.2655889145496535},{"$f":"IF(AND(O36<>\"\",D36<>\"\"),O36/D36, \"\")","v":""}]
[{"$f":"IF(Table!A37<>\"\",Table!A37,\"\")","v":"2024-12-01"},{"$f":"IF(Table!A37<>\"\",Table!A37,\"\")","v":"2024-12-01"},{"$f":"ספיקות!J37","v":""},{"$f":"IF(AND(C37<>\"\",'איכות שפכים'!C37<>\"\"),C37*'איכות שפכים'!C37/1000, \"\")","v":""},{"$f":"IF(AND(C37<>\"\",'איכות שפכים'!D37<>\"\"),C37*'איכות שפכים'!D37/1000, \"\")","v":""},{"$f":"IF(AND(C37<>\"\",'איכות שפכים'!E37<>\"\"),C37*'איכות שפכים'!E37/1000, \"\")","v":""},{"$f":"IF(AND(C37<>\"\",'איכות שפכים'!F37<>\"\"),C37*'איכות שפכים'!F37/1000, \"\")","v":""},{"$f":"IF(AND(C37<>\"\",'איכות שפכים'!I37<>\"\"),C37*'איכות שפכים'!I37/1000, \"\")","v":""},{"$f":"IF(AND('קולחין שניוני'!C37<>\"\",'איכות שפכים'!C37<>\"\"),100%-('קולחין שניוני'!C37/'איכות שפכים'!C37), \"\")","v":""},{"$f":"IF(AND('קולחין שניוני'!D37<>\"\",'איכות שפכים'!D37<>\"\"),100%-('קולחין שניוני'!D37/'איכות שפכים'!D37), \"\")","v":""},{"$f":"IF(AND('קולחין שניוני'!E37<>\"\",'איכות שפכים'!E37<>\"\"),100%-('קולחין שניוני'!E37/'איכות שפכים'!E37), \"\")","v":""},{"$f":"IF(AND('קולחין שניוני'!F37<>\"\",'איכות שפכים'!F37<>\"\"),100%-('קולחין שניוני'!F37/'איכות שפכים'!F37), \"\")","v":""},{"$f":"IF(AND('קולחין שניוני'!H37<>\"\",'איכות שפכים'!I37<>\"\"),100%-('קולחין שניוני'!H37/'איכות שפכים'!I37), \"\")","v":""},null,{"$f":"IF(Table!CR37<>\"\",Table!CR37,\"\")","v":""},{"$f":"IF(AND(O37<>\"\",C37<>\"\"),O37/C37, \"\")","v":""},{"$f":"IF(AND(O37<>\"\",D37<>\"\"),O37/D37, \"\")","v":""}]
[{"$f":"ספיקות!A38","v":"2024-12-02"},{"$f":"ספיקות!B38","v":"2024-12-02"},null,{"$f":"IF(AND(C38<>\"\",'איכות שפכים'!C38<>\"\"),C38*'איכות שפכים'!C38/1000, \"\")","v":""},{"$f":"IF(AND(C38<>\"\",'איכות שפכים'!D38<>\"\"),C38*'איכות שפכים'!D38/1000, \"\")","v":""},{"$f":"IF(AND(C38<>\"\",'איכות שפכים'!E38<>\"\"),C38*'איכות שפכים'!E38/1000, \"\")","v":""},{"$f":"IF(AND(C38<>\"\",'איכות שפכים'!F38<>\"\"),C38*'איכות שפכים'!F38/1000, \"\")","v":""},{"$f":"IF(AND(C38<>\"\",'איכות שפכים'!I38<>\"\"),C38*'איכות שפכים'!I38/1000, \"\")","v":""},{"$f":"IF(AND('קולחין שניוני'!C38<>\"\",'איכות שפכים'!C38<>\"\"),100%-('קולחין שניוני'!C38/'איכות שפכים'!C38), \"\")","v":""},{"$f":"IF(AND('קולחין שניוני'!D38<>\"\",'איכות שפכים'!D38<>\"\"),100%-('קולחין שניוני'!D38/'איכות שפכים'!D38), \"\")","v":""},{"$f":"IF(AND('קולחין שניוני'!E38<>\"\",'איכות שפכים'!E38<>\"\"),100%-('קולחין שניוני'!E38/'איכות שפכים'!E38), \"\")","v":""},{"$f":"IF(AND('קולחין שניוני'!F38<>\"\",'איכות שפכים'!F38<>\"\"),100%-('קולחין שניוני'!F38/'איכות שפכים'!F38), \"\")","v":""},{"$f":"IF(AND('קולחין שניוני'!H38<>\"\",'איכות שפכים'!I38<>\"\"),100%-('קולחין שניוני'!H38/'איכות שפכים'!I38), \"\")","v":""},null,{"$f":"IF(Table!CP38<>\"\",Table!CP38,\"\")","v":""}]
["סה\"כ לחודש",null,{"$f":"SUM(C7:C38)","v":41436},{"$f":"C39/1000*'איכות שפכים'!C39","v":16408.655999999999},{"$f":"C39/1000*'איכות שפכים'!D39","v":38452.608},{"$f":"C39/1000*'איכות שפכים'!E39","v":15600.654},{"$f":"C39/1000*'איכות שפכים'!F39","v":1693.6965},{"$f":"C39/1000*'איכות שפכים'!I39","v":265.19040000000001},null,null,null,null,null,{"$f":"(N38-N7)*6","v":0},{"$f":"SUM(O7:O37)","v":45180},{"$f":"O39/C39","v":1.0903562119895742}]
["ממוצע ",null,{"$f":"AVERAGE(C7:C38)","v":1381.2},{"$f":"AVERAGE(D7:D38)","v":616.15599999999995},1441.998,584.82150000000001,63.259974999999997,9.3248000000000015,0.98310810810810811,0.9651810584958217,0.98299319727891155,{"$error":"#DIV/0!"},0.1875,null,{"$f":"AVERAGE(O7:O37)","v":1506},{"$f":"AVERAGE(P7:P39)","v":1.0914381694022537},3.3061864314746208]
["מקסימום ",null,{"$f":"MAX(C7:C38)","v":1615},{"$f":"MAX(D7:D38)","v":801.04},1837.87,741.28499999999997,75.743499999999997,9.3248000000000015,0.98310810810810811,0.9651810584958217,0.98299319727891155,0,0.1875,null,{"$f":"MAX(O7:O37)","v":2142},{"$f":"MAX(P7:P39)","v":1.4242021276595744},4.6049824704594782]
["מינימום ",null,{"$f":"MIN(C7:C38)","v":1130},{"$f":"MIN(D7:D38)","v":431.27199999999999},1046.126,428.358,50.776450000000004,9.3248000000000015,0.98310810810810811,0.9651810584958217,0.98299319727891155,0,0.1875,null,{"$f":"MIN(O7:O39)","v":678},{"$f":"MIN(P7:P39)","v":0.49963154016212236},2.0073903924897634]

{"sheet":"גרף אנרגיה עומסים","index":8,"n_rows":0,"n_cols":0,"rows_kept":0,"cut":false,"hidden":false,"merged":[[3,13,3,16],[2,5,2,15],[3,0,3,1],[3,3,3,8],[3,2,4,2],[3,9,3,12],[39,0,39,1],[40,0,40,1],[4,0,5,0],[4,1,5,1],[37,0,37,1],[38,0,38,1]]}

{"sheet":"גרף ספיקות כניסה","index":9,"n_rows":0,"n_cols":0,"rows_kept":0,"cut":false,"hidden":false,"merged":[[39,0,39,1],[40,0,40,1],[4,0,5,0],[4,1,5,1],[37,0,37,1],[38,0,38,1],[3,13,3,16],[2,5,2,15],[3,0,3,1],[3,3,3,8],[3,2,4,2],[3,9,3,12]]}

{"sheet":"Table","index":10,"n_rows":42,"n_cols":98,"rows_kept":42,"cut":false,"hidden":false,"merged":[[4,17,4,18],[4,0,5,0],[4,3,4,4],[1,0,1,2],[4,2,5,2],[4,6,4,7],[3,0,3,2],[4,36,4,38],[2,74,2,78],[3,69,3,70],[3,65,3,68],[2,1,2,2],[3,3,3,8],[2,5,2,6],[2,69,2,73],[2,7,2,8],[2,3,2,4],[2,10,2,11],[2,12,2,13],[3,33,3,44],[4,1,5,1],[4,19,4,25],[4,9,4,16],[4,69,4,70],[4,68,5,68],[4,71,5,71],[4,60,4,64],[3,9,3,30],[4,31,4,32],[3,45,3,64],[4,67,5,67],[4,45,4,48],[4,49,4,55],[4,65,5,65],[4,26,4,30],[4,66,5,66],[4,56,4,58],[4,39,4,43],[4,33,4,35],[4,72,5,72],[3,76,3,78],[4,78,5,78],[4,77,5,77],[3,74,3,75],[4,74,4,75],[4,76,5,76],[3,71,3,73],[4,73,5,73],[4,94,5,94],[4,95,5,95],[4,79,4,80],[2,100,2,101],[3,79,3,81],[3,82,3,91],[3,92,3,94],[3,96,5,96],[3,97,5,97],[4,86,4,91],[4,82,5,82],[4,93,5,93],[4,84,4,85],[4,92,5,92]]}
[]
["מט\"ש נובמבר 2024"]
[null,null,null,"מזג אויר",null,"1-חם מאוד",null,"2-נאה",null,null,"4-גשום",null,"5-גשום מאוד",null,null,null,null,null,null,null,null,null,null,null,null,null,null,null,null,null,null,null,null,null,null,null,null,null,null,null,null,null,null,null,null,null,null,null,null,null,null,null,null,null,null,null,null,null,null,null,null,null,null,null,null,null,null,null,null,1,null,null,null,null,2]
["יחידת פעולה",null,null,"ספיקות",null,null,null,null,null,"מעבדה-שפכים",null,null,null,null,null,null,null,null,null,null,null,null,null,null,null,null,null,null,null,null,null,"קולחין שניוני מילודע",null,"מעבדה-קולחין שניוני",null,null,null,null,null,null,null,null,null,null,null,"מעבדה-קולחין שלישוני",null,null,null,null,null,null,null,null,null,null,null,null,null,null,null,null,null,null,null,"מעבדה+שטח -קולחין שלישוני",null,null,null,"שטח-רציף ראקטור 1",null,"מעבדה-יחידת טיפול 1",null,null,"שטח-רציף ראקטור 2",null,"מעבדה-יחידת טיפול 2",null,null,"מעבדה-מעכל",null,null," בוצה יבשה",null,null,null,null,null,null,null,null,null,"פינויים לאתר",null,null,"צריכת  אנרגיה","נפח SBR","נתוני תפעול"]
["תאריך","יום בשבוע","מזג אויר","שפכים",null,"סינון"," שלישוני-השקיה",null,"מים גדול","פעם בשבוע",null,null,null,null,null,null,null,"פעם בחודש",null,"דיגום כל חודש אי זוגי: ינואר, מרץ, מאי, יולי, ספטמבר, נובמבר",null,null,null,null,null,null,"פעם בשלושה חודשים: ינואר, אפריל, יולי, אוקטובר",null,null,null,null,"פעמיים בשבוע",null,"פעמיים בשבוע",null,null,"פעם בשבוע",null,null,"פעם בחודש",null,null,null,null,"פעם בשלושה חודשים: ינו, אפ, יול, אוק","פעמיים בשבוע",null,null,null,"פעם בשבוע",null,null,null,null,null,null,"פעמיים בחודש",null,null,"פעם בחודש","פעם בשלושה חודשים: ינואר, אפריל, יולי, אוקטובר ",null,null,null,null,"מד עכירות  נייד(חטף)","מד עכירות  קבוע(רציף)","מד כלור כללי  נייד","מד כלור כללי  קבוע","מד חמצן מומס ",null,"מ\"מ כללי","מ\"מ נדיף","שיקוע","מד חמצן מומס ",null,"מ\"מ כללי","מ\"מ נדיף","שיקוע","פעם בשבוע",null,"פעמיים בחודש","ספיקה מצטברת בוצה לייבוש",null,"פעם בשבוע",null,"פעם בחודש",null,null,null,null,null," טון בוצה יבשה "," טון גבבה"," טון גרוסת","צריכה יומית"]
[null,null,null,"ספיקה מצטברת","ספיקה יומית","ספיקה יומית","ספיקה מצטברת","ספיקה יומית","ספיקה מצטברת","BOD","COD","TSS","NH4","OG","CL","PT","TKN","NT","שמן מנרלי","VSS","BOD מומס","COD מומס","DT","סולפיד בתסנין","פנול","ציאניד","TDS","סולפאט","קשיות ","אלקליניות ","ICP","BOD","TSS","BOD","COD","TSS","NH4","NT","PT","DT","Cl","שמן מינרלי","מוליכות","ICP","ציאניד","קולי ","BOD","COD","TSS","NT","TKN","NH4","NO2","NO3","Na","CL","PT","בורון","מוליכות","שמן מינרלי","DT","ציאניד","פלואוריד","SAR","ICP",null,null,null,null,"נייד","קבוע",null,null,null,"נייד","קבוע",null,null,null,"TS%","VS%","SOUR",null,"ספיקת בוצה  יומית","TS%","VS%","קולי","PT","NH4","PH","NT","ICP"]
["2024-11-01","2024-10-04",2,8234433,1526,732,61933,732,479,null,null,null,null,null,null,null,null,null,null,null,null,null,null,null,null,null,null,null,null,null,null,null,null,null,null,null,null,null,null,null,null,null,null,null,null,null,null,null,null,null,null,null,null,null,null,null,null,null,null,null,null,null,null,null,null,null,null,null,null,null,null,null,null,null,null,null,null,null,null,null,null,null,10330,{"$f":"(CE8-CE7)","v":0},null,null,null,null,null,null,null,null,null,null,null,1416,1440,"שטיפת מתקו כניסה כולל ערבוב , נקיון כללי במבנה משרדים ומסביב לחדר גנרטור ,"]
["2024-11-02","2024-10-05",2,8235959,1440,0,62665,0,479,null,null,null,null,null,null,null,null,null,null,null,null,null,null,null,null,null,null,null,null,null,null,null,null,null,null,null,null,null,null,null,null,null,null,null,null,null,null,null,null,null,null,null,null,null,null,null,null,null,null,null,null,null,null,null,null,null,null,null,null,null,null,null,null,null,null,null,null,null,null,null,null,null,10330,{"$f":"(CE9-CE8)","v":0},null,null,null,null,null,null,null,null,null,null,null,786,1440]
["2024-11-03","2024-10-06",2,8237399,1555,1425,62665,1425,479,null,null,null,null,null,null,null,null,null,null,null,null,null,null,null,null,null,null,null,null,null,null,null,null,null,null,null,null,null,null,null,null,null,null,null,null,null,null,null,null,null,null,null,null,null,null,null,null,null,null,null,null,null,null,null,null,1.49,1.47,1.65,1.62,null,null,null,null,null,1.3,1.3,null,null,370,null,null,null,10330,0,null,null,null,null,null,null,null,null,null,null,null,1962,1440,"נקיון כללי בכל המתקן חניה בכניסה חניה קדמית חניה אחורית וכבישים , כיסוח דשא איסוף אשפה ,"]
["2024-11-04","2024-10-07",2,8238954,1457,1360,64090,1360,479,296,718,294,34.85,122,0,6.4,56,0,10,287,109,214,8.1999999999999993,2.1,null,5.0000000000000001E-3,null,null,null,null,null,null,null,5,25,5,2.73,5.9,5.2,0.05,230,10,1.45,null,null,null,5,13,5,5.8,3.95,1.85,null,1.85,139,229,5.17,0.2,1.46,0.3,null,null,null,null,null,1.44,1.45,1.49,1.46,null,null,null,null,null,1,1,null,null,380,null,null,null,10330,41,18,12.6,null,13204,1875,null,12464,null,null,null,null,1986,1440,"הפעלת מתקן בוצה שטיפה בסיום , טיפול שבועי מדחסי סינון ובוצה  נקיוז מים בדיקת שמן וניקוי פילטר ,"]
["2024-11-05","2024-10-08",2,8240411,1480,1517,65450,1517,479,null,null,null,null,null,null,null,null,null,null,null,null,null,null,null,null,null,null,null,null,null,null,null,null,null,null,null,null,null,null,null,null,null,null,null,null,null,null,null,null,null,null,null,null,null,null,null,null,null,null,null,null,null,null,null,null,1.64,1.6,1.47,1.44,null,null,null,null,null,1.2,1.3,null,null,350,null,null,null,10371,47,null,null,null,null,null,null,null,null,null,null,null,2094,1440,"הפעלת מתקן בוצה שטיפה בסיום , שטיפת כבישים ליד מתקן בוצה ומתקן כניסה  , הכנת קוגולונט כמות 200 ליטר ,"]
["2024-11-06","2024-10-09",2,8241891,1470,1321,66967,1321,479,null,null,null,null,null,null,null,null,null,null,null,null,null,null,null,null,null,null,null,null,null,null,null,null,null,null,null,null,null,null,null,null,null,null,null,null,null,5,29,5,null,null,null,null,null,null,null,null,null,null,null,null,null,null,null,null,1.82,1.82,1.38,1.33,null,null,null,null,null,1.4,1.4,null,null,360,null,null,null,10418,45,null,null,null,null,null,null,null,null,null,null,null,1980,1440,"הפעלת מתקן בוצה שטיפה בסיום , הארכת צינור קולחים 4\\3 ב 30 מטר כדי לשטוף בכל מקום במתקן , "]
["2024-11-07","2024-10-10",2,8243361,1504,1599,68288,1599,479,null,null,null,null,null,null,null,null,null,null,null,null,null,null,null,null,null,null,null,null,null,null,null,null,null,null,null,null,null,null,null,null,null,null,null,null,null,null,null,null,null,null,null,null,null,null,null,null,null,null,null,null,null,null,null,null,1.49,1.47,1.65,1.62,null,null,null,null,null,1.3,1.3,null,null,370,null,null,null,10463,48,null,null,null,null,null,null,null,null,null,null,null,2142,1440,"הפעלת מתקן בוצה ושטיפה בסיום , החלפת 2 מטפים מזנק 2,\" וגלגלון לא תקין לקראת ביקורת שנתית ציוד כיבוי אש מטללטין ,"]
["2024-11-08","2024-10-11",2,8244865,1527,700,69887,700,479,null,null,null,null,null,null,null,null,null,null,null,null,null,null,null,null,null,null,null,null,null,null,null,null,null,null,null,null,null,null,null,null,null,null,null,null,null,null,null,null,null,null,null,null,null,null,null,null,null,null,null,null,null,null,null,null,null,null,null,null,null,null,null,null,null,null,null,null,null,null,null,null,null,10511,47,null,null,null,null,null,null,null,null,null,null,null,1494,1440,"הפעלת מתקן בוצה מילוי מכולה 32 מ\"ק שטיפה יסודית בסיום , שטיפת מתקו כניסה ,"]
["2024-11-09","2024-10-12",2,8246392,1516,0,70587,0,480,null,null,null,null,null,null,null,null,null,null,null,null,null,null,null,null,null,null,null,null,null,null,null,null,null,null,null,null,null,null,null,null,null,null,null,null,null,null,null,null,null,null,null,null,null,null,null,null,null,null,null,null,null,null,null,null,null,null,null,null,null,null,null,null,null,null,null,null,null,null,null,null,null,10558,0,null,null,null,null,null,null,null,null,null,null,null,972,1440]
["2024-11-10","2024-10-13",4,8247908,1548,1296,70587,1296,480,null,null,null,null,null,null,null,null,null,null,null,null,null,null,null,null,null,null,null,null,null,null,null,null,null,null,null,null,null,null,null,null,null,null,null,null,null,null,null,null,null,null,null,null,null,null,null,null,null,null,null,null,null,null,null,null,1.57,1.59,1.38,1.37,null,null,null,null,null,0.8,0.9,null,null,340,null,null,null,10558,0,null,null,null,null,null,null,null,null,null,null,null,2016,1440,"ניקוי וכיול מדי חמצן מומס בריאקטורים , בדיקת רצועות ושמן לכל המפוחים והמשאבות במתקן תהליך ,"]
["2024-11-11","2024-10-14",4,8249456,1469,1122,71883,1122,480,null,null,null,null,null,null,null,67,null,null,null,null,null,null,null,null,null,null,null,null,null,null,null,null,null,null,null,null,null,null,null,null,null,null,null,null,null,null,22,5,7,6.08,4.76,0.1,0.82,143,229,null,null,1.47,null,null,null,null,null,null,1.23,1.24,1.45,1.42,null,null,null,null,null,1.1000000000000001,1,null,null,370,null,null,null,10558,0,null,null,null,null,null,null,null,null,null,null,null,1812,1440,"שחרור סתימה בצנרת דיגום כלור ועכירות וכיול מדי עכירות כניסה ויציאה , בכנת קוגולנט כמות 200 ליטר , "]
["2024-11-12","2024-10-15",2,8250925,1395,1409,73005,1409,480,null,null,null,null,null,null,null,null,null,null,null,null,null,null,null,null,null,null,null,null,null,null,null,null,null,null,null,null,null,null,null,null,null,null,null,null,null,null,null,null,null,null,null,null,null,null,null,null,null,null,null,null,null,null,null,null,1.34,1.33,1.52,1.49,null,null,null,null,null,1.1000000000000001,1.1000000000000001,null,null,360,null,null,null,10558,0,null,null,null,null,null,null,null,null,24.8,null,null,1848,1440,"פינוי מכולת בוצה לקומוסטאור בבקעה , טיפול שבועי מדחסי סינון ובוצה  נקיוז מים בדיקת שמן וניקוי פילטר ,"]
["2024-11-13","2024-10-16",2,8252320,1337,1165,74414,1165,481,null,null,null,null,null,null,null,null,null,null,null,null,null,null,null,null,null,null,null,null,null,null,null,null,null,null,null,null,null,null,null,null,null,null,null,null,1,5,35,5,null,null,null,null,null,null,null,null,null,null,null,null,null,null,null,null,1.41,1.39,1.36,1.33,null,null,null,null,null,0.7,0.7,null,null,350,null,null,null,10558,0,null,null,null,null,null,null,null,null,null,null,2.54,1614,1440,"פינוי מכולת גרוסת לדודאים , הפעלה יזומה גנרטור חירום למשך 10 דקות , שטיפת מתקן כניסה ,"]
["2024-11-14","2024-10-17",2,8253657,1278,1304,75579,1304,481,null,null,null,null,null,null,null,null,null,null,null,null,null,null,null,null,null,null,null,null,null,null,null,null,null,null,null,null,null,null,null,null,null,null,null,null,null,null,null,null,null,null,null,null,null,null,null,null,null,null,null,null,null,null,null,null,1.81,1.82,1.27,1.27,null,null,null,null,null,0.7,0.7,null,null,360,null,null,null,10558,0,null,null,null,null,null,null,null,null,null,null,null,1806,1440,"סידור תקלה ברז יציאה מסנן מס 3 לא נפתח סולונוייד תקוע , נקיון כללי בחוות כימיקלים ושטיפת מאצרות ,"]
["2024-11-15","2024-10-18",2,8254935,1388,689,76883,689,481,null,null,null,null,null,null,null,null,null,null,null,null,null,null,null,null,null,null,null,null,null,null,null,null,null,null,null,null,null,null,null,null,null,null,null,null,null,null,null,null,null,null,null,null,null,null,null,null,null,null,null,null,null,null,null,null,null,null,null,null,null,null,null,null,null,null,null,null,null,null,null,null,null,10558,0,null,null,null,null,null,null,null,null,null,null,null,1236,1440,"שטיפת מתקו כניסה כולל ערבוב , נקיון כללי במבנה משרדים ומסביב לחדר גנרטור ,"]
["2024-11-16","2024-10-19",2,8256323,1299,0,77572,0,481,null,null,null,null,null,null,null,null,null,null,null,null,null,null,null,null,null,null,null,null,null,null,null,null,null,null,null,null,null,null,null,null,null,null,null,null,null,null,null,null,null,null,null,null,null,null,null,null,null,null,null,null,null,null,null,null,null,null,null,null,null,null,null,null,null,null,null,null,null,null,null,null,null,10558,0,null,null,null,null,null,null,null,null,null,null,null,714,1440]
["2024-11-17","2024-10-20",2,8257622,1428,1346,77572,1346,481,null,null,null,null,null,null,null,null,null,null,null,null,null,null,null,null,null,null,null,null,null,null,null,null,null,null,null,null,null,null,null,null,null,null,null,null,null,null,null,null,null,null,null,null,null,null,null,null,null,null,null,null,null,null,null,null,1.66,1.68,1.68,1.65,null,null,null,null,null,0.6,0.6,null,null,370,null,null,null,10558,0,null,null,null,null,null,null,null,null,null,null,null,1872,1440,"התקנת וחיבור טיימר לשער חשמלי כדי שיעשה ריסט בלילה ולא יתקע השער כפי שקורה היום , חיבור פנס תאורת חוץ ליד השער מתקן כניסה ,"]
["2024-11-18","2024-10-21",2,8259050,1615,922,78918,922,482,496,1138,459,46.9,197,null,null,83,null,10,null,null,null,null,null,null,null,null,null,null,null,null,null,null,null,null,null,null,null,null,null,null,null,null,null,null,1,5,36,5,8.6,7.07,3.91,0.13,1.4,141,231,7.06,0.2,1.48,null,null,null,null,null,null,1.52,1.55,1.42,1.42,null,null,null,null,null,0.4,0.4,null,null,360,null,null,null,10558,0,null,null,null,null,null,null,null,null,null,null,null,1608,1440,"העברת אביזרי הרמה לברנע לביוקורת חצי שנתית , בדיקת רצועות ושמן לכל המפוחים והמשאבות במתקן תהליך "]
["2024-11-19","2024-10-22",2,8260665,1427,989,79840,989,482,null,null,null,null,null,null,null,null,null,null,null,null,null,null,null,null,null,null,null,null,null,null,null,null,null,null,null,null,null,null,null,null,null,null,null,null,null,null,null,null,null,null,null,null,null,null,null,null,null,null,null,null,null,null,null,null,1.42,1.44,1.41,1.38,null,null,null,null,null,0.7,0.6,null,null,380,null,null,null,10558,0,null,null,null,null,null,null,null,null,null,null,null,1422,1440,"טיפול שבועי מדחסי סינון ובוצה  נקיוז מים בדיקת שמן וניקוי פילטר , שטיפת מתקו כניסה כולל ערבוב ,"]
["2024-11-20","2024-10-23",2,8262092,1313,923,80829,923,482,null,null,null,null,null,null,null,null,null,null,null,null,null,null,null,null,null,null,null,null,null,null,null,null,null,null,null,null,null,null,null,null,null,null,null,null,1,5,27,5,null,null,null,null,null,null,null,null,null,null,null,null,null,null,null,null,1.61,1.63,1.31,1.29,null,null,null,null,null,0.6,0.6,null,null,390,null,null,null,10558,0,null,null,null,null,null,null,null,null,null,null,null,1680,1440,"ניקוי וכיול מדי חמצן מומס בריאקטורים , שחרור סתימה בצנרת דיגום כלור ועכירות וכיול מדי עכירות כניסה ויציאה "]
["2024-11-21","2024-10-24",2,8263405,1202,1134,81752,1134,482,null,null,null,null,null,null,null,null,null,null,null,null,null,null,null,null,null,null,null,null,null,null,null,null,null,null,null,null,null,null,null,null,null,null,null,null,null,null,null,null,null,null,null,null,null,null,null,null,null,null,null,null,null,null,null,null,1.81,1.82,1.27,1.27,null,null,null,null,null,0.5,0.5,null,null,400,null,null,null,10558,0,null,null,null,null,null,null,null,null,null,null,null,1182,1440,"טיפול תוקפתי בממיין חול ריקון הוצאת סמרטוטים ושטיפה יסודית , הפעלה יזומה גנרטור חירום למשך 10 דקות "]
["2024-11-22","2024-10-25",2,8264607,1357,542,82886,542,482,null,null,null,null,null,null,null,null,null,null,null,null,null,null,null,null,null,null,null,null,null,null,null,null,null,null,null,null,null,null,null,null,null,null,null,null,null,null,null,null,null,null,null,null,null,null,null,null,null,null,null,null,null,null,null,null,null,null,null,null,null,null,null,null,null,null,null,null,null,null,null,null,null,10558,0,null,null,null,null,null,null,null,null,null,null,null,678,1440,"שטיפת מתקו כניסה כולל ערבוב , נקיון כללי במבנה משרדים ומסביב לחדר גנרטור ,"]
["2024-11-23","2024-10-26",2,8265964,1290,0,83428,0,482,null,null,null,null,null,null,null,null,null,null,null,null,null,null,null,null,null,null,null,null,null,null,null,null,null,null,null,null,null,null,null,null,null,null,null,null,null,null,null,null,null,null,null,null,null,null,null,null,null,null,null,null,null,null,null,null,null,null,null,null,null,null,null,null,null,null,null,null,null,null,null,null,null,10558,0,null,null,null,null,null,null,null,null,null,null,null,1560,1440]
["2024-11-24","2024-10-27",2,8267254,1194,990,83428,990,482,null,null,null,null,null,null,null,null,null,null,null,null,null,null,null,null,null,null,null,null,null,null,null,null,null,null,null,null,null,null,null,null,null,null,null,null,null,null,null,null,null,null,null,null,null,null,null,null,null,null,null,null,null,null,null,null,1.91,1.93,1.81,1.78,null,null,null,null,null,1,0.9,null,null,390,null,null,null,10558,0,null,null,null,null,null,null,null,null,null,null,null,1272,1440,"החלפת ארון כיבוי אש 2 אידרנטים 2\" וברז 1\" שלא נמצאו תקינים בביקורת שנתית ציוד כיבוי אש מטלטלין , "]
["2024-11-25","2024-10-28",2,8268448,1130,674,84418,674,482,null,null,null,null,null,null,null,74,null,null,null,null,null,null,null,null,null,null,null,null,null,null,null,null,null,null,null,null,null,null,null,null,null,null,null,null,1,5,22,5,10,8.1,6.19,0.13,1.77,135,231,null,null,1.48,null,null,null,null,null,null,1.54,1.54,1.84,1.84,null,null,null,null,null,0.9,0.9,null,null,400,null,null,null,10558,0,null,null,null,null,null,null,null,null,null,null,null,1578,1440,"בדיקת רצועות ושמן לכל המפוחים והמשאבות במתקן תהליך, כיסוח דשא איסוף אשפה , שטיפת מתקן כניסה ,"]
["2024-11-26","2024-10-29",2,8269578,1266,1096,85092,1096,483,null,null,null,null,null,null,null,null,null,null,null,null,null,null,null,null,null,null,null,null,null,null,null,null,null,null,null,null,null,null,null,null,null,null,null,null,null,null,null,null,null,null,null,null,null,null,null,null,null,null,null,null,null,null,null,null,1.82,1.84,1.52,1.51,null,null,null,null,null,0.8,0.8,null,null,390,null,null,null,10558,0,null,null,null,null,null,null,null,null,null,null,null,1440,1440,"ניקוי וכיול מדי חמצן מומס בריאקטורים , שחרור סתימה בצנרת דיגום כלור ועכירות וכיול מדי עכירות כניסה ויציאה "]
["2024-11-27","2024-10-30",2,8270844,1164,938,86188,938,483,null,null,null,null,null,null,null,null,null,null,null,null,null,null,null,null,null,null,null,null,null,null,null,null,null,null,null,null,null,null,null,null,null,null,null,null,1,5,28,5,null,null,null,null,null,null,null,null,null,null,null,null,null,null,null,null,1.72,1.74,1.46,1.46,null,null,null,null,null,0.7,0.6,null,null,410,null,null,null,10558,0,null,null,null,null,null,null,null,null,null,null,null,1488,1440,"טיפול שבועי מדחסי סינון ובוצה  נקיוז מים בדיקת שמן וניקוי פילטר , שטיפת מתקו כניסה כולל ערבוב ,"]
["2024-11-28","2024-10-31",2,8272008,1189,1030,87126,1030,483,null,null,null,null,null,null,null,null,null,null,null,null,null,null,null,null,null,null,null,null,null,null,null,null,null,null,null,null,null,null,null,null,null,null,null,null,null,null,null,null,null,null,null,null,null,null,null,null,null,null,null,null,null,null,null,null,1.68,1.71,1.39,1.38,null,null,null,null,null,1,0.9,null,null,390,null,null,null,10558,0,null,null,null,null,null,null,null,null,null,null,null,1182,1440,"סידור תקלה צינור הזרקת כלור השקיה השתחרר כלור נשפך לתוך המאצרה שאיבת הכלור שנשפך לתוך המיכל ושטיפת מאצרה ,"]
["2024-11-29","2024-11-01",2,8273197,1373,652,88156,652,483,null,null,null,null,null,null,null,null,null,null,null,null,null,null,null,null,null,null,null,null,null,null,null,null,null,null,null,null,null,null,null,null,null,null,null,null,null,null,null,null,null,null,null,null,null,null,null,null,null,null,null,null,null,null,null,null,null,null,null,null,null,null,null,null,null,null,null,null,null,null,null,null,null,10558,0,null,null,null,null,null,null,null,null,null,null,null,696,1440,5]
["2024-11-30","יום ש",2,8274570,1299,0,88808,0,484,null,null,null,null,null,null,null,null,null,null,null,null,null,null,null,null,null,null,null,null,null,null,null,null,null,null,null,null,null,null,null,null,null,null,null,null,null,null,null,null,null,null,null,null,null,null,null,null,null,null,null,null,null,null,null,null,null,null,null,null,null,null,null,null,null,null,null,null,null,null,null,null,null,10558,0,null,null,null,null,null,null,null,null,null,null,null,1644,1440]
["2024-12-01","יום א",null,8275869,null,null,88808,null,484,null,null,null,null,null,null,null,null,null,null,null,null,null,null,null,null,null,null,null,null,null,null,null,null,null,null,null,null,null,null,null,null,null,null,null,null,null,null,null,null,null,null,null,null,null,null,null,null,null,null,null,null,null,null,null,null,null,null,null,null,null,null,null,null,null,null,null,null,null,null,null,null,null,10558]
["2024-12-02"]
["סה\"כ לחודש",null,null,{"$f":"IF(D38<>\"\",D38-D7,IF(D37<>\"\",D37-D7,IF(D36<>\"\",D36-D7,D35-D7)))","v":41436},{"$f":"SUM(E7:E37)","v":41436},{"$f":"SUM(F7:F38)","v":26875},{"$f":"IF(G38<>\"\",G38-G7,IF(G37<>\"\",G37-G7,IF(G36<>\"\",G36-G7,G35-G7)))","v":26875},{"$f":"SUM(H7:H37)","v":26875},{"$f":"(I37-I7)","v":5},null,null,null,null,null,null,null,null,null,null,null,null,null,null,null,null,null,null,null,null,null,null,null,null,null,null,null,null,null,null,null,null,null,null,null,null,null,null,null,null,null,null,null,null,null,null,null,null,null,null,null,null,null,null,null,null,null,null,null,null,null,null,null,null,null,null,null,null,null,null,null,null,null,null,{"$f":"SUM(CF7:CF38)","v":228},null,null,null,null,null,null,null,null,{"$f":"SUM(CO7:CO38)","v":24.8},{"$f":"SUM(CP7:CP38)","v":0},{"$f":"SUM(CQ7:CQ38)","v":2.54},{"$f":"SUM(CR7:CR38)","v":45180}]
["ממוצע ",null,null,null,{"$f":"AVERAGE(E7:E37)","v":1381.2},{"$f":"AVERAGE(F7:F35)","v":926.72413793103453},null,{"$f":"AVERAGE(H7:H37)","v":895.83333333333337},null,{"$f":"AVERAGE(J7:J37)","v":396},928,376.5,40.875,159.5,0,6.4,{"$f":"AVERAGE(Q7:Q37)","v":70},0,10,null,109,214,8.1999999999999993,2.1,0,5.0000000000000001E-3,0,0,0,0,null,{"$f":"AVERAGE(AF7:AF37)","v":{"$error":"#DIV/0!"}},{"$f":"AVERAGE(AG7:AG37)","v":{"$error":"#DIV/0!"}},5,25,5,2.73,5.9,5.2,0.05,230,10,1.45,null,0,1,5,26.5,5,7.85,6.3000000000000007,4.1775000000000002,0.12,1.46,139.5,230,6.1150000000000002,0.2,1.4725000000000001,0.3,0,0,0,0,null,{"$f":"AVERAGE(BN7:BN39)","v":1.5964999999999996},{"$f":"AVERAGE(BO7:BO39)","v":1.6030000000000002},{"$f":"AVERAGE(BP7:BP39)","v":1.4864999999999999},{"$f":"AVERAGE(BQ7:BQ39)","v":1.4665000000000001},null,null,null,null,null,1.8,1.8,{"$f":"AVERAGE(BY7:BY37)","v":{"$error":"#DIV/0!"}},{"$error":"#DIV/0!"},0,{"$error":"#DIV/0!"},{"$error":"#DIV/0!"},0,null,null,18,12.6,{"$error":"#DIV/0!"},13204,1875,0,12464,null,null,null,null,1407]
["מקסימום ",null,null,null,{"$f":"MAX(E7:E37)","v":1615},{"$f":"MAX(F7:F35)","v":1599},null,{"$f":"MAX(H7:H37)","v":1599},null,{"$f":"MAX(J7:J37)","v":496},1138,459,46.9,197,0,6.4,{"$f":"MAX(Q7:Q37)","v":83},0,10,null,109,214,8.1999999999999993,2.1,0,5.0000000000000001E-3,0,0,0,0,null,{"$f":"MAX(AF7:AF37)","v":0},{"$f":"MAX(AG7:AG37)","v":0},5,25,5,2.73,5.9,5.2,0.05,230,10,1.45,null,0,1,5,36,5,10,8.1,6.19,0.13,1.85,143,231,7.06,0.2,1.48,0.3,0,0,0,0,null,{"$f":"MAX(BN7:BN38)","v":1.91},{"$f":"MAX(BO7:BO37)","v":1.93},1.84,1.84,0,0,0,0,0,1.4,1.4,0,0,410,0,0,0,null,null,18,12.6,0,13204,1875,0,12464,null,null,0,2.54,2064]
["מינימום ",null,null,null,{"$f":"MIN(E7:E37)","v":1130},{"$f":"MIN(F7:F35)","v":0},null,{"$f":"MIN(H7:H37)","v":0},null,{"$f":"MIN(J7:J37)","v":296},718,294,34.85,122,0,6.4,{"$f":"MIN(Q7:Q37)","v":56},0,10,287,109,214,8.1999999999999993,2.1,0,5.0000000000000001E-3,0,0,0,0,0,{"$f":"MIN(AF7:AF37)","v":0},{"$f":"MIN(AG7:AG37)","v":0},5,25,5,2.73,5.9,5.2,0.05,230,10,1.45,{"$f":"MIN(AR7:AR37)","v":0},0,1,5,13,5,5.8,3.95,1.85,0.1,0.82,135,229,5.17,0.2,1.46,0.3,0,0,0,0,0,{"$f":"MIN(BN7:BN38)","v":1.23},1.24,1.27,1.27,0,0,0,0,0,0.4,{"$f":"MIN(BX7:BX37)","v":0.4},0,0,340,0,0,0,null,null,18,12.6,0,13204,1875,0,12464,0,null,0,2.54,{"$f":"MIN(CR7:CR41)","v":678}]